Workbook
Name CIT: [1]RW_n!$B$54
Name Company: [2]Parameters!$F$7
Name Completo: #REF!,#REF!,#REF!,#REF!
Name Completo: #REF!,#REF!,#REF!,#REF!
Name Completo: #REF!,#REF!,#REF!,#REF!
Name Completo: #REF!,#REF!,#REF!,#REF!
Name Completo: #REF!,#REF!,#REF!,#REF!
Name convCA: #REF!
Name convCA: #REF!
Name convCA: #REF!
Name convCA: #REF!
Name convCA: #REF!
Name CRITICAL2CAPEX: #REF!
Name CRITICAL2CAPEX: #REF!
Name CRITICAL2CAPEX: #REF!
Name CRITICAL2DEMAND: #REF!
Name CRITICAL2DEMAND: #REF!
Name CRITICAL2DEMAND: #REF!
Name CRITICAL2DIESEL: #REF!
Name CRITICAL2DIESEL: #REF!
Name CRITICAL2DIESEL: #REF!
Name CRITICAL2ENERGY: #REF!
Name CRITICAL2ENERGY: #REF!
Name CRITICAL2ENERGY: #REF!
Name CRITICAL2OPEX: #REF!
Name CRITICAL2OPEX: #REF!
Name CRITICAL2OPEX: #REF!
Name CRITICAL2PRICE: #REF!
Name CRITICAL2PRICE: #REF!
Name CRITICAL2PRICE: #REF!
Name CRITICAL2TIME: #REF!
Name CRITICAL2TIME: #REF!
Name CRITICAL2TIME: #REF!
Name CRITICAL2WAGES: #REF!
Name CRITICAL2WAGES: #REF!
Name CRITICAL2WAGES: #REF!
Name CRITICAL3CAPEX: #REF!
Name CRITICAL3CAPEX: #REF!
Name CRITICAL3CAPEX: #REF!
Name CRITICAL3DEMAND: #REF!
Name CRITICAL3DEMAND: #REF!
Name CRITICAL3DEMAND: #REF!
Name CRITICAL3DIESEL: #REF!
Name CRITICAL3DIESEL: #REF!
Name CRITICAL3DIESEL: #REF!
Name CRITICAL3ENERGY: #REF!
Name CRITICAL3ENERGY: #REF!
Name CRITICAL3ENERGY: #REF!
Name CRITICAL3OPEX: #REF!
Name CRITICAL3OPEX: #REF!
Name CRITICAL3OPEX: #REF!
Name CRITICAL3PRICE: #REF!
Name CRITICAL3PRICE: #REF!
Name CRITICAL3PRICE: #REF!
Name CRITICAL3TIME: #REF!
Name CRITICAL3TIME: #REF!
Name CRITICAL3TIME: #REF!
Name CRITICALCAPEX: #REF!
Name CRITICALCAPEX: #REF!
Name CRITICALCAPEX: #REF!

Sheet Słowniczek
B3: Skrót używany w arkuszach | C3: Nazwa dokumentu, źródła, instytucji
B5: Wytyczne MRiF | C5: Wytyczne Ministra Rozwoju i Finansów w zakresie zagadnień związanych z przygotowaniem projektów inwestycyjnych, w tym projektów generujących dochód i projektów hybrydowych na lata 2014-2020; MR/H 2014-2020/7(2)/02/2017; wersja z 17 lutego 2017 r.
B6: Vademecum CUPT | C6: Analiza kosztów i korzyści projektów transportowych współfinansowanych ze środków Unii Europejskiej, Vademecum Beneficjenta, CUPT , Warszawa 2016 r.
B7: Wskaźniki CUPT | C7: Aktualizacja tablic kosztów jednostkowych do wykorzystania w analizach kosztów i korzyści; Wersja - aktualizacja 28.08.2020. CUPT, https://www.cupt.gov.pl/wdrazanie-projektow/analiza-kosztow-i-korzysci/narzedzia/tablice-kosztow-jednostkowych-do-wykorzystania-w-analizach-kosztow-i-korzysci Pobranie z dnia 25-10-2021
B8: Niebieska Księga | C8: Niebieska Księga. Nowa edycja. Sektor Transportu Publicznego w miastach, aglomeracjach, regionach, Inicjatywa JASPERS, sierpień 2015 r.
B9: Niebieska Księga Drogi | C9: Niebieska Księga. Nowa edycja. Infrastruktura Drogowa, Inicjatywa JASPERS, sierpień 2015 r.
B10: uCIT | C10: Ustawa o podatku dochodowym od osób prawnych z dnia 15 lutego 1992 r., jednolity tekst ustawy Dz.U. z 2014 r. poz. 851, z późniejszymi zmianami.
B11: Kalkulator emisji CUPT | C11: https://www.cupt.gov.pl/index.php?option=com_content&view=article&id=692&Itemid=411 Pobranie z dnia 25-10-2021
B12: ZKM | C12: ZKM w Elblągu sp. z o.o.

Sheet Założenia
B2: ELBLĄG AKK
A4: Tabela 1. | B4: OKRES ANALIZY | C4: JEDNOSTKA | D4: ŹRÓDŁO / UWAGI
B6: Rok bazowy | C6: [-] | E6: 2021
B7: Rok rozpoczęcia analizy | C7: [-] | E7: 2021
B8: Rok zakończenia analizy | C8: [-] | E8: =E7+E9 -> 2036
B9: Okres analizy | C9: lata | E9: 15
B10: Faza realizacyjna | C10: lata | E10: nie dotyczy
A12: Tabela 2. | B12: ZAŁOŻENIA MAKROEKONOMICZNE, WSKAŹNIKI LOKALNE | E12: 1
B14: Lata: | E14: =E7 -> 2021 | F14: =E14+1 -> 2022 | G14: =F14+1 -> 2023 | H14: =G14+1 -> 2024 | I14: =H14+1 -> 2025 | J14: =I14+1 -> 2026 | K14: =J14+1 -> 2027 | L14: =K14+1 -> 2028 | M14: =L14+1 -> 2029 | ... U14: =T14+1 -> 2037
B15: Dynamika PKB per capita | C15: % | D15: Wskaźniki CUPT | E15: 0.050859638 | F15: 0.04800697 | G15: 0.039155931 | H15: 0.037332581 | I15: 0.037518786 | J15: 0.037706456 | K15: 0.036892516 | L15: 0.036076958 | M15: 0.034253571 | N15: 0.03242385 | O15: 0.031618746 | P15: 0.030801303 | Q15: 0.029969981 | R15: 0.029122738 | S15: 0.029259718 | T15: 0.028391519 | U15: 0.027506817
B16: Realna stopa dyskontowa | C16: % | D16: Wytyczne MRiF | E16: 0.04 | F16: =IF(F$14="","",E16) -> 0.04 | G16: =IF(G$14="","",F16) -> 0.04 | H16: =IF(H$14="","",G16) -> 0.04 | I16: =IF(I$14="","",H16) -> 0.04 | J16: =IF(J$14="","",I16) -> 0.04 | K16: =IF(K$14="","",J16) -> 0.04 | L16: =IF(L$14="","",K16) -> 0.04 | M16: =IF(M$14="","",L16) -> 0.04 | ... U16: =IF(U$14="","",T16) -> 0.04
B17: Społeczna stopa dyskontowa | C17: % | D17: Wytyczne MRiF | E17: 0.045 | F17: =E17 -> 0.045 | G17: =F17 -> 0.045 | H17: =G17 -> 0.045 | I17: =H17 -> 0.045 | J17: =I17 -> 0.045 | K17: =J17 -> 0.045 | L17: =K17 -> 0.045 | M17: =L17 -> 0.045 | ... U17: =T17 -> 0.045
A20: Tabela 3. | B20: WSKAŹNIKI I ZAŁOŻENIA METODYCZNE DO ANALIZY AKK | F20: indeksacja o 0,8 prognozy dynamiki PKB per capita
B23: Koszty hałasu w transporcie drogowym dla autobusu w terenie miejskim | E23: =E14 -> 2021 | F23: =F14 -> 2022 | G23: =G14 -> 2023 | H23: =H14 -> 2024 | I23: =I14 -> 2025 | J23: =J14 -> 2026 | K23: =K14 -> 2027 | L23: =L14 -> 2028 | ... U23: =U14 -> 2037
B24: dzień | C24: PLN/wzkm | D24: Wskaźniki CUPT | E24: 0.28089657 | F24: 0.29232561 | G24: 0.30355254 | H24: 0.31306124 | I24: 0.32241115 | J24: 0.33208833 | K24: 0.34210583 | L24: 0.35220275 | M24: 0.36236787 | N24: 0.37229779 | O24: 0.38195485 | P24: 0.39161639 | Q24: 0.40126623 | R24: 0.41088698 | S24: 0.42045991 | T24: 0.43030194 | U24: 0.44007548
B25: noc | C25: PLN/wzkm | D25: Wskaźniki CUPT | E25: 0.51167843 | F25: 0.53249745 | G25: 0.55294832 | H25: 0.57026929 | I25: 0.58730099 | J25: 0.60492884 | K25: 0.62317662 | L25: 0.64156906 | M25: 0.66008575 | N25: 0.67817399 | O25: 0.6957652 | P25: 0.71336458 | Q25: 0.73094262 | R25: 0.74846769 | S25: 0.76590563 | T25: 0.78383378 | U25: 0.80163717
B26: średnio | C26: PLN/wzkm | D26: Wskaźniki CUPT | E26: 0.35782385 | F26: 0.37238289 | G26: 0.38668447 | H26: 0.39879726 | I26: 0.41070776 | J26: 0.42303517 | K26: 0.4357961 | L26: 0.44865819 | M26: 0.46160716 | N26: 0.47425652 | O26: 0.4865583 | P26: 0.49886579 | Q26: 0.51115836 | R26: 0.52341389 | S26: 0.53560848 | T26: 0.54814589 | U26: 0.56059604
B28: Redukcja hałasu - autobus elektryczny vs. autobus ON | C28: % | D28: Założenie własne na podstawie informacji od producentów | E28: 0.8
B29: Redukcja hałasu - nowy autobus ON EURO VI vs. autobus ON używany | C29: % | D29: Habrat B., Jasiński T. Badanie zmian emisji hałasu drogowego w sieci drogowej. Praca dyplomowa magisterska (promotor: J. Bohatkiewicz). Politechnika Krakowska, 2011 | E29: 0.05
B30: Redukcja hałasu - nowy autobus ON Hybrydowy EURO VI vs. autobus ON używany | C30: % | D30: Założenie własne na podstawie informacji od producentów | E30: 0.1
B33: Wskaźnik korekty nakładów inwestycyjnych - infrastruktura | C33: [-] | D33: Vademecum CUPT, str. 27 | E33: 0.83
B34: Wskaźnik korekty nakładów inwestycyjnych - tabor | C34: [-] | D34: Vademecum CUPT, str. 28 | E34: 0.87
B35: Wskaźnik korekty kosztów operacyjnych | C35: [-] | D35: Vademecum CUPT, str. 27 | E35: 0.78
B37: Normy emisji autobusów ON: | E37: EURO I | F37: EURO II | G37: EURO III | H37: EURO IV | I37: EURO V | J37: EURO VI | K37: =K14 -> 2027 | L37: =L14 -> 2028 | M37: =M14 -> 2029 | N37: =N14 -> 2030 | O37: =O14 -> 2031 | P37: =P14 -> 2032 | Q37: =Q14 -> 2033 | R37: =R14 -> 2034 | S37: =S14 -> 2035
B38: NMHC/NMVOC | C38: g/kWh | D38: Kalkulator emisji CUPT | E38: 1.1 | F38: 1.1 | G38: 0.66 | H38: 0.46 | I38: 0.46 | J38: 0.13
B39: NOx | C39: g/kWh | D39: Kalkulator emisji CUPT | E39: 8 | F39: 7 | G39: 5 | H39: 3.5 | I39: 2 | J39: 0.4
B40: PM | C40: g/kWh | D40: Kalkulator emisji CUPT | E40: 0.36 | F40: 0.15 | G40: 0.1 | H40: 0.02 | I40: 0.02 | J40: 0.01
B43: ON
B44: Wartość energetyczna ON | D44: Kalkulator emisji CUPT | F44: 36 | G44: MJ/l
B45: 1 kWh | D45: Kalkulator emisji CUPT | E45: = | F45: 3.6 | G45: MJ
B46: Wartość energetyczna ON | D46: Kalkulator emisji CUPT | F46: =F44/F45 -> 10 | G46: kWh/l
B50: SPALANIE - TABOR | E50: średniorocznie
E51: poniżej 10 m | G51: od 10 m | I51: 18 m
B52: rodzaj autobusu | E52: ON | F52: CNG | G52: ON | H52: CNG | I52: ON | J52: CNG
B53: EURO I | C53: l/100km | D53: Zestawienie własnego taboru z podziałem na rodzaj | E53: =IFERROR(AVERAGEIFS($H$128:$H$170,$G$128:$G$170,1,$E$128:$E$170,"ON",$C$128:$C$170,"<10"),0) -> 0 | F53: =IFERROR(AVERAGEIFS($H$128:$H$170,$G$128:$G$170,1,$E$128:$E$170,"CNG",$C$128:$C$170,"<10"),0) -> 0 | G53: =IFERROR(AVERAGEIFS($H$128:$H$170,$G$128:$G$170,1,$E$128:$E$170,"ON",$C$128:$C$170,">=10",$C$128:$C$170,"<15"),0) -> 0 | H53: =IFERROR(AVERAGEIFS($H$128:$H$170,$G$128:$G$170,1,$E$128:$E$170,"CNG",$C$128:$C$170,">=10",$C$128:$C$170,"<15"),0) -> 0 | I53: =IFERROR(AVERAGEIFS($H$128:$H$170,$G$128:$G$170,1,$E$128:$E$170,"ON",$C$128:$C$170,">=15"),0) -> 0 | J53: =IFERROR(AVERAGEIFS($H$128:$H$170,$G$128:$G$170,1,$E$128:$E$170,"CNG",$C$128:$C$170,">=15"),0) -> 0
B54: EURO II | C54: l/100km | D54: Zestawienie własnego taboru z podziałem na rodzaj | E54: =IFERROR(AVERAGEIFS($H$128:$H$170,$G$128:$G$170,2,$E$128:$E$170,"ON",$C$128:$C$170,"<10"),0) -> 0 | F54: =IFERROR(AVERAGEIFS($H$128:$H$170,$G$128:$G$170,2,$E$128:$E$170,"CNG",$C$128:$C$170,"<10"),0) -> 0 | G54: =IFERROR(AVERAGEIFS($H$128:$H$170,$G$128:$G$170,2,$E$128:$E$170,"ON",$C$128:$C$170,">=10",$C$128:$C$170,"<15"),0) -> 0 | H54: =IFERROR(AVERAGEIFS($H$128:$H$170,$G$128:$G$170,2,$E$128:$E$170,"CNG",$C$128:$C$170,">=10",$C$128:$C$170,"<15"),0) -> 0 | I54: =IFERROR(AVERAGEIFS($H$128:$H$170,$G$128:$G$170,2,$E$128:$E$170,"ON",$C$128:$C$170,">=15"),0) -> 0 | J54: =IFERROR(AVERAGEIFS($H$128:$H$170,$G$128:$G$170,2,$E$128:$E$170,"CNG",$C$128:$C$170,">=15"),0) -> 0
B55: EURO III | C55: l/100km | D55: Zestawienie własnego taboru z podziałem na rodzaj | E55: =IFERROR(AVERAGEIFS($H$128:$H$170,$G$128:$G$170,3,$E$128:$E$170,"ON",$C$128:$C$170,"<10"),0) -> 0 | F55: =IFERROR(AVERAGEIFS($H$128:$H$170,$G$128:$G$170,3,$E$128:$E$170,"CNG",$C$128:$C$170,"<10"),0) -> 0 | G55: =IFERROR(AVERAGEIFS($H$128:$H$170,$G$128:$G$170,3,$E$128:$E$170,"ON",$C$128:$C$170,">=10",$C$128:$C$170,"<15"),0) -> 0 | H55: =IFERROR(AVERAGEIFS($H$128:$H$170,$G$128:$G$170,3,$E$128:$E$170,"CNG",$C$128:$C$170,">=10",$C$128:$C$170,"<15"),0) -> 0 | I55: =IFERROR(AVERAGEIFS($H$128:$H$170,$G$128:$G$170,3,$E$128:$E$170,"ON",$C$128:$C$170,">=15"),0) -> 0 | J55: =IFERROR(AVERAGEIFS($H$128:$H$170,$G$128:$G$170,3,$E$128:$E$170,"CNG",$C$128:$C$170,">=15"),0) -> 0
B56: EURO IV | C56: l/100km | D56: Zestawienie własnego taboru z podziałem na rodzaj | E56: =IFERROR(AVERAGEIFS($H$128:$H$170,$G$128:$G$170,4,$E$128:$E$170,"ON",$C$128:$C$170,"<10"),0) -> 0 | F56: =IFERROR(AVERAGEIFS($H$128:$H$170,$G$128:$G$170,4,$E$128:$E$170,"CNG",$C$128:$C$170,"<10"),0) -> 0 | G56: =IFERROR(AVERAGEIFS($H$128:$H$170,$G$128:$G$170,4,$E$128:$E$170,"ON",$C$128:$C$170,">=10",$C$128:$C$170,"<15"),0) -> 0 | H56: =IFERROR(AVERAGEIFS($H$128:$H$170,$G$128:$G$170,4,$E$128:$E$170,"CNG",$C$128:$C$170,">=10",$C$128:$C$170,"<15"),0) -> 0 | I56: =IFERROR(AVERAGEIFS($H$128:$H$170,$G$128:$G$170,4,$E$128:$E$170,"ON",$C$128:$C$170,">=15"),0) -> 0 | J56: =IFERROR(AVERAGEIFS($H$128:$H$170,$G$128:$G$170,4,$E$128:$E$170,"CNG",$C$128:$C$170,">=15"),0) -> 0
B57: EURO V | C57: l/100km | D57: Zestawienie własnego taboru z podziałem na rodzaj | E57: =IFERROR(AVERAGEIFS($H$128:$H$170,$G$128:$G$170,5,$E$128:$E$170,"ON",$C$128:$C$170,"<10"),0) -> 0 | F57: =IFERROR(AVERAGEIFS($H$128:$H$170,$G$128:$G$170,5,$E$128:$E$170,"CNG",$C$128:$C$170,"<10"),0) -> 0 | G57: =IFERROR(AVERAGEIFS($H$128:$H$170,$G$128:$G$170,5,$E$128:$E$170,"ON",$C$128:$C$170,">=10",$C$128:$C$170,"<15"),0) -> 0 | H57: =IFERROR(AVERAGEIFS($H$128:$H$170,$G$128:$G$170,5,$E$128:$E$170,"CNG",$C$128:$C$170,">=10",$C$128:$C$170,"<15"),0) -> 0 | I57: =IFERROR(AVERAGEIFS($H$128:$H$170,$G$128:$G$170,5,$E$128:$E$170,"ON",$C$128:$C$170,">=15"),0) -> 0 | J57: =IFERROR(AVERAGEIFS($H$128:$H$170,$G$128:$G$170,5,$E$128:$E$170,"CNG",$C$128:$C$170,">=15"),0) -> 0
B58: EURO VI | C58: l/100km | D58: Zestawienie własnego taboru z podziałem na rodzaj | E58: =IFERROR(AVERAGEIFS($H$128:$H$170,$G$128:$G$170,6,$E$128:$E$170,"ON",$C$128:$C$170,"<10"),0) -> 18 | F58: =IFERROR(AVERAGEIFS($H$128:$H$170,$G$128:$G$170,6,$E$128:$E$170,"CNG",$C$128:$C$170,"<10"),0) -> 0 | G58: =IFERROR(AVERAGEIFS($H$128:$H$170,$G$128:$G$170,6,$E$128:$E$170,"ON",$C$128:$C$170,">=10",$C$128:$C$170,"<15"),0) -> 23 | H58: =IFERROR(AVERAGEIFS($H$128:$H$170,$G$128:$G$170,6,$E$128:$E$170,"CNG",$C$128:$C$170,">=10",$C$128:$C$170,"<15"),0) -> 0 | I58: =I57 -> 0 | J58: =IFERROR(AVERAGEIFS($H$128:$H$170,$G$128:$G$170,6,$E$128:$E$170,"CNG",$C$128:$C$170,">=15"),0) -> 0
B59: EURO VI HYBRYDA | C59: l/100km | D59: Dane producenta | G59: =IFERROR(AVERAGEIFS($H$128:$H$170,$G$128:$G$170,6,$E$128:$E$170,"ON Hybryda",$C$128:$C$170,">=10",$C$128:$C$170,"<15"),0) -> 0 | I59: =IFERROR(AVERAGEIFS($H$128:$H$170,$G$128:$G$170,6,$E$128:$E$170,"ON Hybryda",$C$128:$C$170,">=15"),0) -> 0 | J59: =IFERROR(AVERAGEIFS($H$128:$H$170,$G$128:$G$170,6,$E$128:$E$170,"CNG",$C$128:$C$170,">=15"),0) -> 0
B61: EMISJA - OBECNY TABOR | E61: autobusy ON | H61: autobusy ON E6 hybryda
B62: rodzaj autobusu - poniżej 10 m | E62: NMHC/NMVOC | F62: Nox | G62: PM | H62: NMHC/NMVOC | I62: Nox | J62: PM
B63: EURO I | C63: g/km | D63: Zestawienie własnego taboru z podziałem na rodzaj | E63: =$F$46*E53/100*E38 -> 0 | F63: =$F$46*E53/100*E39 -> 0 | G63: =$F$46*E53/100*E40 -> 0
B64: EURO II | C64: g/km | D64: Zestawienie własnego taboru z podziałem na rodzaj | E64: =$F$46*E54/100*F38 -> 0 | F64: =$F$46*E54/100*F39 -> 0 | G64: =$F$46*E54/100*F40 -> 0
B65: EURO III | C65: g/km | D65: Zestawienie własnego taboru z podziałem na rodzaj | E65: =$F$46*E55/100*G38 -> 0 | F65: =$F$46*E55/100*G39 -> 0 | G65: =$F$46*E55/100*G40 -> 0
B66: EURO IV | C66: g/km | D66: Zestawienie własnego taboru z podziałem na rodzaj | E66: =$F$46*E56/100*H38 -> 0 | F66: =$F$46*E56/100*H39 -> 0 | G66: =$F$46*E56/100*H40 -> 0
B67: EURO V | C67: g/km | D67: Zestawienie własnego taboru z podziałem na rodzaj | E67: =$F$46*E57/100*I38 -> 0 | F67: =$F$46*E57/100*I39 -> 0 | G67: =$F$46*E57/100*I40 -> 0
B68: EURO VI | C68: g/km | D68: Zestawienie własnego taboru z podziałem na rodzaj | E68: =$F$46*E58/100*J38 -> 0.234 | F68: =$F$46*E58/100*J39 -> 0.72 | G68: =$F$46*E58/100*J40 -> 0.018 | H68: =$F$46*$E$59/100*J38 -> 0 | I68: =$F$46*$E$59/100*J39 -> 0 | J68: =$F$46*$E$59/100*J40 -> 0
E70: NMHC/NMVOC | F70: Nox | G70: PM | H70: NMHC/NMVOC | I70: Nox | J70: PM
B71: rodzaj autobusu - od 10 m
B72: EURO I | C72: g/km | D72: Zestawienie własnego taboru z podziałem na rodzaj | E72: =$F$46*G53/100*E38 -> 0 | F72: =$F$46*G53/100*E39 -> 0 | G72: =$F$46*G53/100*E40 -> 0
B73: EURO II | C73: g/km | D73: Zestawienie własnego taboru z podziałem na rodzaj | E73: =$F$46*G54/100*F38 -> 0 | F73: =$F$46*G54/100*F39 -> 0 | G73: =$F$46*G54/100*F40 -> 0
B74: EURO III | C74: g/km | D74: Zestawienie własnego taboru z podziałem na rodzaj | E74: =$F$46*G55/100*G38 -> 0 | F74: =$F$46*G55/100*G39 -> 0 | G74: =$F$46*G55/100*G40 -> 0
B75: EURO IV | C75: g/km | D75: Zestawienie własnego taboru z podziałem na rodzaj | E75: =$F$46*G56/100*H39 -> 0 | F75: =$F$46*G56/100*H40 -> 0 | G75: =$F$46*G56/100*H40 -> 0
B76: EURO V | C76: g/km | D76: Zestawienie własnego taboru z podziałem na rodzaj | E76: =$F$46*G57/100*I38 -> 0 | F76: =$F$46*G57/100*I39 -> 0 | G76: =$F$46*G57/100*I40 -> 0
B77: EURO VI | C77: g/km | D77: Zestawienie własnego taboru z podziałem na rodzaj | E77: =$F$46*G58/100*J38 -> 0.299 | F77: =$F$46*G58/100*J39 -> 0.92 | G77: =$F$46*G58/100*J40 -> 0.023 | H77: =$F$46*$G$59/100*J38 -> 0 | I77: =$F$46*$G$59/100*J39 -> 0 | J77: =$F$46*$G$59/100*J40 -> 0
B79: rodzaj autobusu - 18 m
B80: EURO I | C80: g/km | D80: Zestawienie własnego taboru z podziałem na rodzaj | E80: =$F$46*I53/100*E38 -> 0 | F80: =$F$46*I53/100*E39 -> 0 | G80: =$F$46*I53/100*E40 -> 0
B81: EURO II | C81: g/km | D81: Zestawienie własnego taboru z podziałem na rodzaj | E81: =$F$46*I54/100*F38 -> 0 | F81: =$F$46*I54/100*F39 -> 0 | G81: =$F$46*I54/100*F40 -> 0
B82: EURO III | C82: g/km | D82: Zestawienie własnego taboru z podziałem na rodzaj | E82: =$F$46*I55/100*G38 -> 0 | F82: =$F$46*I55/100*G39 -> 0 | G82: =$F$46*I55/100*G40 -> 0
B83: EURO IV | C83: g/km | D83: Zestawienie własnego taboru z podziałem na rodzaj | E83: =$F$46*I56/100*H38 -> 0 | F83: =$F$46*I56/100*H39 -> 0 | G83: =$F$46*I56/100*H40 -> 0
B84: EURO V | C84: g/km | D84: Zestawienie własnego taboru z podziałem na rodzaj | E84: =$F$46*I57/100*I38 -> 0 | F84: =$F$46*I57/100*I39 -> 0 | G84: =$F$46*I57/100*I40 -> 0
B85: EURO VI | C85: g/km | D85: Zestawienie własnego taboru z podziałem na rodzaj | E85: =$F$46*I58/100*J38 -> 0 | F85: =$F$46*I58/100*J39 -> 0 | G85: =$F$46*I58/100*J40 -> 0 | H85: =$F$46*$I$59/100*J38 -> 0 | I85: =$F$46*$I$59/100*J39 -> 0 | J85: =$F$46*$I$59/100*J40 -> 0
B89: Emisje substancji szkodliwych przez elektrownie węglowe i gazowe | D89: miks energetyczny w Polsce | E89: =E23 -> 2021 | F89: =F23 -> 2022 | G89: =G23 -> 2023 | H89: =H23 -> 2024 | I89: =I23 -> 2025 | J89: =J23 -> 2026 | K89: =K23 -> 2027 | L89: =L23 -> 2028 | ... U89: =U23 -> 2037
B90: NMVOC | C90: g/kWh | D90: Dane wyjściowe - Kalkulator emisji CUPT. Prognoza na podstawie Scenariusz Polityki energetyczno-klimatycznej (PEK). Ocena skutków planowanych polityk i środków. Załącznik 2. do Krajowego planu na rzecz energii i klimatu na lata 2021-2030 | E90: 0.00504 | F90: =E90-($E90-$I90)/4 -> 0.0049998939 | G90: =F90-($E90-$I90)/4 -> 0.0049597878 | H90: =G90-($E90-$I90)/4 -> 0.0049196817 | I90: 0.0048795756 | J90: =I90-($I90-$N90)/5 -> 0.0048047109 | K90: =J90-($I90-$N90)/5 -> 0.0047298462 | L90: =K90-($I90-$N90)/5 -> 0.0046549814 | M90: =L90-($I90-$N90)/5 -> 0.0045801167 | N90: 0.004505252 | O90: =N90-($N90-$S90)/5 -> 0.0042833316 | P90: =O90-($N90-$S90)/5 -> 0.0040614111 | Q90: =P90-($N90-$S90)/5 -> 0.0038394907 | R90: =Q90-($N90-$S90)/5 -> 0.0036175703 | S90: 0.0033956499 | T90: =S90-(S90-U90)/2 -> 0.0031215915 | U90: 0.0028475332
B91: SO2 | C91: g/kWh | E91: 2.62728 | F91: =E91-($E91-$I91)/4 -> 2.5174444 | G91: =F91-($E91-$I91)/4 -> 2.4076089 | H91: =G91-($E91-$I91)/4 -> 2.2977733 | I91: 2.1879377 | J91: =I91-($I91-$N91)/5 -> 2.1549953 | K91: =J91-($I91-$N91)/5 -> 2.1220529 | L91: =K91-($I91-$N91)/5 -> 2.0891106 | M91: =L91-($I91-$N91)/5 -> 2.0561682 | N91: 2.0232258 | O91: =N91-($N91-$S91)/5 -> 1.9229418 | P91: =O91-($N91-$S91)/5 -> 1.8226579 | Q91: =P91-($N91-$S91)/5 -> 1.722374 | R91: =Q91-($N91-$S91)/5 -> 1.6220901 | S91: 1.5218061 | T91: =S91-(S91-U91)/2 -> 1.4012105 | U91: 1.2806148
B92: NOx | C92: g/kWh | E92: 1.0908 | F92: =E92-($E92-$I92)/4 -> 1.0451643 | G92: =F92-($E92-$I92)/4 -> 0.99952854 | H92: =G92-($E92-$I92)/4 -> 0.95389281 | I92: 0.90825708 | J92: =I92-($I92-$N92)/5 -> 0.89459692 | K92: =J92-($I92-$N92)/5 -> 0.88093675 | L92: =K92-($I92-$N92)/5 -> 0.86727659 | M92: =L92-($I92-$N92)/5 -> 0.85361642 | N92: 0.83995626 | O92: =N92-($N92-$S92)/5 -> 0.79832871 | P92: =O92-($N92-$S92)/5 -> 0.75670116 | Q92: =P92-($N92-$S92)/5 -> 0.71507361 | R92: =Q92-($N92-$S92)/5 -> 0.67344606 | S92: 0.63181851 | T92: =S92-(S92-U92)/2 -> 0.58170728 | U92: 0.53159605
B93: PM | C93: g/kWh | E93: 0.02988 | F93: =E93-($E93-$I93)/4 -> 0.02863001 | G93: =F93-($E93-$I93)/4 -> 0.02738002 | H93: =G93-($E93-$I93)/4 -> 0.02613003 | I93: 0.02488004 | J93: =I93-($I93-$N93)/5 -> 0.024508786 | K93: =J93-($I93-$N93)/5 -> 0.024137531 | L93: =K93-($I93-$N93)/5 -> 0.023766277 | M93: =L93-($I93-$N93)/5 -> 0.023395022 | N93: 0.023023768 | O93: =N93-($N93-$S93)/5 -> 0.021880064 | P93: =O93-($N93-$S93)/5 -> 0.020736361 | Q93: =P93-($N93-$S93)/5 -> 0.019592657 | R93: =Q93-($N93-$S93)/5 -> 0.018448954 | S93: 0.017305251 | T93: =S93-(S93-U93)/2 -> 0.015942986 | U93: 0.014580721
F94: indeksacja o 0,8 prognozy dynamiki PKB per capita
B95: Koszty emisji zanieczyszczeń w transporcie lądowym: | E95: =E23 -> 2021 | F95: =F14 -> 2022 | G95: =G14 -> 2023 | H95: =H14 -> 2024 | I95: =I14 -> 2025 | J95: =J14 -> 2026 | K95: =K14 -> 2027 | L95: =L14 -> 2028 | M95: =M14 -> 2029 | ... U95: =U14 -> 2037
B96: NOx | C96: PLN/tona emisji | D96: Wskaźniki CUPT | E96: 79714.997 | F96: 82958.418 | G96: 86144.484 | H96: 88842.938 | I96: 91496.327 | J96: 94242.592 | K96: 97085.435 | L96: 99950.816 | M96: 102835.55 | N96: 105653.54 | O96: 108394.1 | P96: 111135.92 | Q96: 113874.43 | R96: 116604.68 | S96: 119321.36 | T96: 122114.41 | U96: 124888.02
B97: NMVOC | C97: PLN/tona emisji | D97: Wskaźniki CUPT | E97: 9956.9574 | F97: 10362.083 | G97: 10760.045 | H97: 11097.101 | I97: 11428.527 | J97: 11771.555 | K97: 12126.646 | L97: 12484.552 | M97: 12844.876 | N97: 13196.862 | O97: 13539.176 | P97: 13881.65 | Q97: 14223.708 | R97: 14564.735 | S97: 14904.067 | T97: 15252.938 | U97: 15599.382
B98: SO2 | C98: PLN/tona emisji | D98: Wskaźniki CUPT | E98: 85654.756 | F98: 89139.852 | G98: 92563.319 | H98: 95462.841 | I98: 98313.941 | J98: 101264.84 | K98: 104319.51 | L98: 107398.39 | M98: 110498.08 | N98: 113526.04 | O98: 116470.8 | P98: 119416.93 | Q98: 122359.49 | R98: 125293.18 | S98: 128212.28 | T98: 131213.45 | U98: 134193.73
B99: PM2.5 obszar miejski | C99: PLN/tona emisji | D99: Wskaźniki CUPT | E99: 1314075.1 | F99: 1367541.8 | G99: 1420063 | H99: 1464546.1 | I99: 1508286.4 | J99: 1553557.6 | K99: 1600420.9 | L99: 1647655.8 | M99: 1695209.7 | N99: 1741663.3 | O99: 1786840.5 | P99: 1832038.6 | Q99: 1877181.9 | R99: 1922189.2 | S99: 1966972.7 | T99: 2013015.2 | U99: 2058737.2
B100: PM2.5 obszar pozamiejski | C100: PLN/tona emisji | D100: Wskaźniki CUPT | E100: 281803.26 | F100: 293269.19 | G100: 304532.36 | H100: 314071.76 | I100: 323451.84 | J100: 333160.26 | K100: 343210.09 | L100: 353339.6 | M100: 363537.53 | N100: 373499.5 | O100: 383187.74 | P100: 392880.47 | Q100: 402561.45 | R100: 412213.26 | S100: 421817.08 | T100: 431690.88 | U100: 441495.97
C102: Liczba | D102: Długość | E102: Wskaźnik
C103: mieszkańców | D103: linii | E103: [osób/km] | F103: [osób/km2] | G103: krotność | J103: wzrost
C104: [osób] | D104: [km] | G104: w stosunku do | J104: [%]
G105: całego | H105: miast | I105: Polski | J105: miast
G106: obszaru | H106: w Polsce | J106: w Polsce
B107: Przeciętnie | H107: 1.4493831 | I107: 12.140606 | J107: 0.44938306
F108: średnia gęstość zaludnienia - Elbląg | G108: 1485.6176
B109: Udział w emisji z transportu drogowego autobusów i pojazdów ciężkich | C109: 0.35913048 | F109: średnia gęstość Polska | G109: 122.36767
B110: Wskaźnik korygujacy wycenę kosztu zanieczyszczeń ze względu na zagęszczenie ludności na obszarze analizowanym | C110: =J107*C109 -> 0.16138715 | F110: średnia gęstość miasta Polska | G110: 1025
B113: Wskaźniki dot. emisji CO2 | E113: =E14 -> 2021 | F113: =F14 -> 2022 | G113: =G14 -> 2023 | H113: =H14 -> 2024 | I113: =I14 -> 2025 | J113: =J14 -> 2026 | K113: =K14 -> 2027 | L113: =L14 -> 2028 | ... U113: =U14 -> 2037
B114: Wskaźnik emisji CO2 dla ON | C114: kgCO2/l oleju | D114: The carbon footprint of projects financed by the bank, EBI | E114: 2.68 | F114: =E114 -> 2.68 | G114: =F114 -> 2.68 | H114: =G114 -> 2.68 | I114: =H114 -> 2.68 | J114: =I114 -> 2.68 | K114: =J114 -> 2.68 | L114: =K114 -> 2.68 | M114: =L114 -> 2.68 | ... U114: =T114 -> 2.68
B115: Jednostkowy koszt CO2 | C115: PLN/tCO2 | D115: Wskaźniki CUPT | E115: 188.60725 | F115: 193.99603 | G115: 199.38481 | H115: 204.77359 | I115: 210.16237 | J115: 215.55115 | K115: 220.93993 | L115: 226.3287 | M115: 231.71748 | N115: 237.10626 | O115: 242.49504 | P115: 247.88382 | Q115: 253.2726 | R115: 258.66138 | S115: 264.05016 | T115: 269.43893 | U115: 274.82771
B116: Emisja CO2 przy produkcji energii elektr. - miks energetyczny dla Polski | C116: gCO2/KWh | D116: Przyszły miks energetyczny Polski – determinanty, narzędzia i prognozy, Instrat - Fundacja Inicjatyw Strategicznych, grudzień 2019, scenariusz według Krajowego planu na rzecz energii i klimatu na lata 2021-2030 | E116: 792 | F116: =E116-($E$116-$I$116)/4 -> 784 | G116: =F116-($E$116-$I$116)/4 -> 776 | H116: =G116-($E$116-$I$116)/4 -> 768 | I116: 760 | J116: =I116-($I$116-$N$116)/5 -> 740 | K116: =J116-($I$116-$N$116)/5 -> 720 | L116: =K116-($I$116-$N$116)/5 -> 700 | M116: =L116-($I$116-$N$116)/5 -> 680 | N116: 660 | O116: =N116-($N$116-$S$116)/5 -> 624 | P116: =O116-($N$116-$S$116)/5 -> 588 | Q116: =P116-($N$116-$S$116)/5 -> 552 | R116: =Q116-($N$116-$S$116)/5 -> 516 | S116: 480 | T116: =S116-(S116-U116)/2 -> 435 | U116: 390
B118: Wskaźnik produkcji energii u źródła dla silników elektrycznych | E118: ELEKTRYCZNY
B119: średnioroczne straty energii w sieciach 110 kV | C119: % | D119: Proces ładowania autobusów elektrycznych wiąże się ze stratami energii elektrycznej podczas jej przesyłu oraz dystrybucji ze źródła do stacji ładowania. Obliczenia własne | E119: 0.0144
B120: średnioroczne straty energii w sieciach średniego napięcia | C120: % | E120: 0.0303
B121: straty ładowarki | C121: % | E121: 0.02
B122: straty całkowite | C122: % | E122: =ROUND(E119+E120+E121,3) -> 0.065
B123: współczynnik energii wyprodukowanej do wykorzystanej | C123: [-] | E123: =1/(1-E122) -> 1.0695187
A125: Tabela 4. | B125: ZESTAWIENIE FLOTY AUTOBUSOWEJ - stan na 08.2021 r.
A127: LP. | B127: MARKA | C127: TYP | D127: ROK PRODUKCJI | E127: RODZAJ NAPĘDU | F127: Hybryda | G127: NORMA EURO | H127: Zużycie paliwa ON: l/100 km CNG m3/100km
A128: 1 | B128: ZAZ A-10 | C128: 8.25 | D128: 2020 | E128: ON | G128: 6 | H128: 18 | N128: ON | O128: CNG | P128: EL | Q128: TR
A129: =A128+1 -> 2 | B129: ZAZ A-10 | C129: 8.25 | D129: 2020 | E129: ON | G129: 6 | H129: 18
A130: =A129+1 -> 3 | B130: ZAZ A-10 | C130: 8.25 | D130: 2020 | E130: ON | G130: 6 | H130: 18 | K130: norma | M130: poniżej 10m
...

Sheet Opcje
A1: Scenariusz bazowy | B1: Scenariusz bazowy | C1: Typ | D1: 2021 | E1: =D1+1 -> 2022 | F1: =E1+1 -> 2023 | G1: =F1+1 -> 2024 | H1: =G1+1 -> 2025 | I1: =H1+1 -> 2026 | J1: =I1+1 -> 2027 | K1: =J1+1 -> 2028 | L1: =K1+1 -> 2029 | ... S1: =R1+1 -> 2036
B2: Plan zakupów
B3: 8 m ON (używane) | C3: 8 m | D3: 0 | E3: 0 | F3: 0 | G3: 0 | H3: 0 | I3: 0 | J3: 24 | K3: 0 | L3: 0 | M3: 0 | N3: 0 | O3: 0 | P3: 24 | Q3: 0 | R3: 0 | S3: 0
B4: 10-11 m ON (używane) | C4: 10-11 m | D4: 0 | E4: 0 | F4: 0 | G4: 0 | H4: 0 | I4: 0 | J4: 19 | K4: 0 | L4: 0 | M4: 0 | N4: 0 | O4: 0 | P4: 19 | Q4: 0 | R4: 0 | S4: 0
B5: RAZEM | C5: - | D5: =SUBTOTAL(9,D3:D4) -> 0 | E5: =SUBTOTAL(9,E3:E4) -> 0 | F5: =SUBTOTAL(9,F3:F4) -> 0 | G5: =SUBTOTAL(9,G3:G4) -> 0 | H5: =SUBTOTAL(9,H3:H4) -> 0 | I5: =SUBTOTAL(9,I3:I4) -> 0 | J5: =SUBTOTAL(9,J3:J4) -> 43 | K5: =SUBTOTAL(9,K3:K4) -> 0 | ... S5: =SUBTOTAL(9,S3:S4) -> 0
A7: Scenariusz bazowy | B7: Scenariusz bazowy | C7: Typ | D7: cena jedn. netto | E7: =D1 -> 2021 | F7: =E1 -> 2022 | G7: =F1 -> 2023 | H7: =G1 -> 2024 | I7: =H1 -> 2025 | J7: =I1 -> 2026 | K7: =J1 -> 2027 | L7: =K1 -> 2028 | ... T7: =S1 -> 2036
B8: Koszt zakupu
B9: 8 m ON (używane) | C9: 8 m | D9: =Założenia!E199 -> 250000 | E9: =$D9*D3 -> 0 | F9: =$D9*E3 -> 0 | G9: =$D9*F3 -> 0 | H9: =$D9*G3 -> 0 | I9: =$D9*H3 -> 0 | J9: =$D9*I3 -> 0 | K9: =$D9*J3 -> 6000000 | L9: =$D9*K3 -> 0 | ... T9: =$D9*S3 -> 0
B10: 10-11 m ON (używane) | C10: 10-11 m | D10: =Założenia!E200 -> 300000 | E10: =$D10*D4 -> 0 | F10: =$D10*E4 -> 0 | G10: =$D10*F4 -> 0 | H10: =$D10*G4 -> 0 | I10: =$D10*H4 -> 0 | J10: =$D10*I4 -> 0 | K10: =$D10*J4 -> 5700000 | L10: =$D10*K4 -> 0 | ... T10: =$D10*S4 -> 0
B11: RAZEM | C11: - | E11: =SUM(E9:E10) -> 0 | F11: =SUM(F9:F10) -> 0 | G11: =SUM(G9:G10) -> 0 | H11: =SUM(H9:H10) -> 0 | I11: =SUM(I9:I10) -> 0 | J11: =SUM(J9:J10) -> 0 | K11: =SUM(K9:K10) -> 11700000 | L11: =SUM(L9:L10) -> 0 | ... T11: =SUM(T9:T10) -> 0
E12: 0
A13: Scenariusz bazowy | B13: Scenariusz bazowy | E13: =E7 -> 2021 | F13: =E13+1 -> 2022 | G13: =F13+1 -> 2023 | H13: =G13+1 -> 2024 | I13: =H13+1 -> 2025 | J13: =I13+1 -> 2026 | K13: =J13+1 -> 2027 | L13: =K13+1 -> 2028 | M13: =L13+1 -> 2029 | ... T13: =S13+1 -> 2036
B15: Inwestycje
B16: Koszt zakupu autobusów | C16: zł | E16: =E11 -> 0 | F16: =F11 -> 0 | G16: =G11 -> 0 | H16: =H11 -> 0 | I16: =I11 -> 0 | J16: =J11 -> 0 | K16: =K11 -> 11700000 | L16: =L11 -> 0 | ... T16: =T11 -> 0
B17: Infrastruktura | C17: zł
B18: Wymiana baterii | C18: zł
B19: Serwis butli gazowej | C19: zł
B20: Liczba stacji ładowania szybkiego | C20: szt
B21: Liczba stacji ładowania na zajezdni | C21: szt
B22: Maksymalny czas użytkowania autobusów | C22: 13 | D22: lat
B23: Maksymalny czas użytkowania infrastruktury | C23: 15 | D23: lat
A25: Wariant 1 | B25: Wariant konwencjonalny | C25: Typ | D25: 2021 | E25: =D25+1 -> 2022 | F25: =E25+1 -> 2023 | G25: =F25+1 -> 2024 | H25: =G25+1 -> 2025 | I25: =H25+1 -> 2026 | J25: =I25+1 -> 2027 | K25: =J25+1 -> 2028 | L25: =K25+1 -> 2029 | ... S25: =R25+1 -> 2036
B26: Plan zakupów
B27: 8 m ON (nowe) | C27: 8 m | D27: 0 | E27: 0 | F27: 0 | G27: 0 | H27: 0 | I27: 0 | J27: 23 | K27: 0 | L27: 0 | M27: 0 | N27: 0 | O27: 0 | P27: 0 | Q27: 0 | R27: 23 | S27: 0
B28: 10-11 m ON (nowe) | C28: 10-11 m | D28: 0 | E28: 0 | F28: 0 | G28: 0 | H28: 0 | I28: 0 | J28: 18 | K28: 0 | L28: 0 | M28: 0 | N28: 0 | O28: 0 | P28: 0 | Q28: 0 | R28: 18 | S28: 0
B29: RAZEM | C29: - | D29: =SUBTOTAL(9,D27:D28) -> 0 | E29: =SUBTOTAL(9,E27:E28) -> 0 | F29: =SUBTOTAL(9,F27:F28) -> 0 | G29: =SUBTOTAL(9,G27:G28) -> 0 | H29: =SUBTOTAL(9,H27:H28) -> 0 | I29: =SUBTOTAL(9,I27:I28) -> 0 | J29: =SUBTOTAL(9,J27:J28) -> 41 | K29: =SUBTOTAL(9,K27:K28) -> 0 | ... S29: =SUBTOTAL(9,S27:S28) -> 0
A31: Wariant 1 | B31: Wariant konwencjonalny | C31: Typ | D31: cena jedn. netto | E31: =D25 -> 2021 | F31: =E25 -> 2022 | G31: =F25 -> 2023 | H31: =G25 -> 2024 | I31: =H25 -> 2025 | J31: =I25 -> 2026 | K31: =J25 -> 2027 | L31: =K25 -> 2028 | ... T31: =S25 -> 2036
B32: Koszt zakupu
B33: 8 m ON (nowe) | C33: 8 m | D33: =Założenia!E201 -> 590000 | E33: =$D33*D27 -> 0 | F33: =$D33*E27 -> 0 | G33: =$D33*F27 -> 0 | H33: =$D33*G27 -> 0 | I33: =$D33*H27 -> 0 | J33: =$D33*I27 -> 0 | K33: =$D33*J27 -> 13570000 | L33: =$D33*K27 -> 0 | ... T33: =$D33*S27 -> 0
B34: 10-11 m ON (nowe) | C34: 10-11 m | D34: =Założenia!E202 -> 900000 | E34: =$D34*D28 -> 0 | F34: =$D34*E28 -> 0 | G34: =$D34*F28 -> 0 | H34: =$D34*G28 -> 0 | I34: =$D34*H28 -> 0 | J34: =$D34*I28 -> 0 | K34: =$D34*J28 -> 16200000 | L34: =$D34*K28 -> 0 | ... T34: =$D34*S28 -> 0
B35: RAZEM | C35: - | E35: =SUM(E33:E34) -> 0 | F35: =SUM(F33:F34) -> 0 | G35: =SUM(G33:G34) -> 0 | H35: =SUM(H33:H34) -> 0 | I35: =SUM(I33:I34) -> 0 | J35: =SUM(J33:J34) -> 0 | K35: =SUM(K33:K34) -> 29770000 | L35: =SUM(L33:L34) -> 0 | ... T35: =SUM(T33:T34) -> 0
E36: 0
A37: Wariant 1 | B37: Wariant konwencjonalny | E37: =E31 -> 2021 | F37: =E37+1 -> 2022 | G37: =F37+1 -> 2023 | H37: =G37+1 -> 2024 | I37: =H37+1 -> 2025 | J37: =I37+1 -> 2026 | K37: =J37+1 -> 2027 | L37: =K37+1 -> 2028 | M37: =L37+1 -> 2029 | ... T37: =S37+1 -> 2036
B39: Inwestycje
B40: Koszt zakupu autobusów | C40: zł | E40: =E35 -> 0 | F40: =F35 -> 0 | G40: =G35 -> 0 | H40: =H35 -> 0 | I40: =I35 -> 0 | J40: =J35 -> 0 | K40: =K35 -> 29770000 | L40: =L35 -> 0 | ... T40: =T35 -> 0
B41: Infrastruktura | C41: zł
B42: Wymiana baterii | C42: zł
B43: Serwis butli gazowej | C43: zł
B44: Liczba stacji ładowania szybkiego | C44: szt
B45: Liczba stacji ładowania na zajezdni | C45: szt
B46: Maksymalny czas użytkowania autobusów ON | C46: 13 | D46: lat
B47: Maksymalny czas użytkowania infrastruktury | C47: 15 | D47: lat
A49: Wariant 2 | B49: Wariant elektryczny 1 | C49: Typ | D49: =D25 -> 2021 | E49: =D49+1 -> 2022 | F49: =E49+1 -> 2023 | G49: =F49+1 -> 2024 | H49: =G49+1 -> 2025 | I49: =H49+1 -> 2026 | J49: =I49+1 -> 2027 | K49: =J49+1 -> 2028 | L49: =K49+1 -> 2029 | ... S49: =R49+1 -> 2036
B50: Plan zakupów
B51: 8 m ON (nowe) | C51: 8 m | D51: 0 | E51: 0 | F51: 0 | G51: 0 | H51: 0 | I51: 0 | J51: 16 | K51: 0 | L51: 0 | M51: 0 | N51: 0 | O51: 0 | P51: 0 | Q51: 0 | R51: 16 | S51: 0
B52: 10-11 m ON (nowe) | C52: 10-11 m | D52: 0 | E52: 0 | F52: 0 | G52: 0 | H52: 0 | I52: 0 | J52: 13 | K52: 0 | L52: 0 | M52: 0 | N52: 0 | O52: 0 | P52: 0 | Q52: 0 | R52: 13 | S52: 0
B53: 10 m elektryczne | C53: 10 m | D53: 0 | E53: 0 | F53: 0 | G53: 0 | H53: 0 | I53: 0 | J53: 14 | K53: 0 | L53: 0 | M53: 0 | N53: 0 | O53: 0 | P53: 0 | Q53: 0 | R53: 0 | S53: 0
B54: RAZEM | C54: - | D54: =SUM(D51:D53) -> 0 | E54: =SUM(E51:E53) -> 0 | F54: =SUM(F51:F53) -> 0 | G54: =SUM(G51:G53) -> 0 | H54: =SUM(H51:H53) -> 0 | I54: =SUM(I51:I53) -> 0 | J54: =SUM(J51:J53) -> 43 | K54: =SUM(K51:K53) -> 0 | ... S54: =SUM(S51:S53) -> 0
A56: Wariant 2 | B56: =B49 -> Wariant elektryczny 1 | C56: Typ | D56: cena jedn. netto | E56: =D49 -> 2021 | F56: =E49 -> 2022 | G56: =F49 -> 2023 | H56: =G49 -> 2024 | I56: =H49 -> 2025 | J56: =I49 -> 2026 | K56: =J49 -> 2027 | L56: =K49 -> 2028 | ... T56: =S49 -> 2036
B57: Koszt zakupu
B58: 8 m ON (nowe) | C58: 8 m | D58: =Założenia!E201 -> 590000 | E58: =$D58*D51 -> 0 | F58: =$D58*E51 -> 0 | G58: =$D58*F51 -> 0 | H58: =$D58*G51 -> 0 | I58: =$D58*H51 -> 0 | J58: =$D58*I51 -> 0 | K58: =$D58*J51 -> 9440000 | L58: =$D58*K51 -> 0 | ... T58: =$D58*S51 -> 0
B59: 10-11 m ON (nowe) | C59: 10-11 m | D59: =Założenia!E202 -> 900000 | E59: =$D59*D52 -> 0 | F59: =$D59*E52 -> 0 | G59: =$D59*F52 -> 0 | H59: =$D59*G52 -> 0 | I59: =$D59*H52 -> 0 | J59: =$D59*I52 -> 0 | K59: =$D59*J52 -> 11700000 | L59: =$D59*K52 -> 0 | ... T59: =$D59*S52 -> 0
B60: 10 m elektryczne | C60: 10 m | D60: =Założenia!E203 -> 2180000 | E60: =$D60*D53 -> 0 | F60: =$D60*E53 -> 0 | G60: =$D60*F53 -> 0 | H60: =$D60*G53 -> 0 | I60: =$D60*H53 -> 0 | J60: =$D60*I53 -> 0 | K60: =$D60*J53 -> 30520000 | L60: =$D60*K53 -> 0 | ... T60: =$D60*S53 -> 0
B61: RAZEM | C61: - | D61: - | E61: =SUM(E58:E60) -> 0 | F61: =SUM(F58:F60) -> 0 | G61: =SUM(G58:G60) -> 0 | H61: =SUM(H58:H60) -> 0 | I61: =SUM(I58:I60) -> 0 | J61: =SUM(J58:J60) -> 0 | K61: =SUM(K58:K60) -> 51660000 | L61: =SUM(L58:L60) -> 0 | ... T61: =SUM(T58:T60) -> 0
A63: Wariant 2 | B63: =B56 -> Wariant elektryczny 1 | E63: =E56 -> 2021 | F63: =E63+1 -> 2022 | G63: =F63+1 -> 2023 | H63: =G63+1 -> 2024 | I63: =H63+1 -> 2025 | J63: =I63+1 -> 2026 | K63: =J63+1 -> 2027 | L63: =K63+1 -> 2028 | M63: =L63+1 -> 2029 | ... T63: =S63+1 -> 2036
B65: Inwestycje
B66: Koszt zakupu autobusów | C66: zł | E66: =E61 -> 0 | F66: =F61 -> 0 | G66: =G61 -> 0 | H66: =H61 -> 0 | I66: =I61 -> 0 | J66: =J61 -> 0 | K66: =K61 -> 51660000 | L66: =L61 -> 0 | ... T66: =T61 -> 0
B67: Infrastruktura | C67: zł | E67: 0 | F67: 0 | G67: 0 | H67: 0 | I67: 0 | J67: 0 | K67: 3650000 | L67: 0 | M67: 0 | N67: 0 | O67: 0 | P67: 0 | Q67: 0 | R67: 0 | S67: 0 | T67: 0
B68: Wymiana baterii | C68: zł | E68: 0 | F68: 0 | G68: 0 | H68: 0 | I68: 0 | J68: 0 | K68: 0 | L68: 0 | M68: 0 | N68: 0 | O68: 0 | P68: 0 | Q68: 0 | R68: 0 | S68: 1064000 | T68: 0
B69: Liczba stacji ładowania szybkiego | C69: szt | K69: 3 | L69: =K69 -> 3 | M69: =L69 -> 3 | N69: =M69 -> 3 | O69: =N69 -> 3 | P69: =O69 -> 3 | Q69: =P69 -> 3 | R69: =Q69 -> 3 | S69: =R69 -> 3 | T69: =S69 -> 3
B70: Liczba stacji ładowania na zajezdni | C70: szt | K70: 14 | L70: =K70 -> 14 | M70: =L70 -> 14 | N70: =M70 -> 14 | O70: =N70 -> 14 | P70: =O70 -> 14 | Q70: =P70 -> 14 | R70: =Q70 -> 14 | S70: =R70 -> 14 | T70: =S70 -> 14
B72: Koszty eksploatacji infrastrukury:
B73: Koszt serwisu stacji ładowania na zajezdni | C73: 2000 | D73: zł/szt
B74: Koszt serwisu stacji ładowania na pętlach | C74: 6000 | D74: zł/szt
B76: Maksymalny czas użytkowania autobusów elektrycznych | C76: 15 | D76: lat
B77: Maksymalny czas użytkowania infrastruktury | C77: 15 | D77: lat
A80: Wariant 3 | B80: Wariant elektryczny 2
A82: Wariant 3 | B82: =B80 -> Wariant elektryczny 2 | C82: Typ | D82: =D49 -> 2021 | E82: =D82+1 -> 2022 | F82: =E82+1 -> 2023 | G82: =F82+1 -> 2024 | H82: =G82+1 -> 2025 | I82: =H82+1 -> 2026 | J82: =I82+1 -> 2027 | K82: =J82+1 -> 2028 | L82: =K82+1 -> 2029 | ... S82: =R82+1 -> 2036
B83: Plan zakupów
B84: 8 m ON (nowe) | C84: 8 m | D84: 0 | E84: 0 | F84: 0 | G84: 0 | H84: 0 | I84: 0 | J84: 16 | K84: 0 | L84: 0 | M84: 0 | N84: 0 | O84: 0 | P84: 0 | Q84: 0 | R84: 16 | S84: 0
B85: 10-11 m ON (nowe) | C85: 10-11 m | D85: 0 | E85: 0 | F85: 0 | G85: 0 | H85: 0 | I85: 0 | J85: 12 | K85: 0 | L85: 0 | M85: 0 | N85: 0 | O85: 0 | P85: 0 | Q85: 0 | R85: 12 | S85: 0
B86: 12 m elektryczne | C86: 12 m | D86: 0 | E86: 0 | F86: 0 | G86: 0 | H86: 0 | I86: 0 | J86: 13 | K86: 0 | L86: 0 | M86: 0 | N86: 0 | O86: 0 | P86: 0 | Q86: 0 | R86: 0 | S86: 0
B87: RAZEM | C87: - | D87: =SUM(D84:D86) -> 0 | E87: =SUM(E84:E86) -> 0 | F87: =SUM(F84:F86) -> 0 | G87: =SUM(G84:G86) -> 0 | H87: =SUM(H84:H86) -> 0 | I87: =SUM(I84:I86) -> 0 | J87: =SUM(J84:J86) -> 41 | K87: =SUM(K84:K86) -> 0 | ... S87: =SUM(S84:S86) -> 0
A89: Wariant 3 | B89: =B82 -> Wariant elektryczny 2 | C89: Typ | D89: cena jedn. netto | E89: =D82 -> 2021 | F89: =E82 -> 2022 | G89: =F82 -> 2023 | H89: =G82 -> 2024 | I89: =H82 -> 2025 | J89: =I82 -> 2026 | K89: =J82 -> 2027 | L89: =K82 -> 2028 | ... T89: =S82 -> 2036
B90: Koszt zakupu
B91: 8 m ON (nowe) | C91: 8 m | D91: =Założenia!E201 -> 590000 | E91: =D84*$D91 -> 0 | F91: =E84*$D91 -> 0 | G91: =F84*$D91 -> 0 | H91: =G84*$D91 -> 0 | I91: =H84*$D91 -> 0 | J91: =I84*$D91 -> 0 | K91: =J84*$D91 -> 9440000 | L91: =K84*$D91 -> 0 | ... T91: =S84*$D91 -> 0
B92: 10-11 m ON (nowe) | C92: 10-11 m | D92: =Założenia!E202 -> 900000 | E92: =D85*$D92 -> 0 | F92: =E85*$D92 -> 0 | G92: =F85*$D92 -> 0 | H92: =G85*$D92 -> 0 | I92: =H85*$D92 -> 0 | J92: =I85*$D92 -> 0 | K92: =J85*$D92 -> 10800000 | L92: =K85*$D92 -> 0 | ... T92: =S85*$D92 -> 0
B93: 12 m elektryczne | C93: 12 m | D93: =Założenia!E204 -> 2640000 | E93: =D86*$D93 -> 0 | F93: =E86*$D93 -> 0 | G93: =F86*$D93 -> 0 | H93: =G86*$D93 -> 0 | I93: =H86*$D93 -> 0 | J93: =I86*$D93 -> 0 | K93: =J86*$D93 -> 34320000 | L93: =K86*$D93 -> 0 | ... T93: =S86*$D93 -> 0
B94: RAZEM | C94: - | D94: - | E94: =SUM(E91:E93) -> 0 | F94: =SUM(F91:F93) -> 0 | G94: =SUM(G91:G93) -> 0 | H94: =SUM(H91:H93) -> 0 | I94: =SUM(I91:I93) -> 0 | J94: =SUM(J91:J93) -> 0 | K94: =SUM(K91:K93) -> 54560000 | L94: =SUM(L91:L93) -> 0 | ... T94: =SUM(T91:T93) -> 0
A96: Wariant 3 | B96: =B89 -> Wariant elektryczny 2 | E96: =E89 -> 2021 | F96: =E96+1 -> 2022 | G96: =F96+1 -> 2023 | H96: =G96+1 -> 2024 | I96: =H96+1 -> 2025 | J96: =I96+1 -> 2026 | K96: =J96+1 -> 2027 | L96: =K96+1 -> 2028 | M96: =L96+1 -> 2029 | ... T96: =S96+1 -> 2036
B97: Inwestycje
B98: Koszt zakupu autobusów | C98: =C66 -> zł | E98: =E94 -> 0 | F98: =F94 -> 0 | G98: =G94 -> 0 | H98: =H94 -> 0 | I98: =I94 -> 0 | J98: =J94 -> 0 | K98: =K94 -> 54560000 | L98: =L94 -> 0 | ... T98: =T94 -> 0
B99: Infrastruktura | C99: zł | E99: 0 | F99: 0 | G99: 0 | H99: 0 | I99: 0 | J99: 0 | K99: 1950000 | L99: 0 | M99: 0 | N99: 0 | O99: 0 | P99: 0 | Q99: 0 | R99: 0 | S99: 0 | T99: 0
B100: Wymiana baterii | C100: zł | E100: 0 | F100: 0 | G100: 0 | H100: 0 | I100: 0 | J100: 0 | K100: 0 | L100: 0 | M100: 0 | N100: 0 | O100: 0 | P100: 0 | Q100: 0 | R100: 0 | S100: 2158000 | T100: 0
B101: Liczba stacji ładowania szybkiego | C101: szt
B102: Liczba stacji ładowania na zajezdni | C102: szt | K102: 13 | L102: =K102 -> 13 | M102: =L102 -> 13 | N102: =M102 -> 13 | O102: =N102 -> 13 | P102: =O102 -> 13 | Q102: =P102 -> 13 | R102: =Q102 -> 13 | S102: =R102 -> 13 | T102: =S102 -> 13
B104: Koszty eksploatacji infrastrukury:
B105: Koszt serwisu stacji ładowania na zajezdni | C105: =C73 -> 2000 | D105: zł/szt
B106: Koszt serwisu stacji ładowania na pętlach | C106: =C74 -> 6000 | D106: zł/szt
B108: Maksymalny czas użytkowania autobusu elektrycznego | C108: 15 | D108: lat
B109: Okres użytkowania baterii | C109: =Założenia!F194 -> 8 | D109: lat
B110: Maksymalny czas użytkowania infrastruktury | C110: 15 | D110: lat
A117: Zestawienie | B117: Podsumowanie analizy wariantów
A119: Lp. | B119: Wyszczególnienie | C119: Jednostka | D119: Wariant 1 konwencjonalny | H119: Wariant 2 elektryczny 1 | L119: Wariant 3 elektryczny 2
D120: średniorocznie | F120: w okresie analizy | H120: średniorocznie | J120: w okresie analizy | L120: średniorocznie | N120: w okresie analizy
D121: tony | E121: PLN | F121: tony | G121: PLN | H121: tony | I121: PLN | J121: tony | K121: PLN | L121: tony | M121: PLN | N121: tony | O121: PLN
B122: Emisja CO2 | D122: ='Wariant konwencjonalny'!$C$209 -> 1195.2405 | E122: ='Wariant konwencjonalny'!$D$209 -> 273740.16 | F122: ='Wariant konwencjonalny'!$C$210 -> 19123.848 | G122: ='Wariant konwencjonalny'!$D$210 -> 4379842.6 | H122: ='Wariant elektryczny 1'!$C$212 -> 1239.6475 | I122: ='Wariant elektryczny 1'!$D$212 -> 284213.13 | J122: ='Wariant elektryczny 1'!$C$213 -> 19834.359 | K122: ='Wariant elektryczny 1'!$D$213 -> 4547410.1 | L122: ='Wariant elektryczny 2'!$C$212 -> 1291.0823 | M122: ='Wariant elektryczny 2'!$D$212 -> 296882.95 | N122: ='Wariant elektryczny 2'!$C$213 -> 20657.317 | O122: ='Wariant elektryczny 2'!$D$213 -> 4750127.2
B123: Emisja NOx | D123: ='Wariant konwencjonalny'!$C$212 -> 1.783941 | E123: ='Wariant konwencjonalny'!$D$212 -> 180667.26 | F123: ='Wariant konwencjonalny'!$C$213 -> 28.543056 | G123: ='Wariant konwencjonalny'!$D$213 -> 2890676.2 | H123: ='Wariant elektryczny 1'!$C$215 -> 1.7963967 | I123: ='Wariant elektryczny 1'!$D$215 -> 181750 | J123: ='Wariant elektryczny 1'!$C$216 -> 28.742347 | K123: ='Wariant elektryczny 1'!$D$216 -> 2907999.9 | L123: ='Wariant elektryczny 2'!$C$215 -> 1.8651098 | M123: ='Wariant elektryczny 2'!$D$215 -> 189338.86 | N123: ='Wariant elektryczny 2'!$C$216 -> 29.841758 | O123: ='Wariant elektryczny 2'!$D$216 -> 3029421.7
B124: Emisja NMVOC | D124: ='Wariant konwencjonalny'!$C$215 -> 0.57978083 | E124: ='Wariant konwencjonalny'!$D$215 -> 7334.1442 | F124: ='Wariant konwencjonalny'!$C$216 -> 9.2764932 | G124: ='Wariant konwencjonalny'!$D$216 -> 117346.31 | H124: ='Wariant elektryczny 1'!$C$218 -> 0.47833155 | I124: ='Wariant elektryczny 1'!$D$218 -> 5926.1362 | J124: ='Wariant elektryczny 1'!$C$219 -> 7.6533048 | K124: ='Wariant elektryczny 1'!$D$219 -> 94818.179 | L124: ='Wariant elektryczny 2'!$C$218 -> 0.48487461 | M124: ='Wariant elektryczny 2'!$D$218 -> 6016.9038 | N124: ='Wariant elektryczny 2'!$C$219 -> 7.7579938 | O124: ='Wariant elektryczny 2'!$D$219 -> 96270.461
B125: Emisja PM | D125: ='Wariant konwencjonalny'!$C$218 -> 0.044598525 | E125: ='Wariant konwencjonalny'!$D$218 -> 74455.987 | F125: ='Wariant konwencjonalny'!$C$219 -> 0.7135764 | G125: ='Wariant konwencjonalny'!$D$219 -> 1191295.8 | H125: ='Wariant elektryczny 1'!$C$221 -> 0.04570305 | I125: ='Wariant elektryczny 1'!$D$221 -> 76342.705 | J125: ='Wariant elektryczny 1'!$C$222 -> 0.7312488 | K125: ='Wariant elektryczny 1'!$D$222 -> 1221483.3 | L125: ='Wariant elektryczny 2'!$C$221 -> 0.047539579 | M125: ='Wariant elektryczny 2'!$D$221 -> 79685.786 | N125: ='Wariant elektryczny 2'!$C$222 -> 0.76063327 | O125: ='Wariant elektryczny 2'!$D$222 -> 1274972.6
...

Sheet przychody
A1: TABELA 1. | B1: POPYT NA USŁUGI TRANSPORTOWE
B2: Kategoria | C2: Jednostka | D2: =Założenia!E14 -> 2021 | E2: =D2+1 -> 2022 | F2: =E2+1 -> 2023 | G2: =F2+1 -> 2024 | H2: =G2+1 -> 2025 | I2: =H2+1 -> 2026 | J2: =I2+1 -> 2027 | K2: =J2+1 -> 2028 | L2: =K2+1 -> 2029 | ... S2: =R2+1 -> 2036
A4: 1 | B4: Praca eksploatacyjna - Plan | C4: [mln wzkm] | D4: =Założenia!D233/1000000 -> 2.198 | E4: =Założenia!E233/1000000 -> 2.2002384 | F4: =Założenia!F233/1000000 -> 2.2002384 | G4: =Założenia!G233/1000000 -> 2.2002384 | H4: =Założenia!H233/1000000 -> 2.2002384 | I4: =Założenia!I233/1000000 -> 2.2002384 | J4: =Założenia!J233/1000000 -> 2.2002384 | K4: =Założenia!K233/1000000 -> 2.20031 | ... S4: =Założenia!S233/1000000 -> 2.20031
A5: Liczba przewiezionych pasażerów i przychody z biletów
A6: 2 | B6: Liczba pasażerów | C6: [tys. osób] | D6: 9687.0968 | E6: 9438.7097 | F6: 5634.8387 | G6: 6390.861 | H6: 6877.1877 | I6: 7243.6146 | J6: 7540.7185 | K6: 7792.1656 | L6: 8011.0627 | M6: 8205.4759 | N6: 8380.7437 | O6: 8540.5936 | P6: 8687.7372 | Q6: 8824.2127 | R6: =Q6 -> 8824.2127 | S6: =R6 -> 8824.2127
A7: 3 | B7: Przychody z biletów | C7: [mln zł] | D7: 9.0370748 | E7: 8.5131129 | F7: 5.6134845 | G7: 6.3666418 | H7: 6.7422731 | I7: 6.9868592 | J7: 7.1540773 | K7: 7.269297 | L7: 7.4238979 | M7: 7.55325 | N7: 7.6626893 | O7: 7.7559565 | P7: 7.8357838 | Q7: 7.9588759 | R7: =Q7 -> 7.9588759 | S7: =R7 -> 7.9588759

Sheet Scenariusz bazowy
E2: 0 | F2: =E2+1 -> 1 | G2: =F2+1 -> 2 | H2: =G2+1 -> 3 | I2: =H2+1 -> 4 | J2: =I2+1 -> 5 | K2: =J2+1 -> 6 | L2: =K2+1 -> 7 | M2: =L2+1 -> 8 | ... T2: =S2+1 -> 15
B3: Kalkulacja dla scenariusza bazowego
B5: Kategoria | C5: Jednostka | D5: Suma | E5: =Założenia!E6 -> 2021 | F5: =E5+1 -> 2022 | G5: =F5+1 -> 2023 | H5: =G5+1 -> 2024 | I5: =H5+1 -> 2025 | J5: =I5+1 -> 2026 | K5: =J5+1 -> 2027 | L5: =K5+1 -> 2028 | M5: =L5+1 -> 2029 | ... T5: =S5+1 -> 2036
A8: TABELA 1. | B8: KOSZTY BEZPOŚREDNIE EKSPLOATACJI AUTOBUSÓW
A9: 1. | B9: Przychody | C9: PLN | E9: =przychody!D7*1000000 -> 9037074.8 | F9: =przychody!E7*1000000 -> 8513112.9 | G9: =przychody!F7*1000000 -> 5613484.5 | H9: =przychody!G7*1000000 -> 6366641.8 | I9: =przychody!H7*1000000 -> 6742273.1 | J9: =przychody!I7*1000000 -> 6986859.2 | K9: =przychody!J7*1000000 -> 7154077.3 | L9: =przychody!K7*1000000 -> 7269297 | ... T9: =przychody!S7*1000000 -> 7958875.9
A10: 2. | B10: Koszty operacyjne, w tym: | C10: PLN | E10: =E11+E40 -> 12298793 | F10: =F11+F40 -> 12356901 | G10: =G11+G40 -> 12412205 | H10: =H11+H40 -> 12467509 | I10: =I11+I40 -> 12522813 | J10: =J11+J40 -> 12578118 | K10: =K11+K40 -> 12849108 | L10: =L11+L40 -> 12979931 | ... T10: =T11+T40 -> 13107135
A11: A. | B11: Koszty bezpośrednie | E11: =E12+E33+E35+E36+E37+E34 -> 10950076 | F11: =F12+F33+F35+F36+F37+F34 -> 11008185 | G11: =G12+G33+G35+G36+G37+G34 -> 11063489 | H11: =H12+H33+H35+H36+H37+H34 -> 11118793 | I11: =I12+I33+I35+I36+I37+I34 -> 11174097 | J11: =J12+J33+J35+J36+J37+J34 -> 11229401 | K11: =K12+K33+K35+K36+K37+K34 -> 11500391 | L11: =L12+L33+L35+L36+L37+L34 -> 11631215 | ... T11: =T12+T33+T35+T36+T37+T34 -> 11758418
A12: 2.1. | B12: zużycie materiałów i energii: | C12: PLN | E12: =E13+E15+E24 -> 2210847.3 | F12: =F13+F15+F24 -> 2234160.5 | G12: =G13+G15+G24 -> 2255363.1 | H12: =H13+H15+H24 -> 2276565.7 | I12: =I13+I15+I24 -> 2297768.4 | J12: =J13+J15+J24 -> 2318971 | K12: =K13+K15+K24 -> 2422863.9 | L12: =L13+L15+L24 -> 2464589.9 | ... T12: =T13+T15+T24 -> 2513357.5
A13: 2.1.1. | B13: energia | C13: PLN | E13: =Założenia!$E$213+E14 -> 138358 | F13: =Założenia!$E$213+F14 -> 138358 | G13: =Założenia!$E$213+G14 -> 138358 | H13: =Założenia!$E$213+H14 -> 138358 | I13: =Założenia!$E$213+I14 -> 138358 | J13: =Założenia!$E$213+J14 -> 138358 | K13: =Założenia!$E$213+K14 -> 138358 | L13: =Założenia!$E$213+L14 -> 138358 | ... T13: =Założenia!$E$213+T14 -> 138358
B14: autobusy elektryczne | C14: PLN | E14: 0 | F14: 0 | G14: 0 | H14: 0 | I14: 0 | J14: 0 | K14: 0 | L14: 0 | M14: 0 | N14: 0 | O14: 0 | P14: 0 | Q14: 0 | R14: 0 | S14: 0 | T14: 0
A15: 2.1.2. | B15: paliwo | C15: PLN | E15: =E16 -> 1648868 | F15: =F16 -> 1650547.1 | G15: =G16 -> 1650547.1 | H15: =H16 -> 1650547.1 | I15: =I16 -> 1650547.1 | J15: =J16 -> 1650547.1 | K15: =K16 -> 1650547.1 | L15: =L16 -> 1645269 | ... T15: =T16 -> 1645269
A16: 2.1.2.1. | B16: ON: | C16: PLN | E16: =SUM(E17:E23) -> 1648868 | F16: =SUM(F17:F23) -> 1650547.1 | G16: =SUM(G17:G23) -> 1650547.1 | H16: =SUM(H17:H23) -> 1650547.1 | I16: =SUM(I17:I23) -> 1650547.1 | J16: =SUM(J17:J23) -> 1650547.1 | K16: =SUM(K17:K23) -> 1650547.1 | L16: =SUM(L17:L23) -> 1645269 | ... T16: =SUM(T17:T23) -> 1645269
B17: EURO I | C17: PLN | E17: =(Założenia!D247*Założenia!D258*Założenia!$G53/100)*Założenia!$E$175 -> 0 | F17: =(Założenia!E247*Założenia!E258*Założenia!$G53/100)*Założenia!$E$175 -> 0 | G17: =(Założenia!F247*Założenia!F258*Założenia!$G53/100)*Założenia!$E$175 -> 0 | H17: =(Założenia!G247*Założenia!G258*Założenia!$G53/100)*Założenia!$E$175 -> 0 | I17: =(Założenia!H247*Założenia!H258*Założenia!$G53/100)*Założenia!$E$175 -> 0 | J17: =(Założenia!I247*Założenia!I258*Założenia!$G53/100)*Założenia!$E$175 -> 0 | K17: =(Założenia!J247*Założenia!J258*Założenia!$G53/100)*Założenia!$E$175 -> 0 | L17: =(Założenia!K247*Założenia!K258*Założenia!$G53/100)*Założenia!$E$175 -> 0 | ... T17: =(Założenia!S247*Założenia!S258*Założenia!$G53/100)*Założenia!$E$175 -> 0
B18: EURO II | C18: PLN | E18: =(Założenia!D248*Założenia!D$263*Założenia!$G54/100)*Założenia!$E$175 -> 0 | F18: =(Założenia!E248*Założenia!E$263*Założenia!$G54/100)*Założenia!$E$175 -> 0 | G18: =(Założenia!F248*Założenia!F$263*Założenia!$G54/100)*Założenia!$E$175 -> 0 | H18: =(Założenia!G248*Założenia!G$263*Założenia!$G54/100)*Założenia!$E$175 -> 0 | I18: =(Założenia!H248*Założenia!H$263*Założenia!$G54/100)*Założenia!$E$175 -> 0 | J18: =(Założenia!I248*Założenia!I$263*Założenia!$G54/100)*Założenia!$E$175 -> 0 | K18: =(Założenia!J248*Założenia!J$263*Założenia!$G54/100)*Założenia!$E$175 -> 0 | L18: =(Założenia!K248*Założenia!K$263*Założenia!$G54/100)*Założenia!$E$175 -> 0 | ... T18: =(Założenia!S248*Założenia!S$263*Założenia!$G54/100)*Założenia!$E$175 -> 0
B19: EURO III | C19: PLN | E19: =(Założenia!D249*Założenia!D$263*Założenia!$G55/100)*Założenia!$E$175 -> 0 | F19: =(Założenia!E249*Założenia!E$263*Założenia!$G55/100)*Założenia!$E$175 -> 0 | G19: =(Założenia!F249*Założenia!F$263*Założenia!$G55/100)*Założenia!$E$175 -> 0 | H19: =(Założenia!G249*Założenia!G$263*Założenia!$G55/100)*Założenia!$E$175 -> 0 | I19: =(Założenia!H249*Założenia!H$263*Założenia!$G55/100)*Założenia!$E$175 -> 0 | J19: =(Założenia!I249*Założenia!I$263*Założenia!$G55/100)*Założenia!$E$175 -> 0 | K19: =(Założenia!J249*Założenia!J$263*Założenia!$G55/100)*Założenia!$E$175 -> 0 | L19: =(Założenia!K249*Założenia!K$263*Założenia!$G55/100)*Założenia!$E$175 -> 0 | ... T19: =(Założenia!S249*Założenia!S$263*Założenia!$G55/100)*Założenia!$E$175 -> 0
B20: EURO IV | C20: PLN | E20: =(Założenia!D250*Założenia!D$263*Założenia!$G56/100)*Założenia!$E$175 -> 0 | F20: =(Założenia!E250*Założenia!E$263*Założenia!$G56/100)*Założenia!$E$175 -> 0 | G20: =(Założenia!F250*Założenia!F$263*Założenia!$G56/100)*Założenia!$E$175 -> 0 | H20: =(Założenia!G250*Założenia!G$263*Założenia!$G56/100)*Założenia!$E$175 -> 0 | I20: =(Założenia!H250*Założenia!H$263*Założenia!$G56/100)*Założenia!$E$175 -> 0 | J20: =(Założenia!I250*Założenia!I$263*Założenia!$G56/100)*Założenia!$E$175 -> 0 | K20: =(Założenia!J250*Założenia!J$263*Założenia!$G56/100)*Założenia!$E$175 -> 0 | L20: =(Założenia!K250*Założenia!K$263*Założenia!$G56/100)*Założenia!$E$175 -> 0 | ... T20: =(Założenia!S250*Założenia!S$263*Założenia!$G56/100)*Założenia!$E$175 -> 0
B21: EURO V | C21: PLN | E21: =(Założenia!D251*Założenia!D$263*Założenia!$G57/100)*Założenia!$E$175 -> 0 | F21: =(Założenia!E251*Założenia!E$263*Założenia!$G57/100)*Założenia!$E$175 -> 0 | G21: =(Założenia!F251*Założenia!F$263*Założenia!$G57/100)*Założenia!$E$175 -> 0 | H21: =(Założenia!G251*Założenia!G$263*Założenia!$G57/100)*Założenia!$E$175 -> 0 | I21: =(Założenia!H251*Założenia!H$263*Założenia!$G57/100)*Założenia!$E$175 -> 0 | J21: =(Założenia!I251*Założenia!I$263*Założenia!$G57/100)*Założenia!$E$175 -> 0 | K21: =(Założenia!J251*Założenia!J$263*Założenia!$G57/100)*Założenia!$E$175 -> 0 | L21: =(Założenia!K251*Założenia!K$263*Założenia!$G57/100)*Założenia!$E$175 -> 0 | ... T21: =(Założenia!S251*Założenia!S$263*Założenia!$G57/100)*Założenia!$E$175 -> 0
B22: EURO VI | C22: PLN | E22: =(Założenia!D252*Założenia!D$263*Założenia!$G58/100)*Założenia!$E$175+(Założenia!D244*Założenia!D262*Założenia!$E$58/100)*Założenia!$E$175 -> 1648868 | F22: =(Założenia!E252*Założenia!E$263*Założenia!$G58/100)*Założenia!$E$175+(Założenia!E244*Założenia!E262*Założenia!$E$58/100)*Założenia!$E$175 -> 1650547.1 | G22: =(Założenia!F252*Założenia!F$263*Założenia!$G58/100)*Założenia!$E$175+(Założenia!F244*Założenia!F262*Założenia!$E$58/100)*Założenia!$E$175 -> 1650547.1 | H22: =(Założenia!G252*Założenia!G$263*Założenia!$G58/100)*Założenia!$E$175+(Założenia!G244*Założenia!G262*Założenia!$E$58/100)*Założenia!$E$175 -> 1650547.1 | I22: =(Założenia!H252*Założenia!H$263*Założenia!$G58/100)*Założenia!$E$175+(Założenia!H244*Założenia!H262*Założenia!$E$58/100)*Założenia!$E$175 -> 1650547.1 | J22: =(Założenia!I252*Założenia!I$263*Założenia!$G58/100)*Założenia!$E$175+(Założenia!I244*Założenia!I262*Założenia!$E$58/100)*Założenia!$E$175 -> 1650547.1 | K22: =(Założenia!J252*Założenia!J$263*Założenia!$G58/100)*Założenia!$E$175+(Założenia!J244*Założenia!J262*Założenia!$E$58/100)*Założenia!$E$175 -> 1650547.1 | L22: =(Założenia!K252*Założenia!K$263*Założenia!$G58/100)*Założenia!$E$175+(Założenia!K244*Założenia!K262*Założenia!$E$58/100)*Założenia!$E$175 -> 1645269 | ... T22: =(Założenia!S252*Założenia!S$263*Założenia!$G58/100)*Założenia!$E$175+(Założenia!S244*Założenia!S262*Założenia!$E$58/100)*Założenia!$E$175 -> 1645269
B23: EURO VI HYBRYDA | C23: PLN | E23: =(Założenia!D253*Założenia!D$264*Założenia!$G59/100)*Założenia!$E$175 -> 0 | F23: =(Założenia!E253*Założenia!E$264*Założenia!$G59/100)*Założenia!$E$175 -> 0 | G23: =(Założenia!F253*Założenia!F$264*Założenia!$G59/100)*Założenia!$E$175 -> 0 | H23: =(Założenia!G253*Założenia!G$264*Założenia!$G59/100)*Założenia!$E$175 -> 0 | I23: =(Założenia!H253*Założenia!H$264*Założenia!$G59/100)*Założenia!$E$175 -> 0 | J23: =(Założenia!I253*Założenia!I$264*Założenia!$G59/100)*Założenia!$E$175 -> 0 | K23: =(Założenia!J253*Założenia!J$264*Założenia!$G59/100)*Założenia!$E$175 -> 0 | L23: =(Założenia!K253*Założenia!K$264*Założenia!$G59/100)*Założenia!$E$175 -> 0 | ... T23: =(Założenia!S253*Założenia!S$264*Założenia!$G59/100)*Założenia!$E$175 -> 0
A24: 2.1.3. | B24: części, materiały eksploatacyjne i inne | C24: PLN | E24: =(E25++E32)*(1+(Założenia!D266-Założenia!$D$266)*Założenia!$E$182) -> 423621.27 | F24: =(F25++F32)*(1+(Założenia!E266-Założenia!$D$266)*Założenia!$E$182) -> 445255.3 | G24: =(G25++G32)*(1+(Założenia!F266-Założenia!$D$266)*Założenia!$E$182) -> 466457.94 | H24: =(H25++H32)*(1+(Założenia!G266-Założenia!$D$266)*Założenia!$E$182) -> 487660.57 | I24: =(I25++I32)*(1+(Założenia!H266-Założenia!$D$266)*Założenia!$E$182) -> 508863.2 | J24: =(J25++J32)*(1+(Założenia!I266-Założenia!$D$266)*Założenia!$E$182) -> 530065.84 | K24: =(K25++K32)*(1+(Założenia!J266-Założenia!$D$266)*Założenia!$E$182) -> 633958.74 | L24: =(L25++L32)*(1+(Założenia!K266-Założenia!$D$266)*Założenia!$E$182) -> 680962.84 | ... T24: =(T25++T32)*(1+(Założenia!S266-Założenia!$D$266)*Założenia!$E$182) -> 729730.49
B25: ON: | C25: PLN | E25: =SUM(E26:E31) -> 423621.27 | F25: =SUM(F26:F31) -> 424052.67 | G25: =SUM(G26:G31) -> 424052.67 | H25: =SUM(H26:H31) -> 424052.67 | I25: =SUM(I26:I31) -> 424052.67 | J25: =SUM(J26:J31) -> 424052.67 | K25: =SUM(K26:K31) -> 487660.57 | L25: =SUM(L26:L31) -> 487676.45 | ... T25: =SUM(T26:T31) -> 487676.45
B26: EURO I | C26: PLN | E26: =(Założenia!D247*Założenia!D$263)*Założenia!$E$177 -> 0 | F26: =(Założenia!E247*Założenia!E$263)*Założenia!$E$177 -> 0 | G26: =(Założenia!F247*Założenia!F$263)*Założenia!$E$177 -> 0 | H26: =(Założenia!G247*Założenia!G$263)*Założenia!$E$177 -> 0 | I26: =(Założenia!H247*Założenia!H$263)*Założenia!$E$177 -> 0 | J26: =(Założenia!I247*Założenia!I$263)*Założenia!$E$177 -> 0 | K26: =(Założenia!J247*Założenia!J$263)*Założenia!$E$177 -> 0 | L26: =(Założenia!K247*Założenia!K$263)*Założenia!$E$177 -> 0 | ... T26: =(Założenia!S247*Założenia!S$263)*Założenia!$E$177 -> 0
B27: EURO II | C27: PLN | E27: =(Założenia!D248*Założenia!D$263)*Założenia!$E$177 -> 0 | F27: =(Założenia!E248*Założenia!E$263)*Założenia!$E$177 -> 0 | G27: =(Założenia!F248*Założenia!F$263)*Założenia!$E$177 -> 0 | H27: =(Założenia!G248*Założenia!G$263)*Założenia!$E$177 -> 0 | I27: =(Założenia!H248*Założenia!H$263)*Założenia!$E$177 -> 0 | J27: =(Założenia!I248*Założenia!I$263)*Założenia!$E$177 -> 0 | K27: =(Założenia!J248*Założenia!J$263)*Założenia!$E$177 -> 0 | L27: =(Założenia!K248*Założenia!K$263)*Założenia!$E$177 -> 0 | ... T27: =(Założenia!S248*Założenia!S$263)*Założenia!$E$177 -> 0
B28: EURO III | C28: PLN | E28: =(Założenia!D249*Założenia!D$263)*Założenia!$E$177 -> 0 | F28: =(Założenia!E249*Założenia!E$263)*Założenia!$E$177 -> 0 | G28: =(Założenia!F249*Założenia!F$263)*Założenia!$E$177 -> 0 | H28: =(Założenia!G249*Założenia!G$263)*Założenia!$E$177 -> 0 | I28: =(Założenia!H249*Założenia!H$263)*Założenia!$E$177 -> 0 | J28: =(Założenia!I249*Założenia!I$263)*Założenia!$E$177 -> 0 | K28: =(Założenia!J249*Założenia!J$263)*Założenia!$E$177 -> 0 | L28: =(Założenia!K249*Założenia!K$263)*Założenia!$E$177 -> 0 | ... T28: =(Założenia!S249*Założenia!S$263)*Założenia!$E$177 -> 0
B29: EURO IV | C29: PLN | E29: =(Założenia!D250*Założenia!D$263)*Założenia!$E$177 -> 0 | F29: =(Założenia!E250*Założenia!E$263)*Założenia!$E$177 -> 0 | G29: =(Założenia!F250*Założenia!F$263)*Założenia!$E$177 -> 0 | H29: =(Założenia!G250*Założenia!G$263)*Założenia!$E$177 -> 0 | I29: =(Założenia!H250*Założenia!H$263)*Założenia!$E$177 -> 0 | J29: =(Założenia!I250*Założenia!I$263)*Założenia!$E$177 -> 0 | K29: =(Założenia!J250*Założenia!J$263)*Założenia!$E$177 -> 0 | L29: =(Założenia!K250*Założenia!K$263)*Założenia!$E$177 -> 0 | ... T29: =(Założenia!S250*Założenia!S$263)*Założenia!$E$177 -> 0
B30: EURO V | C30: PLN | E30: =(Założenia!D251*Założenia!D$263)*Założenia!$E$177 -> 0 | F30: =(Założenia!E251*Założenia!E$263)*Założenia!$E$177 -> 0 | G30: =(Założenia!F251*Założenia!F$263)*Założenia!$E$177 -> 0 | H30: =(Założenia!G251*Założenia!G$263)*Założenia!$E$177 -> 0 | I30: =(Założenia!H251*Założenia!H$263)*Założenia!$E$177 -> 0 | J30: =(Założenia!I251*Założenia!I$263)*Założenia!$E$177 -> 0 | K30: =(Założenia!J251*Założenia!J$263)*Założenia!$E$177 -> 0 | L30: =(Założenia!K251*Założenia!K$263)*Założenia!$E$177 -> 0 | ... T30: =(Założenia!S251*Założenia!S$263)*Założenia!$E$177 -> 0
B31: EURO VI i EURO VI Hybryda | C31: PLN | E31: =(Założenia!D252*Założenia!D263+Założenia!D253*Założenia!D264+Założenia!D244*Założenia!D262)*Założenia!$E$177 -> 423621.27 | F31: =(Założenia!E252*Założenia!E263+Założenia!E253*Założenia!E264+Założenia!E244*Założenia!E262)*Założenia!$E$177 -> 424052.67 | G31: =(Założenia!F252*Założenia!F263+Założenia!F253*Założenia!F264+Założenia!F244*Założenia!F262)*Założenia!$E$177 -> 424052.67 | H31: =(Założenia!G252*Założenia!G263+Założenia!G253*Założenia!G264+Założenia!G244*Założenia!G262)*Założenia!$E$177 -> 424052.67 | I31: =(Założenia!H252*Założenia!H263+Założenia!H253*Założenia!H264+Założenia!H244*Założenia!H262)*Założenia!$E$177 -> 424052.67 | J31: =(Założenia!I252*Założenia!I263+Założenia!I253*Założenia!I264+Założenia!I244*Założenia!I262)*Założenia!$E$177 -> 424052.67 | K31: =(Założenia!J252*Założenia!J263+Założenia!J253*Założenia!J264+Założenia!J244*Założenia!J262)*Założenia!$E$177*Założenia!$E$181 -> 487660.57 | L31: =(Założenia!K252*Założenia!K263+Założenia!K253*Założenia!K264+Założenia!K244*Założenia!K262)*Założenia!$E$177*Założenia!$E$181 -> 487676.45 | M31: =(Założenia!L252*Założenia!L263+Założenia!L253*Założenia!L264+Założenia!L244*Założenia!L262)*Założenia!$E$177*Założenia!$E$181 -> 487676.45 | N31: =(Założenia!M252*Założenia!M263+Założenia!M253*Założenia!M264+Założenia!M244*Założenia!M262)*Założenia!$E$177*Założenia!$E$181 -> 487676.45 | O31: =(Założenia!N252*Założenia!N263+Założenia!N253*Założenia!N264+Założenia!N244*Założenia!N262)*Założenia!$E$177*Założenia!$E$181 -> 487676.45 | P31: =(Założenia!O252*Założenia!O263+Założenia!O253*Założenia!O264+Założenia!O244*Założenia!O262)*Założenia!$E$177*Założenia!$E$181 -> 487676.45 | Q31: =(Założenia!P252*Założenia!P263+Założenia!P253*Założenia!P264+Założenia!P244*Założenia!P262)*Założenia!$E$177*Założenia!$E$181 -> 487676.45 | R31: =(Założenia!Q252*Założenia!Q263+Założenia!Q253*Założenia!Q264+Założenia!Q244*Założenia!Q262)*Założenia!$E$177*Założenia!$E$181 -> 487676.45 | ... T31: =(Założenia!S252*Założenia!S263+Założenia!S253*Założenia!S264+Założenia!S244*Założenia!S262)*Założenia!$E$177*Założenia!$E$181 -> 487676.45
B32: ELEKTRYCZNE | C32: PLN | E32: 0 | F32: 0 | G32: 0 | H32: 0 | I32: 0 | J32: 0 | K32: 0 | L32: 0 | M32: 0 | N32: 0 | O32: 0 | P32: 0 | Q32: 0 | R32: 0 | S32: 0 | T32: 0
A33: 2.2. | B33: usługi obce | C33: PLN | E33: =((SUM(Założenia!D247:D251)*Założenia!D263)*Założenia!$E$178+(Założenia!D252*Założenia!D263+Założenia!D253*Założenia!D264+Założenia!D244*Założenia!D262)*Założenia!$E$178+(Założenia!D254*Założenia!D265)*Założenia!$E$178*Założenia!$E$180)*(1+(Założenia!D266-Założenia!$D$266)*Założenia!$E$182)+Opcje!E20*Założenia!$E$197+Opcje!E21*Założenia!$E$196 -> 681335.38 | F33: =((SUM(Założenia!E247:E251)*Założenia!E263)*Założenia!$E$178+(Założenia!E252*Założenia!E263+Założenia!E253*Założenia!E264+Założenia!E244*Założenia!E262)*Założenia!$E$178+(Założenia!E254*Założenia!E265)*Założenia!$E$178*Założenia!$E$180)*(1+(Założenia!E266-Założenia!$D$266)*Założenia!$E$182)+Opcje!F20*Założenia!$E$197+Opcje!F21*Założenia!$E$196 -> 716130.68 | G33: =((SUM(Założenia!F247:F251)*Założenia!F263)*Założenia!$E$178+(Założenia!F252*Założenia!F263+Założenia!F253*Założenia!F264+Założenia!F244*Założenia!F262)*Założenia!$E$178+(Założenia!F254*Założenia!F265)*Założenia!$E$178*Założenia!$E$180)*(1+(Założenia!F266-Założenia!$D$266)*Założenia!$E$182)+Opcje!G20*Założenia!$E$197+Opcje!G21*Założenia!$E$196 -> 750232.15 | H33: =((SUM(Założenia!G247:G251)*Założenia!G263)*Założenia!$E$178+(Założenia!G252*Założenia!G263+Założenia!G253*Założenia!G264+Założenia!G244*Założenia!G262)*Założenia!$E$178+(Założenia!G254*Założenia!G265)*Założenia!$E$178*Założenia!$E$180)*(1+(Założenia!G266-Założenia!$D$266)*Założenia!$E$182)+Opcje!H20*Założenia!$E$197+Opcje!H21*Założenia!$E$196 -> 784333.61 | I33: =((SUM(Założenia!H247:H251)*Założenia!H263)*Założenia!$E$178+(Założenia!H252*Założenia!H263+Założenia!H253*Założenia!H264+Założenia!H244*Założenia!H262)*Założenia!$E$178+(Założenia!H254*Założenia!H265)*Założenia!$E$178*Założenia!$E$180)*(1+(Założenia!H266-Założenia!$D$266)*Założenia!$E$182)+Opcje!I20*Założenia!$E$197+Opcje!I21*Założenia!$E$196 -> 818435.07 | J33: =((SUM(Założenia!I247:I251)*Założenia!I263)*Założenia!$E$178+(Założenia!I252*Założenia!I263+Założenia!I253*Założenia!I264+Założenia!I244*Założenia!I262)*Założenia!$E$178+(Założenia!I254*Założenia!I265)*Założenia!$E$178*Założenia!$E$180)*(1+(Założenia!I266-Założenia!$D$266)*Założenia!$E$182)+Opcje!J20*Założenia!$E$197+Opcje!J21*Założenia!$E$196 -> 852536.53 | K33: =((SUM(Założenia!J247:J251)*Założenia!J263)*Założenia!$E$178+(Założenia!J252*Założenia!J263+Założenia!J253*Założenia!J264+Założenia!J244*Założenia!J262)*Założenia!$E$178*Założenia!$E$181+(Założenia!J254*Założenia!J265)*Założenia!$E$178*Założenia!$E$180)*(1+(Założenia!J266-Założenia!$D$266)*Założenia!$E$182)+Opcje!K20*Założenia!$E$197+Opcje!K21*Założenia!$E$196 -> 1019633.7 | L33: =((SUM(Założenia!K247:K251)*Założenia!K263)*Założenia!$E$178+(Założenia!K252*Założenia!K263+Założenia!K253*Założenia!K264+Założenia!K244*Założenia!K262)*Założenia!$E$178*Założenia!$E$181+(Założenia!K254*Założenia!K265)*Założenia!$E$178*Założenia!$E$180)*(1+(Założenia!K266-Założenia!$D$266)*Założenia!$E$182)+Opcje!L20*Założenia!$E$197+Opcje!L21*Założenia!$E$196 -> 1095233.2 | M33: =((SUM(Założenia!L247:L251)*Założenia!L263)*Założenia!$E$178+(Założenia!L252*Założenia!L263+Założenia!L253*Założenia!L264+Założenia!L244*Założenia!L262)*Założenia!$E$178*Założenia!$E$181+(Założenia!L254*Założenia!L265)*Założenia!$E$178*Założenia!$E$180)*(1+(Założenia!L266-Założenia!$D$266)*Założenia!$E$182)+Opcje!M20*Założenia!$E$197+Opcje!M21*Założenia!$E$196 -> 1134451.2 | N33: =((SUM(Założenia!M247:M251)*Założenia!M263)*Założenia!$E$178+(Założenia!M252*Założenia!M263+Założenia!M253*Założenia!M264+Założenia!M244*Założenia!M262)*Założenia!$E$178*Założenia!$E$181+(Założenia!M254*Założenia!M265)*Założenia!$E$178*Założenia!$E$180)*(1+(Założenia!M266-Założenia!$D$266)*Założenia!$E$182)+Opcje!N20*Założenia!$E$197+Opcje!N21*Założenia!$E$196 -> 1173669.1 | O33: =((SUM(Założenia!N247:N251)*Założenia!N263)*Założenia!$E$178+(Założenia!N252*Założenia!N263+Założenia!N253*Założenia!N264+Założenia!N244*Założenia!N262)*Założenia!$E$178*Założenia!$E$181+(Założenia!N254*Założenia!N265)*Założenia!$E$178*Założenia!$E$180)*(1+(Założenia!N266-Założenia!$D$266)*Założenia!$E$182)+Opcje!O20*Założenia!$E$197+Opcje!O21*Założenia!$E$196 -> 1212887.1 | P33: =((SUM(Założenia!O247:O251)*Założenia!O263)*Założenia!$E$178+(Założenia!O252*Założenia!O263+Założenia!O253*Założenia!O264+Założenia!O244*Założenia!O262)*Założenia!$E$178*Założenia!$E$181+(Założenia!O254*Założenia!O265)*Założenia!$E$178*Założenia!$E$180)*(1+(Założenia!O266-Założenia!$D$266)*Założenia!$E$182)+Opcje!P20*Założenia!$E$197+Opcje!P21*Założenia!$E$196 -> 1252105 | Q33: =((SUM(Założenia!P247:P251)*Założenia!P263)*Założenia!$E$178+(Założenia!P252*Założenia!P263+Założenia!P253*Założenia!P264+Założenia!P244*Założenia!P262)*Założenia!$E$178*Założenia!$E$181+(Założenia!P254*Założenia!P265)*Założenia!$E$178*Założenia!$E$180)*(1+(Założenia!P266-Założenia!$D$266)*Założenia!$E$182)+Opcje!Q20*Założenia!$E$197+Opcje!Q21*Założenia!$E$196 -> 1291323 | R33: =((SUM(Założenia!Q247:Q251)*Założenia!Q263)*Założenia!$E$178+(Założenia!Q252*Założenia!Q263+Założenia!Q253*Założenia!Q264+Założenia!Q244*Założenia!Q262)*Założenia!$E$178*Założenia!$E$181+(Założenia!Q254*Założenia!Q265)*Założenia!$E$178*Założenia!$E$180)*(1+(Założenia!Q266-Założenia!$D$266)*Założenia!$E$182)+Opcje!R20*Założenia!$E$197+Opcje!R21*Założenia!$E$196 -> 1095233.2 | ... T33: =((SUM(Założenia!S247:S251)*Założenia!S263)*Założenia!$E$178+(Założenia!S252*Założenia!S263+Założenia!S253*Założenia!S264+Założenia!S244*Założenia!S262)*Założenia!$E$178*Założenia!$E$181+(Założenia!S254*Założenia!S265)*Założenia!$E$178*Założenia!$E$180)*(1+(Założenia!S266-Założenia!$D$266)*Założenia!$E$182)+Opcje!T20*Założenia!$E$197+Opcje!T21*Założenia!$E$196 -> 1173669.1
A34: 2.3. | B34: podatki i opłaty | C34: PLN | E34: =Założenia!$E$218 -> 337789.35 | F34: =Założenia!$E$218 -> 337789.35 | G34: =Założenia!$E$218 -> 337789.35 | H34: =Założenia!$E$218 -> 337789.35 | I34: =Założenia!$E$218 -> 337789.35 | J34: =Założenia!$E$218 -> 337789.35 | K34: =Założenia!$E$218 -> 337789.35 | L34: =Założenia!$E$218 -> 337789.35 | ... T34: =Założenia!$E$218 -> 337789.35
A35: 2.4. | B35: wynagrodzenia | C35: PLN | E35: =Założenia!$E$209 -> 5097501.7 | F35: =Założenia!$E$209 -> 5097501.7 | G35: =Założenia!$E$209 -> 5097501.7 | H35: =Założenia!$E$209 -> 5097501.7 | I35: =Założenia!$E$209 -> 5097501.7 | J35: =Założenia!$E$209 -> 5097501.7 | K35: =Założenia!$E$209 -> 5097501.7 | L35: =Założenia!$E$209 -> 5097501.7 | ... T35: =Założenia!$E$209 -> 5097501.7
A36: 2.5. | B36: świadczenia na rzecz pracowników, w tym m.in. | C36: PLN | E36: =Założenia!$E$210 -> 1372905.9 | F36: =Założenia!$E$210 -> 1372905.9 | G36: =Założenia!$E$210 -> 1372905.9 | H36: =Założenia!$E$210 -> 1372905.9 | I36: =Założenia!$E$210 -> 1372905.9 | J36: =Założenia!$E$210 -> 1372905.9 | K36: =Założenia!$E$210 -> 1372905.9 | L36: =Założenia!$E$210 -> 1372905.9 | ... T36: =Założenia!$E$210 -> 1372905.9
A37: 2.7. | B37: pozostałe | C37: PLN | E37: =E38+E39 -> 1249696.5 | F37: =F38+F39 -> 1249696.5 | G37: =G38+G39 -> 1249696.5 | H37: =H38+H39 -> 1249696.5 | I37: =I38+I39 -> 1249696.5 | J37: =J38+J39 -> 1249696.5 | K37: =K38+K39 -> 1249696.5 | L37: =L38+L39 -> 1263194.8 | ... T37: =T38+T39 -> 1263194.8
A38: 2.7.1. | B38: ubezpieczenia autobusów | C38: PLN | E38: =Założenia!$F$229*Założenia!D243 -> 276716 | F38: =Założenia!$F$229*Założenia!E243 -> 276716 | G38: =Założenia!$F$229*Założenia!F243 -> 276716 | H38: =Założenia!$F$229*Założenia!G243 -> 276716 | I38: =Założenia!$F$229*Założenia!H243 -> 276716 | J38: =Założenia!$F$229*Założenia!I243 -> 276716 | K38: =Założenia!$F$229*Założenia!J243 -> 276716 | L38: =Założenia!$F$229*Założenia!K243 -> 290214.34 | ... T38: =Założenia!$F$229*Założenia!S243 -> 290214.34
A39: 2.7.2. | B39: inne | C39: PLN | E39: =Założenia!$E$220 -> 972980.47 | F39: =Założenia!$E$220 -> 972980.47 | G39: =Założenia!$E$220 -> 972980.47 | H39: =Założenia!$E$220 -> 972980.47 | I39: =Założenia!$E$220 -> 972980.47 | J39: =Założenia!$E$220 -> 972980.47 | K39: =Założenia!$E$220 -> 972980.47 | L39: =Założenia!$E$220 -> 972980.47 | ... T39: =Założenia!$E$220 -> 972980.47
A40: B. | B40: Koszty ogólne | C40: PLN | E40: =Założenia!$E222 -> 1348716.5 | F40: =Założenia!$E222 -> 1348716.5 | G40: =Założenia!$E222 -> 1348716.5 | H40: =Założenia!$E222 -> 1348716.5 | I40: =Założenia!$E222 -> 1348716.5 | J40: =Założenia!$E222 -> 1348716.5 | K40: =Założenia!$E222 -> 1348716.5 | L40: =Założenia!$E222 -> 1348716.5 | ... T40: =Założenia!$E222 -> 1348716.5
A42: TABELA 2. | B42: EFEKTY ZEWNĘTRZNE
A43: 1. | B43: Skutki zmian klimatycznych: | C43: PLN | E43: =E45*E50 -> 225256.51 | F43: =F45*F50 -> 231928.36 | G43: =G45*G50 -> 238370.81 | H43: =H45*H50 -> 244813.27 | I43: =I45*I50 -> 251255.72 | J43: =J45*J50 -> 257698.18 | K43: =K45*K50 -> 264140.63 | L43: =L45*L50 -> 269717.81 | ... T43: =T45*T50 -> 321092.63
B44: Wskaźnik emisji CO2 przez silnik ON | C44: kgCO2/l | E44: =Założenia!E114 -> 2.68 | F44: =Założenia!F114 -> 2.68 | G44: =Założenia!G114 -> 2.68 | H44: =Założenia!H114 -> 2.68 | I44: =Założenia!I114 -> 2.68 | J44: =Założenia!J114 -> 2.68 | K44: =Założenia!K114 -> 2.68 | L44: =Założenia!L114 -> 2.68 | ... T44: =Założenia!T114 -> 2.68
B45: Jednostkowy koszt CO2 | C45: PLN/tCO2 | E45: =Założenia!E115 -> 188.60725 | F45: =Założenia!F115 -> 193.99603 | G45: =Założenia!G115 -> 199.38481 | H45: =Założenia!H115 -> 204.77359 | I45: =Założenia!I115 -> 210.16237 | J45: =Założenia!J115 -> 215.55115 | K45: =Założenia!K115 -> 220.93993 | L45: =Założenia!L115 -> 226.3287 | ... T45: =Założenia!T115 -> 269.43893
B46: Średnia liczba wozokilometrów na autobus ON poniżej 10 m | C46: wzkm/rok | E46: =Założenia!D262 -> 52086.957 | F46: =Założenia!E262 -> 52140 | G46: =Założenia!F262 -> 52140 | H46: =Założenia!G262 -> 52140 | I46: =Założenia!H262 -> 52140 | J46: =Założenia!I262 -> 52140 | K46: =Założenia!J262 -> 52140 | L46: =Założenia!K262 -> 51170 | ... T46: =Założenia!S262 -> 51170
B47: Średnia liczba wozokilometrów na autobus ON | C47: wzkm/rok | E47: =Założenia!D263 -> 55555.556 | F47: =Założenia!E263 -> 55612.131 | G47: =Założenia!F263 -> 55612.131 | H47: =Założenia!G263 -> 55612.131 | I47: =Założenia!H263 -> 55612.131 | J47: =Założenia!I263 -> 55612.131 | K47: =Założenia!J263 -> 55612.131 | L47: =Założenia!K263 -> 51170 | ... T47: =Założenia!S263 -> 51170
B48: Średnia liczba wozokilometrów na autobus ON hybryda | C48: wzkm/rok | E48: =Założenia!D264 -> 0 | F48: =Założenia!E264 -> 0 | G48: =Założenia!F264 -> 0 | H48: =Założenia!G264 -> 0 | I48: =Założenia!H264 -> 0 | J48: =Założenia!I264 -> 0 | K48: =Założenia!J264 -> 0 | L48: =Założenia!K264 -> 0 | ... T48: =Założenia!S264 -> 0
B49: Średnia liczba wozokilometrów na autobus ELEKTRYCZNY | C49: wzkm/rok | E49: =Założenia!D265 -> 0 | F49: =Założenia!E265 -> 0 | G49: =Założenia!F265 -> 0 | H49: =Założenia!G265 -> 0 | I49: =Założenia!H265 -> 0 | J49: =Założenia!I265 -> 0 | K49: =Założenia!J265 -> 0 | L49: =Założenia!K265 -> 0 | ... T49: =Założenia!S265 -> 0
B50: Ilość CO2, w tym: | C50: tCO2 | E50: =E51+E59 -> 1194.3152 | F50: =F51+F59 -> 1195.5314 | G50: =G51+G59 -> 1195.5314 | H50: =H51+H59 -> 1195.5314 | I50: =I51+I59 -> 1195.5314 | J50: =J51+J59 -> 1195.5314 | K50: =K51+K59 -> 1195.5314 | L50: =L51+L59 -> 1191.7084 | ... T50: =T51+T59 -> 1191.7084
B51: ON: | C51: tCO2 | E51: =SUM(E52:E58) -> 1194.3152 | F51: =SUM(F52:F58) -> 1195.5314 | G51: =SUM(G52:G58) -> 1195.5314 | H51: =SUM(H52:H58) -> 1195.5314 | I51: =SUM(I52:I58) -> 1195.5314 | J51: =SUM(J52:J58) -> 1195.5314 | K51: =SUM(K52:K58) -> 1195.5314 | L51: =SUM(L52:L58) -> 1191.7084 | ... T51: =SUM(T52:T58) -> 1191.7084
B52: EURO I | C52: tCO2 | E52: =Założenia!D247*E$47*E$44/1000*Założenia!$G53/100 -> 0 | F52: =Założenia!E247*F$47*F$44/1000*Założenia!$G53/100 -> 0 | G52: =Założenia!F247*G$47*G$44/1000*Założenia!$G53/100 -> 0 | H52: =Założenia!G247*H$47*H$44/1000*Założenia!$G53/100 -> 0 | I52: =Założenia!H247*I$47*I$44/1000*Założenia!$G53/100 -> 0 | J52: =Założenia!I247*J$47*J$44/1000*Założenia!$G53/100 -> 0 | K52: =Założenia!J247*K$47*K$44/1000*Założenia!$G53/100 -> 0 | L52: =Założenia!K247*L$47*L$44/1000*Założenia!$G53/100 -> 0 | ... T52: =Założenia!S247*T$47*T$44/1000*Założenia!$G53/100 -> 0
B53: EURO II | C53: tCO2 | E53: =Założenia!D248*E$47*E$44/1000*Założenia!$G54/100 -> 0 | F53: =Założenia!E248*F$47*F$44/1000*Założenia!$G54/100 -> 0 | G53: =Założenia!F248*G$47*G$44/1000*Założenia!$G54/100 -> 0 | H53: =Założenia!G248*H$47*H$44/1000*Założenia!$G54/100 -> 0 | I53: =Założenia!H248*I$47*I$44/1000*Założenia!$G54/100 -> 0 | J53: =Założenia!I248*J$47*J$44/1000*Założenia!$G54/100 -> 0 | K53: =Założenia!J248*K$47*K$44/1000*Założenia!$G54/100 -> 0 | L53: =Założenia!K248*L$47*L$44/1000*Założenia!$G54/100 -> 0 | ... T53: =Założenia!S248*T$47*T$44/1000*Założenia!$G54/100 -> 0
B54: EURO III | C54: tCO2 | E54: =Założenia!D249*E$47*E$44/1000*Założenia!$G55/100 -> 0 | F54: =Założenia!E249*F$47*F$44/1000*Założenia!$G55/100 -> 0 | G54: =Założenia!F249*G$47*G$44/1000*Założenia!$G55/100 -> 0 | H54: =Założenia!G249*H$47*H$44/1000*Założenia!$G55/100 -> 0 | I54: =Założenia!H249*I$47*I$44/1000*Założenia!$G55/100 -> 0 | J54: =Założenia!I249*J$47*J$44/1000*Założenia!$G55/100 -> 0 | K54: =Założenia!J249*K$47*K$44/1000*Założenia!$G55/100 -> 0 | L54: =Założenia!K249*L$47*L$44/1000*Założenia!$G55/100 -> 0 | ... T54: =Założenia!S249*T$47*T$44/1000*Założenia!$G55/100 -> 0
B55: EURO IV | C55: tCO2 | E55: =Założenia!D250*E$47*E$44/1000*Założenia!$G56/100 -> 0 | F55: =Założenia!E250*F$47*F$44/1000*Założenia!$G56/100 -> 0 | G55: =Założenia!F250*G$47*G$44/1000*Założenia!$G56/100 -> 0 | H55: =Założenia!G250*H$47*H$44/1000*Założenia!$G56/100 -> 0 | I55: =Założenia!H250*I$47*I$44/1000*Założenia!$G56/100 -> 0 | J55: =Założenia!I250*J$47*J$44/1000*Założenia!$G56/100 -> 0 | K55: =Założenia!J250*K$47*K$44/1000*Założenia!$G56/100 -> 0 | L55: =Założenia!K250*L$47*L$44/1000*Założenia!$G56/100 -> 0 | ... T55: =Założenia!S250*T$47*T$44/1000*Założenia!$G56/100 -> 0
B56: EURO V | C56: tCO2 | E56: =Założenia!D251*E$47*E$44/1000*Założenia!$G57/100 -> 0 | F56: =Założenia!E251*F$47*F$44/1000*Założenia!$G57/100 -> 0 | G56: =Założenia!F251*G$47*G$44/1000*Założenia!$G57/100 -> 0 | H56: =Założenia!G251*H$47*H$44/1000*Założenia!$G57/100 -> 0 | I56: =Założenia!H251*I$47*I$44/1000*Założenia!$G57/100 -> 0 | J56: =Założenia!I251*J$47*J$44/1000*Założenia!$G57/100 -> 0 | K56: =Założenia!J251*K$47*K$44/1000*Założenia!$G57/100 -> 0 | L56: =Założenia!K251*L$47*L$44/1000*Założenia!$G57/100 -> 0 | ... T56: =Założenia!S251*T$47*T$44/1000*Założenia!$G57/100 -> 0
B57: EURO VI | C57: tCO2 | E57: =Założenia!D252*E$47*E$44/1000*Założenia!$G58/100+Założenia!D244*E$46*E$44/1000*Założenia!$E58/100 -> 1194.3152 | F57: =Założenia!E252*F$47*F$44/1000*Założenia!$G58/100+Założenia!E244*F$46*F$44/1000*Założenia!$E58/100 -> 1195.5314 | G57: =Założenia!F252*G$47*G$44/1000*Założenia!$G58/100+Założenia!F244*G$46*G$44/1000*Założenia!$E58/100 -> 1195.5314 | H57: =Założenia!G252*H$47*H$44/1000*Założenia!$G58/100+Założenia!G244*H$46*H$44/1000*Założenia!$E58/100 -> 1195.5314 | I57: =Założenia!H252*I$47*I$44/1000*Założenia!$G58/100+Założenia!H244*I$46*I$44/1000*Założenia!$E58/100 -> 1195.5314 | J57: =Założenia!I252*J$47*J$44/1000*Założenia!$G58/100+Założenia!I244*J$46*J$44/1000*Założenia!$E58/100 -> 1195.5314 | K57: =Założenia!J252*K$47*K$44/1000*Założenia!$G58/100+Założenia!J244*K$46*K$44/1000*Założenia!$E58/100 -> 1195.5314 | L57: =Założenia!K252*L$47*L$44/1000*Założenia!$G58/100+Założenia!K244*L$46*L$44/1000*Założenia!$E58/100 -> 1191.7084 | ... T57: =Założenia!S252*T$47*T$44/1000*Założenia!$G58/100+Założenia!S244*T$46*T$44/1000*Założenia!$E58/100 -> 1191.7084
B58: EURO VI HYBRYDA | C58: tCO2 | E58: =Założenia!D253*E$48*E$44/1000*Założenia!$G59/100 -> 0 | F58: =Założenia!E253*F$48*F$44/1000*Założenia!$G59/100 -> 0 | G58: =Założenia!F253*G$48*G$44/1000*Założenia!$G59/100 -> 0 | H58: =Założenia!G253*H$48*H$44/1000*Założenia!$G59/100 -> 0 | I58: =Założenia!H253*I$48*I$44/1000*Założenia!$G59/100 -> 0 | J58: =Założenia!I253*J$48*J$44/1000*Założenia!$G59/100 -> 0 | K58: =Założenia!J253*K$48*K$44/1000*Założenia!$G59/100 -> 0 | L58: =Założenia!K253*L$48*L$44/1000*Założenia!$G59/100 -> 0 | ... T58: =Założenia!S253*T$48*T$44/1000*Założenia!$G59/100 -> 0
B59: ELEKTRYCZNE | C59: tCO2 | E59: 0 | F59: 0 | G59: 0 | H59: 0 | I59: 0 | J59: 0 | K59: 0 | L59: 0 | M59: 0 | N59: 0 | O59: 0 | P59: 0 | Q59: 0 | R59: 0 | S59: 0 | T59: 0
A60: 2. | B60: Skutki zanieczyszczenia powietrza: | C60: PLN | E60: =(E62*Założenia!E96*(1+Założenia!$C$110)+E70*Założenia!E96)+(E72*Założenia!E99*(1+Założenia!$C$110)+E80*Założenia!E99)+(E82*Założenia!E97*(1+Założenia!$C$110)+E90*Założenia!E97) -> 239740.03 | F60: =(F62*Założenia!F96*(1+Założenia!$C$110)+F70*Założenia!F96)+(F72*Założenia!F99*(1+Założenia!$C$110)+F80*Założenia!F99)+(F82*Założenia!F97*(1+Założenia!$C$110)+F90*Założenia!F97) -> 249748.58 | G60: =(G62*Założenia!G96*(1+Założenia!$C$110)+G70*Założenia!G96)+(G72*Założenia!G99*(1+Założenia!$C$110)+G80*Założenia!G99)+(G82*Założenia!G97*(1+Założenia!$C$110)+G90*Założenia!G97) -> 259340.32 | H60: =(H62*Założenia!H96*(1+Założenia!$C$110)+H70*Założenia!H96)+(H72*Założenia!H99*(1+Założenia!$C$110)+H80*Założenia!H99)+(H82*Założenia!H97*(1+Założenia!$C$110)+H90*Założenia!H97) -> 267464.09 | I60: =(I62*Założenia!I96*(1+Założenia!$C$110)+I70*Założenia!I96)+(I72*Założenia!I99*(1+Założenia!$C$110)+I80*Założenia!I99)+(I82*Założenia!I97*(1+Założenia!$C$110)+I90*Założenia!I97) -> 275452.19 | J60: =(J62*Założenia!J96*(1+Założenia!$C$110)+J70*Założenia!J96)+(J72*Założenia!J99*(1+Założenia!$C$110)+J80*Założenia!J99)+(J82*Założenia!J97*(1+Założenia!$C$110)+J90*Założenia!J97) -> 283719.89 | K60: =(K62*Założenia!K96*(1+Założenia!$C$110)+K70*Założenia!K96)+(K72*Założenia!K99*(1+Założenia!$C$110)+K80*Założenia!K99)+(K82*Założenia!K97*(1+Założenia!$C$110)+K90*Założenia!K97) -> 292278.35 | L60: =(L62*Założenia!L96*(1+Założenia!$C$110)+L70*Założenia!L96)+(L72*Założenia!L99*(1+Założenia!$C$110)+L80*Założenia!L99)+(L82*Założenia!L97*(1+Założenia!$C$110)+L90*Założenia!L97) -> 299942.42 | ... T60: =(T62*Założenia!T96*(1+Założenia!$C$110)+T70*Założenia!T96)+(T72*Założenia!T99*(1+Założenia!$C$110)+T80*Założenia!T99)+(T82*Założenia!T97*(1+Założenia!$C$110)+T90*Założenia!T97) -> 366453.15
A61: 2.1. | B61: Emisja NOx | C61: tNOx | E61: =E62+E70 -> 1.78256 | F61: =F62+F70 -> 1.7843753 | G61: =G62+G70 -> 1.7843753 | H61: =H62+H70 -> 1.7843753 | I61: =I62+I70 -> 1.7843753 | J61: =J62+J70 -> 1.7843753 | K61: =K62+K70 -> 1.7843753 | L61: =L62+L70 -> 1.7786692 | ... T61: =T62+T70 -> 1.7786692
B62: ON: | C62: tNOx | E62: =SUM(E63:E69) -> 1.78256 | F62: =SUM(F63:F69) -> 1.7843753 | G62: =SUM(G63:G69) -> 1.7843753 | H62: =SUM(H63:H69) -> 1.7843753 | I62: =SUM(I63:I69) -> 1.7843753 | J62: =SUM(J63:J69) -> 1.7843753 | K62: =SUM(K63:K69) -> 1.7843753 | L62: =SUM(L63:L69) -> 1.7786692 | ... T62: =SUM(T63:T69) -> 1.7786692
B63: EURO I | C63: tNOx | E63: =Założenia!D247*Założenia!D$263*Założenia!$F$72/1000000 -> 0 | F63: =Założenia!E247*Założenia!E$263*Założenia!$F$72/1000000 -> 0 | G63: =Założenia!F247*Założenia!F$263*Założenia!$F$72/1000000 -> 0 | H63: =Założenia!G247*Założenia!G$263*Założenia!$F$72/1000000 -> 0 | I63: =Założenia!H247*Założenia!H$263*Założenia!$F$72/1000000 -> 0 | J63: =Założenia!I247*Założenia!I$263*Założenia!$F$72/1000000 -> 0 | K63: =Założenia!J247*Założenia!J$263*Założenia!$F$72/1000000 -> 0 | L63: =Założenia!K247*Założenia!K$263*Założenia!$F$72/1000000 -> 0 | ... T63: =Założenia!S247*Założenia!S$263*Założenia!$F$72/1000000 -> 0
B64: EURO II | C64: tNOx | E64: =Założenia!D248*Założenia!D$263*Założenia!$F$73/1000000 -> 0 | F64: =Założenia!E248*Założenia!E$263*Założenia!$F$73/1000000 -> 0 | G64: =Założenia!F248*Założenia!F$263*Założenia!$F$73/1000000 -> 0 | H64: =Założenia!G248*Założenia!G$263*Założenia!$F$73/1000000 -> 0 | I64: =Założenia!H248*Założenia!H$263*Założenia!$F$73/1000000 -> 0 | J64: =Założenia!I248*Założenia!I$263*Założenia!$F$73/1000000 -> 0 | K64: =Założenia!J248*Założenia!J$263*Założenia!$F$73/1000000 -> 0 | L64: =Założenia!K248*Założenia!K$263*Założenia!$F$73/1000000 -> 0 | ... T64: =Założenia!S248*Założenia!S$263*Założenia!$F$73/1000000 -> 0
B65: EURO III | C65: tNOx | E65: =Założenia!D249*Założenia!D$263*Założenia!$F$74/1000000 -> 0 | F65: =Założenia!E249*Założenia!E$263*Założenia!$F$74/1000000 -> 0 | G65: =Założenia!F249*Założenia!F$263*Założenia!$F$74/1000000 -> 0 | H65: =Założenia!G249*Założenia!G$263*Założenia!$F$74/1000000 -> 0 | I65: =Założenia!H249*Założenia!H$263*Założenia!$F$74/1000000 -> 0 | J65: =Założenia!I249*Założenia!I$263*Założenia!$F$74/1000000 -> 0 | K65: =Założenia!J249*Założenia!J$263*Założenia!$F$74/1000000 -> 0 | L65: =Założenia!K249*Założenia!K$263*Założenia!$F$74/1000000 -> 0 | ... T65: =Założenia!S249*Założenia!S$263*Założenia!$F$74/1000000 -> 0
B66: EURO IV | C66: tNOx | E66: =Założenia!D250*Założenia!D$263*Założenia!$F$75/1000000 -> 0 | F66: =Założenia!E250*Założenia!E$263*Założenia!$F$75/1000000 -> 0 | G66: =Założenia!F250*Założenia!F$263*Założenia!$F$75/1000000 -> 0 | H66: =Założenia!G250*Założenia!G$263*Założenia!$F$75/1000000 -> 0 | I66: =Założenia!H250*Założenia!H$263*Założenia!$F$75/1000000 -> 0 | J66: =Założenia!I250*Założenia!I$263*Założenia!$F$75/1000000 -> 0 | K66: =Założenia!J250*Założenia!J$263*Założenia!$F$75/1000000 -> 0 | L66: =Założenia!K250*Założenia!K$263*Założenia!$F$75/1000000 -> 0 | ... T66: =Założenia!S250*Założenia!S$263*Założenia!$F$75/1000000 -> 0
B67: EURO V | C67: tNOx | E67: =Założenia!D251*Założenia!D$263*Założenia!$F$76/1000000 -> 0 | F67: =Założenia!E251*Założenia!E$263*Założenia!$F$76/1000000 -> 0 | G67: =Założenia!F251*Założenia!F$263*Założenia!$F$76/1000000 -> 0 | H67: =Założenia!G251*Założenia!G$263*Założenia!$F$76/1000000 -> 0 | I67: =Założenia!H251*Założenia!H$263*Założenia!$F$76/1000000 -> 0 | J67: =Założenia!I251*Założenia!I$263*Założenia!$F$76/1000000 -> 0 | K67: =Założenia!J251*Założenia!J$263*Założenia!$F$76/1000000 -> 0 | L67: =Założenia!K251*Założenia!K$263*Założenia!$F$76/1000000 -> 0 | ... T67: =Założenia!S251*Założenia!S$263*Założenia!$F$76/1000000 -> 0
B68: EURO VI | C68: tNOx | E68: =Założenia!D252*Założenia!D$263*Założenia!$F$77/1000000+Założenia!D244*E46*Założenia!$F$68/1000000 -> 1.78256 | F68: =Założenia!E252*Założenia!E$263*Założenia!$F$77/1000000+Założenia!E244*F46*Założenia!$F$68/1000000 -> 1.7843753 | G68: =Założenia!F252*Założenia!F$263*Założenia!$F$77/1000000+Założenia!F244*G46*Założenia!$F$68/1000000 -> 1.7843753 | H68: =Założenia!G252*Założenia!G$263*Założenia!$F$77/1000000+Założenia!G244*H46*Założenia!$F$68/1000000 -> 1.7843753 | I68: =Założenia!H252*Założenia!H$263*Założenia!$F$77/1000000+Założenia!H244*I46*Założenia!$F$68/1000000 -> 1.7843753 | J68: =Założenia!I252*Założenia!I$263*Założenia!$F$77/1000000+Założenia!I244*J46*Założenia!$F$68/1000000 -> 1.7843753 | K68: =Założenia!J252*Założenia!J$263*Założenia!$F$77/1000000+Założenia!J244*K46*Założenia!$F$68/1000000 -> 1.7843753 | L68: =Założenia!K252*Założenia!K$263*Założenia!$F$77/1000000+Założenia!K244*L46*Założenia!$F$68/1000000 -> 1.7786692 | ... T68: =Założenia!S252*Założenia!S$263*Założenia!$F$77/1000000+Założenia!S244*T46*Założenia!$F$68/1000000 -> 1.7786692
B69: EURO VI HYBRYDA | C69: tNOx | E69: =Założenia!D253*Założenia!D264*Założenia!$I77/1000000 -> 0 | F69: =Założenia!E253*Założenia!E264*Założenia!$I77/1000000 -> 0 | G69: =Założenia!F253*Założenia!F264*Założenia!$I77/1000000 -> 0 | H69: =Założenia!G253*Założenia!G264*Założenia!$I77/1000000 -> 0 | I69: =Założenia!H253*Założenia!H264*Założenia!$I77/1000000 -> 0 | J69: =Założenia!I253*Założenia!I264*Założenia!$I77/1000000 -> 0 | K69: =Założenia!J253*Założenia!J264*Założenia!$I77/1000000 -> 0 | L69: =Założenia!K253*Założenia!K264*Założenia!$I77/1000000 -> 0 | ... T69: =Założenia!S253*Założenia!S264*Założenia!$I77/1000000 -> 0
B70: ELEKTRYCZNE | C70: tNOx | E70: 0 | F70: 0 | G70: 0 | H70: 0 | I70: 0 | J70: 0 | K70: 0 | L70: 0 | M70: 0 | N70: 0 | O70: 0 | P70: 0 | Q70: 0 | R70: 0 | S70: 0 | T70: 0
A71: 2.2. | B71: Emisja PM | C71: tPM | E71: =E72+E80 -> 0.044564 | F71: =F72+F80 -> 0.044609382 | G71: =G72+G80 -> 0.044609382 | H71: =H72+H80 -> 0.044609382 | I71: =I72+I80 -> 0.044609382 | J71: =J72+J80 -> 0.044609382 | K71: =K72+K80 -> 0.044609382 | L71: =L72+L80 -> 0.04446673 | ... T71: =T72+T80 -> 0.04446673
B72: ON: | C72: tPM | E72: =SUM(E73:E79) -> 0.044564 | F72: =SUM(F73:F79) -> 0.044609382 | G72: =SUM(G73:G79) -> 0.044609382 | H72: =SUM(H73:H79) -> 0.044609382 | I72: =SUM(I73:I79) -> 0.044609382 | J72: =SUM(J73:J79) -> 0.044609382 | K72: =SUM(K73:K79) -> 0.044609382 | L72: =SUM(L73:L79) -> 0.04446673 | ... T72: =SUM(T73:T79) -> 0.04446673
B73: EURO I | C73: tPM | E73: =Założenia!D247*Założenia!D263*Założenia!$G72/1000000 -> 0 | F73: =Założenia!E247*Założenia!E263*Założenia!$G72/1000000 -> 0 | G73: =Założenia!F247*Założenia!F263*Założenia!$G72/1000000 -> 0 | H73: =Założenia!G247*Założenia!G263*Założenia!$G72/1000000 -> 0 | I73: =Założenia!H247*Założenia!H263*Założenia!$G72/1000000 -> 0 | J73: =Założenia!I247*Założenia!I263*Założenia!$G72/1000000 -> 0 | K73: =Założenia!J247*Założenia!J263*Założenia!$G72/1000000 -> 0 | L73: =Założenia!K247*Założenia!K263*Założenia!$G72/1000000 -> 0 | ... T73: =Założenia!S247*Założenia!S263*Założenia!$G72/1000000 -> 0
B74: EURO II | C74: tPM | E74: =Założenia!D248*Założenia!D263*Założenia!$G73/1000000 -> 0 | F74: =Założenia!E248*Założenia!E263*Założenia!$G73/1000000 -> 0 | G74: =Założenia!F248*Założenia!F263*Założenia!$G73/1000000 -> 0 | H74: =Założenia!G248*Założenia!G263*Założenia!$G73/1000000 -> 0 | I74: =Założenia!H248*Założenia!H263*Założenia!$G73/1000000 -> 0 | J74: =Założenia!I248*Założenia!I263*Założenia!$G73/1000000 -> 0 | K74: =Założenia!J248*Założenia!J263*Założenia!$G73/1000000 -> 0 | L74: =Założenia!K248*Założenia!K263*Założenia!$G73/1000000 -> 0 | ... T74: =Założenia!S248*Założenia!S263*Założenia!$G73/1000000 -> 0
B75: EURO III | C75: tPM | E75: =Założenia!D249*Założenia!D263*Założenia!$G74/1000000 -> 0 | F75: =Założenia!E249*Założenia!E263*Założenia!$G74/1000000 -> 0 | G75: =Założenia!F249*Założenia!F263*Założenia!$G74/1000000 -> 0 | H75: =Założenia!G249*Założenia!G263*Założenia!$G74/1000000 -> 0 | I75: =Założenia!H249*Założenia!H263*Założenia!$G74/1000000 -> 0 | J75: =Założenia!I249*Założenia!I263*Założenia!$G74/1000000 -> 0 | K75: =Założenia!J249*Założenia!J263*Założenia!$G74/1000000 -> 0 | L75: =Założenia!K249*Założenia!K263*Założenia!$G74/1000000 -> 0 | ... T75: =Założenia!S249*Założenia!S263*Założenia!$G74/1000000 -> 0
B76: EURO IV | C76: tPM | E76: =Założenia!D250*Założenia!D263*Założenia!$G75/1000000 -> 0 | F76: =Założenia!E250*Założenia!E263*Założenia!$G75/1000000 -> 0 | G76: =Założenia!F250*Założenia!F263*Założenia!$G75/1000000 -> 0 | H76: =Założenia!G250*Założenia!G263*Założenia!$G75/1000000 -> 0 | I76: =Założenia!H250*Założenia!H263*Założenia!$G75/1000000 -> 0 | J76: =Założenia!I250*Założenia!I263*Założenia!$G75/1000000 -> 0 | K76: =Założenia!J250*Założenia!J263*Założenia!$G75/1000000 -> 0 | L76: =Założenia!K250*Założenia!K263*Założenia!$G75/1000000 -> 0 | ... T76: =Założenia!S250*Założenia!S263*Założenia!$G75/1000000 -> 0
B77: EURO V | C77: tPM | E77: =Założenia!D251*Założenia!D263*Założenia!$G76/1000000 -> 0 | F77: =Założenia!E251*Założenia!E263*Założenia!$G76/1000000 -> 0 | G77: =Założenia!F251*Założenia!F263*Założenia!$G76/1000000 -> 0 | H77: =Założenia!G251*Założenia!G263*Założenia!$G76/1000000 -> 0 | I77: =Założenia!H251*Założenia!H263*Założenia!$G76/1000000 -> 0 | J77: =Założenia!I251*Założenia!I263*Założenia!$G76/1000000 -> 0 | K77: =Założenia!J251*Założenia!J263*Założenia!$G76/1000000 -> 0 | L77: =Założenia!K251*Założenia!K263*Założenia!$G76/1000000 -> 0 | ... T77: =Założenia!S251*Założenia!S263*Założenia!$G76/1000000 -> 0
B78: EURO VI | C78: tPM | E78: =Założenia!D252*Założenia!D263*Założenia!$G77/1000000+Założenia!D244*E46*Założenia!$G$68/1000000 -> 0.044564 | F78: =Założenia!E252*Założenia!E263*Założenia!$G77/1000000+Założenia!E244*F46*Założenia!$G$68/1000000 -> 0.044609382 | G78: =Założenia!F252*Założenia!F263*Założenia!$G77/1000000+Założenia!F244*G46*Założenia!$G$68/1000000 -> 0.044609382 | H78: =Założenia!G252*Założenia!G263*Założenia!$G77/1000000+Założenia!G244*H46*Założenia!$G$68/1000000 -> 0.044609382 | I78: =Założenia!H252*Założenia!H263*Założenia!$G77/1000000+Założenia!H244*I46*Założenia!$G$68/1000000 -> 0.044609382 | J78: =Założenia!I252*Założenia!I263*Założenia!$G77/1000000+Założenia!I244*J46*Założenia!$G$68/1000000 -> 0.044609382 | K78: =Założenia!J252*Założenia!J263*Założenia!$G77/1000000+Założenia!J244*K46*Założenia!$G$68/1000000 -> 0.044609382 | L78: =Założenia!K252*Założenia!K263*Założenia!$G77/1000000+Założenia!K244*L46*Założenia!$G$68/1000000 -> 0.04446673 | ... T78: =Założenia!S252*Założenia!S263*Założenia!$G77/1000000+Założenia!S244*T46*Założenia!$G$68/1000000 -> 0.04446673
B79: EURO VI HYBRYDA | C79: tPM | E79: =Założenia!D253*Założenia!D264*Założenia!$J77/1000000 -> 0 | F79: =Założenia!E253*Założenia!E264*Założenia!$J77/1000000 -> 0 | G79: =Założenia!F253*Założenia!F264*Założenia!$J77/1000000 -> 0 | H79: =Założenia!G253*Założenia!G264*Założenia!$J77/1000000 -> 0 | I79: =Założenia!H253*Założenia!H264*Założenia!$J77/1000000 -> 0 | J79: =Założenia!I253*Założenia!I264*Założenia!$J77/1000000 -> 0 | K79: =Założenia!J253*Założenia!J264*Założenia!$J77/1000000 -> 0 | L79: =Założenia!K253*Założenia!K264*Założenia!$J77/1000000 -> 0 | ... T79: =Założenia!S253*Założenia!S264*Założenia!$J77/1000000 -> 0
B80: ELEKTRYCZNE | C80: tPM | E80: 0 | F80: 0 | G80: 0 | H80: 0 | I80: 0 | J80: 0 | K80: 0 | L80: 0 | M80: 0 | N80: 0 | O80: 0 | P80: 0 | Q80: 0 | R80: 0 | S80: 0 | T80: 0
A81: 2.3. | B81: Emisja NMHC/NMVOC | C81: t NMVOC | E81: =E82+E90 -> 0.579332 | F81: =F82+F90 -> 0.57992197 | G81: =G82+G90 -> 0.57992197 | H81: =H82+H90 -> 0.57992197 | I81: =I82+I90 -> 0.57992197 | J81: =J82+J90 -> 0.57992197 | K81: =K82+K90 -> 0.57992197 | L81: =L82+L90 -> 0.57806749 | ... T81: =T82+T90 -> 0.57806749
B82: ON: | C82: t NMVOC | E82: =SUM(E83:E89) -> 0.579332 | F82: =SUM(F83:F89) -> 0.57992197 | G82: =SUM(G83:G89) -> 0.57992197 | H82: =SUM(H83:H89) -> 0.57992197 | I82: =SUM(I83:I89) -> 0.57992197 | J82: =SUM(J83:J89) -> 0.57992197 | K82: =SUM(K83:K89) -> 0.57992197 | L82: =SUM(L83:L89) -> 0.57806749 | ... T82: =SUM(T83:T89) -> 0.57806749
B83: EURO I | C83: t NMVOC | E83: =Założenia!D247*Założenia!D263*Założenia!$E72/1000000 -> 0 | F83: =Założenia!E247*Założenia!E263*Założenia!$E72/1000000 -> 0 | G83: =Założenia!F247*Założenia!F263*Założenia!$E72/1000000 -> 0 | H83: =Założenia!G247*Założenia!G263*Założenia!$E72/1000000 -> 0 | I83: =Założenia!H247*Założenia!H263*Założenia!$E72/1000000 -> 0 | J83: =Założenia!I247*Założenia!I263*Założenia!$E72/1000000 -> 0 | K83: =Założenia!J247*Założenia!J263*Założenia!$E72/1000000 -> 0 | L83: =Założenia!K247*Założenia!K263*Założenia!$E72/1000000 -> 0 | ... T83: =Założenia!S247*Założenia!S263*Założenia!$E72/1000000 -> 0
B84: EURO II | C84: t NMVOC | E84: =Założenia!D248*Założenia!D263*Założenia!$E73/1000000 -> 0 | F84: =Założenia!E248*Założenia!E263*Założenia!$E73/1000000 -> 0 | G84: =Założenia!F248*Założenia!F263*Założenia!$E73/1000000 -> 0 | H84: =Założenia!G248*Założenia!G263*Założenia!$E73/1000000 -> 0 | I84: =Założenia!H248*Założenia!H263*Założenia!$E73/1000000 -> 0 | J84: =Założenia!I248*Założenia!I263*Założenia!$E73/1000000 -> 0 | K84: =Założenia!J248*Założenia!J263*Założenia!$E73/1000000 -> 0 | L84: =Założenia!K248*Założenia!K263*Założenia!$E73/1000000 -> 0 | ... T84: =Założenia!S248*Założenia!S263*Założenia!$E73/1000000 -> 0
B85: EURO III | C85: t NMVOC | E85: =Założenia!D249*Założenia!D263*Założenia!$E74/1000000 -> 0 | F85: =Założenia!E249*Założenia!E263*Założenia!$E74/1000000 -> 0 | G85: =Założenia!F249*Założenia!F263*Założenia!$E74/1000000 -> 0 | H85: =Założenia!G249*Założenia!G263*Założenia!$E74/1000000 -> 0 | I85: =Założenia!H249*Założenia!H263*Założenia!$E74/1000000 -> 0 | J85: =Założenia!I249*Założenia!I263*Założenia!$E74/1000000 -> 0 | K85: =Założenia!J249*Założenia!J263*Założenia!$E74/1000000 -> 0 | L85: =Założenia!K249*Założenia!K263*Założenia!$E74/1000000 -> 0 | ... T85: =Założenia!S249*Założenia!S263*Założenia!$E74/1000000 -> 0
B86: EURO IV | C86: t NMVOC | E86: =Założenia!D250*Założenia!D263*Założenia!$E75/1000000 -> 0 | F86: =Założenia!E250*Założenia!E263*Założenia!$E75/1000000 -> 0 | G86: =Założenia!F250*Założenia!F263*Założenia!$E75/1000000 -> 0 | H86: =Założenia!G250*Założenia!G263*Założenia!$E75/1000000 -> 0 | I86: =Założenia!H250*Założenia!H263*Założenia!$E75/1000000 -> 0 | J86: =Założenia!I250*Założenia!I263*Założenia!$E75/1000000 -> 0 | K86: =Założenia!J250*Założenia!J263*Założenia!$E75/1000000 -> 0 | L86: =Założenia!K250*Założenia!K263*Założenia!$E75/1000000 -> 0 | ... T86: =Założenia!S250*Założenia!S263*Założenia!$E75/1000000 -> 0
B87: EURO V | C87: t NMVOC | E87: =Założenia!D251*Założenia!D263*Założenia!$E76/1000000 -> 0 | F87: =Założenia!E251*Założenia!E263*Założenia!$E76/1000000 -> 0 | G87: =Założenia!F251*Założenia!F263*Założenia!$E76/1000000 -> 0 | H87: =Założenia!G251*Założenia!G263*Założenia!$E76/1000000 -> 0 | I87: =Założenia!H251*Założenia!H263*Założenia!$E76/1000000 -> 0 | J87: =Założenia!I251*Założenia!I263*Założenia!$E76/1000000 -> 0 | K87: =Założenia!J251*Założenia!J263*Założenia!$E76/1000000 -> 0 | L87: =Założenia!K251*Założenia!K263*Założenia!$E76/1000000 -> 0 | ... T87: =Założenia!S251*Założenia!S263*Założenia!$E76/1000000 -> 0
B88: EURO VI | C88: t NMVOC | E88: =Założenia!D252*Założenia!D263*Założenia!$E77/1000000+Założenia!D244*E46*Założenia!$E$68/1000000 -> 0.579332 | F88: =Założenia!E252*Założenia!E263*Założenia!$E77/1000000+Założenia!E244*F46*Założenia!$E$68/1000000 -> 0.57992197 | G88: =Założenia!F252*Założenia!F263*Założenia!$E77/1000000+Założenia!F244*G46*Założenia!$E$68/1000000 -> 0.57992197 | H88: =Założenia!G252*Założenia!G263*Założenia!$E77/1000000+Założenia!G244*H46*Założenia!$E$68/1000000 -> 0.57992197 | I88: =Założenia!H252*Założenia!H263*Założenia!$E77/1000000+Założenia!H244*I46*Założenia!$E$68/1000000 -> 0.57992197 | J88: =Założenia!I252*Założenia!I263*Założenia!$E77/1000000+Założenia!I244*J46*Założenia!$E$68/1000000 -> 0.57992197 | K88: =Założenia!J252*Założenia!J263*Założenia!$E77/1000000+Założenia!J244*K46*Założenia!$E$68/1000000 -> 0.57992197 | L88: =Założenia!K252*Założenia!K263*Założenia!$E77/1000000+Założenia!K244*L46*Założenia!$E$68/1000000 -> 0.57806749 | ... T88: =Założenia!S252*Założenia!S263*Założenia!$E77/1000000+Założenia!S244*T46*Założenia!$E$68/1000000 -> 0.57806749
B89: EURO VI HYBRYDA | C89: t NMVOC | E89: =Założenia!D253*Założenia!D264*Założenia!$H77/1000000 -> 0 | F89: =Założenia!E253*Założenia!E264*Założenia!$H77/1000000 -> 0 | G89: =Założenia!F253*Założenia!F264*Założenia!$H77/1000000 -> 0 | H89: =Założenia!G253*Założenia!G264*Założenia!$H77/1000000 -> 0 | I89: =Założenia!H253*Założenia!H264*Założenia!$H77/1000000 -> 0 | J89: =Założenia!I253*Założenia!I264*Założenia!$H77/1000000 -> 0 | K89: =Założenia!J253*Założenia!J264*Założenia!$H77/1000000 -> 0 | L89: =Założenia!K253*Założenia!K264*Założenia!$H77/1000000 -> 0 | ... T89: =Założenia!S253*Założenia!S264*Założenia!$H77/1000000 -> 0
B90: ELEKTRYCZNE | C90: t NMVOC | E90: 0 | F90: 0 | G90: 0 | H90: 0 | I90: 0 | J90: 0 | K90: 0 | L90: 0 | M90: 0 | N90: 0 | O90: 0 | P90: 0 | Q90: 0 | R90: 0 | S90: 0 | T90: 0
A91: 3. | B91: Skutki emisji hałasu: | C91: PLN | E91: =E95+E99+E107+E103 -> 747171.99 | F91: =F95+F99+F107+F103 -> 778364.56 | G91: =G95+G99+G107+G103 -> 808258.1 | H91: =H95+H99+H107+H103 -> 833576.58 | I91: =I95+I99+I107+I103 -> 858472.23 | J91: =J95+J99+J107+J103 -> 884239.3 | K91: =K95+K99+K107+K103 -> 910912.52 | L91: =L95+L99+L107+L103 -> 937827.74 | ... T91: =T95+T99+T107+T103 -> 1145786.3
A92: 3.1. | B92: Autobusy ON EURO I - EURO V
B93: Jednostkowy koszt hałasu uśredniony | C93: PLN/wzkm | E93: =Założenia!E26 -> 0.35782385 | F93: =Założenia!F26 -> 0.37238289 | G93: =Założenia!G26 -> 0.38668447 | H93: =Założenia!H26 -> 0.39879726 | I93: =Założenia!I26 -> 0.41070776 | J93: =Założenia!J26 -> 0.42303517 | K93: =Założenia!K26 -> 0.4357961 | L93: =Założenia!L26 -> 0.44865819 | ... T93: =Założenia!T26 -> 0.54814589
B94: Liczba wozokilometrów | C94: wzkm/rok | E94: =(Założenia!D247+Założenia!D248+Założenia!D249+Założenia!D250+Założenia!D251)*Założenia!D263 -> 0 | F94: =(Założenia!E247+Założenia!E248+Założenia!E249+Założenia!E250+Założenia!E251)*Założenia!E263 -> 0 | G94: =(Założenia!F247+Założenia!F248+Założenia!F249+Założenia!F250+Założenia!F251)*Założenia!F263 -> 0 | H94: =(Założenia!G247+Założenia!G248+Założenia!G249+Założenia!G250+Założenia!G251)*Założenia!G263 -> 0 | I94: =(Założenia!H247+Założenia!H248+Założenia!H249+Założenia!H250+Założenia!H251)*Założenia!H263 -> 0 | J94: =(Założenia!I247+Założenia!I248+Założenia!I249+Założenia!I250+Założenia!I251)*Założenia!I263 -> 0 | K94: =(Założenia!J247+Założenia!J248+Założenia!J249+Założenia!J250+Założenia!J251)*Założenia!J263 -> 0 | L94: =(Założenia!K247+Założenia!K248+Założenia!K249+Założenia!K250+Założenia!K251)*Założenia!K263 -> 0 | ... T94: =(Założenia!S247+Założenia!S248+Założenia!S249+Założenia!S250+Założenia!S251)*Założenia!S263 -> 0
B95: Koszt społeczny emisji hałasu | C95: PLN | E95: =E93*E94 -> 0 | F95: =F93*F94 -> 0 | G95: =G93*G94 -> 0 | H95: =H93*H94 -> 0 | I95: =I93*I94 -> 0 | J95: =J93*J94 -> 0 | K95: =K93*K94 -> 0 | L95: =L93*L94 -> 0 | ... T95: =T93*T94 -> 0
A96: 3.2. | B96: Autobusy ON EURO VI
B97: Jednostkowy koszt hałasu uśredniony | C97: PLN/wzkm | E97: =E93*(1-Założenia!$E$29) -> 0.33993266 | F97: =F93*(1-Założenia!$E$29) -> 0.35376374 | G97: =G93*(1-Założenia!$E$29) -> 0.36735024 | H97: =H93*(1-Założenia!$E$29) -> 0.3788574 | I97: =I93*(1-Założenia!$E$29) -> 0.39017238 | J97: =J93*(1-Założenia!$E$29) -> 0.40188341 | K97: =K93*(1-Założenia!$E$29) -> 0.41400629 | L97: =L93*(1-Założenia!$E$29) -> 0.42622528 | ... T97: =T93*(1-Założenia!$E$29) -> 0.52073859
B98: Liczba wozokilometrów | C98: wzkm/rok | E98: =Założenia!D252*Założenia!D263+Założenia!D244*Założenia!D262 -> 2198000 | F98: =Założenia!E252*Założenia!E263+Założenia!E244*Założenia!E262 -> 2200238.4 | G98: =Założenia!F252*Założenia!F263+Założenia!F244*Założenia!F262 -> 2200238.4 | H98: =Założenia!G252*Założenia!G263+Założenia!G244*Założenia!G262 -> 2200238.4 | I98: =Założenia!H252*Założenia!H263+Założenia!H244*Założenia!H262 -> 2200238.4 | J98: =Założenia!I252*Założenia!I263+Założenia!I244*Założenia!I262 -> 2200238.4 | K98: =Założenia!J252*Założenia!J263+Założenia!J244*Założenia!J262 -> 2200238.4 | L98: =Założenia!K252*Założenia!K263+Założenia!K244*Założenia!K262 -> 2200310 | ... T98: =Założenia!S252*Założenia!S263+Założenia!S244*Założenia!S262 -> 2200310
B99: Koszt społeczny emisji hałasu | C99: PLN | E99: =E97*E98 -> 747171.99 | F99: =F97*F98 -> 778364.56 | G99: =G97*G98 -> 808258.1 | H99: =H97*H98 -> 833576.58 | I99: =I97*I98 -> 858472.23 | J99: =J97*J98 -> 884239.3 | K99: =K97*K98 -> 910912.52 | L99: =L97*L98 -> 937827.74 | ... T99: =T97*T98 -> 1145786.3
A100: 3.3. | B100: Autobusy ON EURO VI HYBRYDA
B101: Jednostkowy koszt hałasu uśredniony | C101: PLN/wzkm | E101: =E97*(1-Założenia!$E$30) -> 0.3059394 | F101: =F97*(1-Założenia!$E$30) -> 0.31838737 | G101: =G97*(1-Założenia!$E$30) -> 0.33061522 | H101: =H97*(1-Założenia!$E$30) -> 0.34097166 | I101: =I97*(1-Założenia!$E$30) -> 0.35115514 | J101: =J97*(1-Założenia!$E$30) -> 0.36169507 | K101: =K97*(1-Założenia!$E$30) -> 0.37260566 | L101: =L97*(1-Założenia!$E$30) -> 0.38360275 | ... T101: =T97*(1-Założenia!$E$30) -> 0.46866473
B102: Liczba wozokilometrów | C102: wzkm/rok | E102: =Założenia!D253*Założenia!D264 -> 0 | F102: =Założenia!E253*Założenia!E264 -> 0 | G102: =Założenia!F253*Założenia!F264 -> 0 | H102: =Założenia!G253*Założenia!G264 -> 0 | I102: =Założenia!H253*Założenia!H264 -> 0 | J102: =Założenia!I253*Założenia!I264 -> 0 | K102: =Założenia!J253*Założenia!J264 -> 0 | L102: =Założenia!K253*Założenia!K264 -> 0 | ... T102: =Założenia!S253*Założenia!S264 -> 0
B103: Koszt społeczny emisji hałasu | C103: PLN | E103: =E101*E102 -> 0 | F103: =F101*F102 -> 0 | G103: =G101*G102 -> 0 | H103: =H101*H102 -> 0 | I103: =I101*I102 -> 0 | J103: =J101*J102 -> 0 | K103: =K101*K102 -> 0 | L103: =L101*L102 -> 0 | ... T103: =T101*T102 -> 0
A104: 3.4. | B104: Autobusy elektryczne
B105: Jednostkowy koszt hałasu uśredniony | C105: PLN/wzkm | E105: =E93*(1-Założenia!$E$28) -> 0.071564771 | F105: =F93*(1-Założenia!$E$28) -> 0.074476578 | G105: =G93*(1-Założenia!$E$28) -> 0.077336893 | H105: =H93*(1-Założenia!$E$28) -> 0.079759452 | I105: =I93*(1-Założenia!$E$28) -> 0.082141553 | J105: =J93*(1-Założenia!$E$28) -> 0.084607034 | K105: =K93*(1-Założenia!$E$28) -> 0.087159219 | L105: =L93*(1-Założenia!$E$28) -> 0.089731637 | ... T105: =T93*(1-Założenia!$E$28) -> 0.10962918
...

Sheet Wariant konwencjonalny
E2: 0 | F2: =E2+1 -> 1 | G2: =F2+1 -> 2 | H2: =G2+1 -> 3 | I2: =H2+1 -> 4 | J2: =I2+1 -> 5 | K2: =J2+1 -> 6 | L2: =K2+1 -> 7 | M2: =L2+1 -> 8 | ... T2: =S2+1 -> 15
B3: Kalkulacja dla wariantu konwencjonalnego
B5: Kategoria | C5: Jednostka | D5: Suma | E5: =Założenia!E6 -> 2021 | F5: =E5+1 -> 2022 | G5: =F5+1 -> 2023 | H5: =G5+1 -> 2024 | I5: =H5+1 -> 2025 | J5: =I5+1 -> 2026 | K5: =J5+1 -> 2027 | L5: =K5+1 -> 2028 | M5: =L5+1 -> 2029 | ... T5: =S5+1 -> 2036
A8: TABELA 1. | B8: KOSZTY BEZPOŚREDNIE EKSPLOATACJI AUTOBUSÓW
A9: 1. | B9: Przychody | C9: PLN | E9: =przychody!D7*1000000 -> 9037074.8 | F9: =przychody!E7*1000000 -> 8513112.9 | G9: =przychody!F7*1000000 -> 5613484.5 | H9: =przychody!G7*1000000 -> 6366641.8 | I9: =przychody!H7*1000000 -> 6742273.1 | J9: =przychody!I7*1000000 -> 6986859.2 | K9: =przychody!J7*1000000 -> 7154077.3 | L9: =przychody!K7*1000000 -> 7269297 | ... T9: =przychody!S7*1000000 -> 7958875.9
A10: 2. | B10: Koszty operacyjne, w tym: | C10: PLN | E10: =E11+E40 -> 12298793 | F10: =F11+F40 -> 12356362 | G10: =G11+G40 -> 12411655 | H10: =H11+H40 -> 12466949 | I10: =I11+I40 -> 12522242 | J10: =J11+J40 -> 12577536 | K10: =K11+K40 -> 12632829 | L10: =L11+L40 -> 12352316 | ... T10: =T11+T40 -> 12352316
A11: A. | B11: Koszty bezpośrednie | E11: =E12+E33+E35+E36+E37+E34 -> 10950076 | F11: =F12+F33+F35+F36+F37+F34 -> 11007645 | G11: =G12+G33+G35+G36+G37+G34 -> 11062939 | H11: =H12+H33+H35+H36+H37+H34 -> 11118232 | I11: =I12+I33+I35+I36+I37+I34 -> 11173526 | J11: =J12+J33+J35+J36+J37+J34 -> 11228819 | K11: =K12+K33+K35+K36+K37+K34 -> 11284113 | L11: =L12+L33+L35+L36+L37+L34 -> 11003599 | ... T11: =T12+T33+T35+T36+T37+T34 -> 11003599
A12: 2.1. | B12: zużycie materiałów i energii: | C12: PLN | E12: =E13+E15+E24 -> 2210847.3 | F12: =F13+F15+F24 -> 2233758.5 | G12: =G13+G15+G24 -> 2254957.1 | H12: =H13+H15+H24 -> 2276155.6 | I12: =I13+I15+I24 -> 2297354.2 | J12: =J13+J15+J24 -> 2318552.8 | K12: =K13+K15+K24 -> 2339751.3 | L12: =L13+L15+L24 -> 2232207.4 | ... T12: =T13+T15+T24 -> 2232207.4
A13: 2.1.1. | B13: energia | C13: PLN | E13: =Założenia!$E$213+E14 -> 138358 | F13: =Założenia!$E$213+F14 -> 138358 | G13: =Założenia!$E$213+G14 -> 138358 | H13: =Założenia!$E$213+H14 -> 138358 | I13: =Założenia!$E$213+I14 -> 138358 | J13: =Założenia!$E$213+J14 -> 138358 | K13: =Założenia!$E$213+K14 -> 138358 | L13: =Założenia!$E$213+L14 -> 138358 | ... T13: =Założenia!$E$213+T14 -> 138358
B14: autobusy elektryczne | C14: PLN | E14: =Założenia!D283*Założenia!D294*Założenia!$E$184*Założenia!$E$176*Założenia!$E$123 -> 0 | F14: =Założenia!E283*Założenia!E294*Założenia!$E$184*Założenia!$E$176*Założenia!$E$123 -> 0 | G14: =Założenia!F283*Założenia!F294*Założenia!$E$184*Założenia!$E$176*Założenia!$E$123 -> 0 | H14: =Założenia!G283*Założenia!G294*Założenia!$E$184*Założenia!$E$176*Założenia!$E$123 -> 0 | I14: =Założenia!H283*Założenia!H294*Założenia!$E$184*Założenia!$E$176*Założenia!$E$123 -> 0 | J14: =Założenia!I283*Założenia!I294*Założenia!$E$184*Założenia!$E$176*Założenia!$E$123 -> 0 | K14: =Założenia!J283*Założenia!J294*Założenia!$E$184*Założenia!$E$176*Założenia!$E$123 -> 0 | L14: =Założenia!K283*Założenia!K294*Założenia!$E$184*Założenia!$E$176*Założenia!$E$123 -> 0 | ... T14: =Założenia!S283*Założenia!S294*Założenia!$E$184*Założenia!$E$176*Założenia!$E$123 -> 0
A15: 2.1.2. | B15: paliwo | C15: PLN | E15: =E16 -> 1648868 | F15: =F16 -> 1650230.6 | G15: =G16 -> 1650230.6 | H15: =H16 -> 1650230.6 | I15: =I16 -> 1650230.6 | J15: =J16 -> 1650230.6 | K15: =K16 -> 1650230.6 | L15: =L16 -> 1650230.6 | ... T15: =T16 -> 1650230.6
A16: 2.1.2.1. | B16: ON: | C16: PLN | E16: =SUM(E17:E23) -> 1648868 | F16: =SUM(F17:F23) -> 1650230.6 | G16: =SUM(G17:G23) -> 1650230.6 | H16: =SUM(H17:H23) -> 1650230.6 | I16: =SUM(I17:I23) -> 1650230.6 | J16: =SUM(J17:J23) -> 1650230.6 | K16: =SUM(K17:K23) -> 1650230.6 | L16: =SUM(L17:L23) -> 1650230.6 | ... T16: =SUM(T17:T23) -> 1650230.6
B17: EURO I | C17: PLN | E17: =(Założenia!D276*Założenia!D$292*Założenia!$G53/100)*Założenia!$E$175 -> 0 | F17: =(Założenia!E276*Założenia!E$292*Założenia!$G53/100)*Założenia!$E$175 -> 0 | G17: =(Założenia!F276*Założenia!F$292*Założenia!$G53/100)*Założenia!$E$175 -> 0 | H17: =(Założenia!G276*Założenia!G$292*Założenia!$G53/100)*Założenia!$E$175 -> 0 | I17: =(Założenia!H276*Założenia!H$292*Założenia!$G53/100)*Założenia!$E$175 -> 0 | J17: =(Założenia!I276*Założenia!I$292*Założenia!$G53/100)*Założenia!$E$175 -> 0 | K17: =(Założenia!J276*Założenia!J$292*Założenia!$G53/100)*Założenia!$E$175 -> 0 | L17: =(Założenia!K276*Założenia!K$292*Założenia!$G53/100)*Założenia!$E$175 -> 0 | ... T17: =(Założenia!S276*Założenia!S$292*Założenia!$G53/100)*Założenia!$E$175 -> 0
B18: EURO II | C18: PLN | E18: =(Założenia!D277*Założenia!D$292*Założenia!$G54/100)*Założenia!$E$175 -> 0 | F18: =(Założenia!E277*Założenia!E$292*Założenia!$G54/100)*Założenia!$E$175 -> 0 | G18: =(Założenia!F277*Założenia!F$292*Założenia!$G54/100)*Założenia!$E$175 -> 0 | H18: =(Założenia!G277*Założenia!G$292*Założenia!$G54/100)*Założenia!$E$175 -> 0 | I18: =(Założenia!H277*Założenia!H$292*Założenia!$G54/100)*Założenia!$E$175 -> 0 | J18: =(Założenia!I277*Założenia!I$292*Założenia!$G54/100)*Założenia!$E$175 -> 0 | K18: =(Założenia!J277*Założenia!J$292*Założenia!$G54/100)*Założenia!$E$175 -> 0 | L18: =(Założenia!K277*Założenia!K$292*Założenia!$G54/100)*Założenia!$E$175 -> 0 | ... T18: =(Założenia!S277*Założenia!S$292*Założenia!$G54/100)*Założenia!$E$175 -> 0
B19: EURO III | C19: PLN | E19: =(Założenia!D278*Założenia!D$292*Założenia!$G55/100)*Założenia!$E$175 -> 0 | F19: =(Założenia!E278*Założenia!E$292*Założenia!$G55/100)*Założenia!$E$175 -> 0 | G19: =(Założenia!F278*Założenia!F$292*Założenia!$G55/100)*Założenia!$E$175 -> 0 | H19: =(Założenia!G278*Założenia!G$292*Założenia!$G55/100)*Założenia!$E$175 -> 0 | I19: =(Założenia!H278*Założenia!H$292*Założenia!$G55/100)*Założenia!$E$175 -> 0 | J19: =(Założenia!I278*Założenia!I$292*Założenia!$G55/100)*Założenia!$E$175 -> 0 | K19: =(Założenia!J278*Założenia!J$292*Założenia!$G55/100)*Założenia!$E$175 -> 0 | L19: =(Założenia!K278*Założenia!K$292*Założenia!$G55/100)*Założenia!$E$175 -> 0 | ... T19: =(Założenia!S278*Założenia!S$292*Założenia!$G55/100)*Założenia!$E$175 -> 0
B20: EURO IV | C20: PLN | E20: =(Założenia!D279*Założenia!D$292*Założenia!$G56/100)*Założenia!$E$175 -> 0 | F20: =(Założenia!E279*Założenia!E$292*Założenia!$G56/100)*Założenia!$E$175 -> 0 | G20: =(Założenia!F279*Założenia!F$292*Założenia!$G56/100)*Założenia!$E$175 -> 0 | H20: =(Założenia!G279*Założenia!G$292*Założenia!$G56/100)*Założenia!$E$175 -> 0 | I20: =(Założenia!H279*Założenia!H$292*Założenia!$G56/100)*Założenia!$E$175 -> 0 | J20: =(Założenia!I279*Założenia!I$292*Założenia!$G56/100)*Założenia!$E$175 -> 0 | K20: =(Założenia!J279*Założenia!J$292*Założenia!$G56/100)*Założenia!$E$175 -> 0 | L20: =(Założenia!K279*Założenia!K$292*Założenia!$G56/100)*Założenia!$E$175 -> 0 | ... T20: =(Założenia!S279*Założenia!S$292*Założenia!$G56/100)*Założenia!$E$175 -> 0
B21: EURO V | C21: PLN | E21: =(Założenia!D280*Założenia!D$292*Założenia!$G57/100)*Założenia!$E$175 -> 0 | F21: =(Założenia!E280*Założenia!E$292*Założenia!$G57/100)*Założenia!$E$175 -> 0 | G21: =(Założenia!F280*Założenia!F$292*Założenia!$G57/100)*Założenia!$E$175 -> 0 | H21: =(Założenia!G280*Założenia!G$292*Założenia!$G57/100)*Założenia!$E$175 -> 0 | I21: =(Założenia!H280*Założenia!H$292*Założenia!$G57/100)*Założenia!$E$175 -> 0 | J21: =(Założenia!I280*Założenia!I$292*Założenia!$G57/100)*Założenia!$E$175 -> 0 | K21: =(Założenia!J280*Założenia!J$292*Założenia!$G57/100)*Założenia!$E$175 -> 0 | L21: =(Założenia!K280*Założenia!K$292*Założenia!$G57/100)*Założenia!$E$175 -> 0 | ... T21: =(Założenia!S280*Założenia!S$292*Założenia!$G57/100)*Założenia!$E$175 -> 0
B22: EURO VI | C22: PLN | E22: =(Założenia!D281*Założenia!D$292*Założenia!$G58/100)*Założenia!$E$175+(Założenia!D273*Założenia!D291*Założenia!$E$58/100)*Założenia!$E$175 -> 1648868 | F22: =(Założenia!E281*Założenia!E$292*Założenia!$G58/100)*Założenia!$E$175+(Założenia!E273*Założenia!E291*Założenia!$E$58/100)*Założenia!$E$175 -> 1650230.6 | G22: =(Założenia!F281*Założenia!F$292*Założenia!$G58/100)*Założenia!$E$175+(Założenia!F273*Założenia!F291*Założenia!$E$58/100)*Założenia!$E$175 -> 1650230.6 | H22: =(Założenia!G281*Założenia!G$292*Założenia!$G58/100)*Założenia!$E$175+(Założenia!G273*Założenia!G291*Założenia!$E$58/100)*Założenia!$E$175 -> 1650230.6 | I22: =(Założenia!H281*Założenia!H$292*Założenia!$G58/100)*Założenia!$E$175+(Założenia!H273*Założenia!H291*Założenia!$E$58/100)*Założenia!$E$175 -> 1650230.6 | J22: =(Założenia!I281*Założenia!I$292*Założenia!$G58/100)*Założenia!$E$175+(Założenia!I273*Założenia!I291*Założenia!$E$58/100)*Założenia!$E$175 -> 1650230.6 | K22: =(Założenia!J281*Założenia!J$292*Założenia!$G58/100)*Założenia!$E$175+(Założenia!J273*Założenia!J291*Założenia!$E$58/100)*Założenia!$E$175 -> 1650230.6 | L22: =(Założenia!K281*Założenia!K$292*Założenia!$G58/100)*Założenia!$E$175+(Założenia!K273*Założenia!K291*Założenia!$E$58/100)*Założenia!$E$175 -> 1650230.6 | ... T22: =(Założenia!S281*Założenia!S$292*Założenia!$G58/100)*Założenia!$E$175+(Założenia!S273*Założenia!S291*Założenia!$E$58/100)*Założenia!$E$175 -> 1650230.6
B23: EURO VI HYBRYDA | C23: PLN | E23: =(Założenia!D282*Założenia!D$293*Założenia!$G$59/100)*Założenia!$E$175 -> 0 | F23: =(Założenia!E282*Założenia!E$293*Założenia!$G$59/100)*Założenia!$E$175 -> 0 | G23: =(Założenia!F282*Założenia!F$293*Założenia!$G$59/100)*Założenia!$E$175 -> 0 | H23: =(Założenia!G282*Założenia!G$293*Założenia!$G$59/100)*Założenia!$E$175 -> 0 | I23: =(Założenia!H282*Założenia!H$293*Założenia!$G$59/100)*Założenia!$E$175 -> 0 | J23: =(Założenia!I282*Założenia!I$293*Założenia!$G$59/100)*Założenia!$E$175 -> 0 | K23: =(Założenia!J282*Założenia!J$293*Założenia!$G$59/100)*Założenia!$E$175 -> 0 | L23: =(Założenia!K282*Założenia!K$293*Założenia!$G$59/100)*Założenia!$E$175 -> 0 | ... T23: =(Założenia!S282*Założenia!S$293*Założenia!$G$59/100)*Założenia!$E$175 -> 0
A24: 2.1.3. | B24: części, materiały eksploatacyjne i inne | C24: PLN | E24: =(E25++E32)*(1+(Założenia!D295-Założenia!$D$295)*Założenia!$E$182) -> 423621.27 | F24: =(F25++F32)*(1+(Założenia!E295-Założenia!$D$295)*Założenia!$E$182) -> 445169.91 | G24: =(G25++G32)*(1+(Założenia!F295-Założenia!$D$295)*Założenia!$E$182) -> 466368.47 | H24: =(H25++H32)*(1+(Założenia!G295-Założenia!$D$295)*Założenia!$E$182) -> 487567.04 | I24: =(I25++I32)*(1+(Założenia!H295-Założenia!$D$295)*Założenia!$E$182) -> 508765.61 | J24: =(J25++J32)*(1+(Założenia!I295-Założenia!$D$295)*Założenia!$E$182) -> 529964.18 | K24: =(K25++K32)*(1+(Założenia!J295-Założenia!$D$295)*Założenia!$E$182) -> 551162.74 | L24: =(L25++L32)*(1+(Założenia!K295-Założenia!$D$295)*Założenia!$E$182) -> 443618.79 | ... T24: =(T25++T32)*(1+(Założenia!S295-Założenia!$D$295)*Założenia!$E$182) -> 443618.79
B25: ON: | C25: PLN | E25: =SUM(E26:E31) -> 423621.27 | F25: =SUM(F26:F31) -> 423971.34 | G25: =SUM(G26:G31) -> 423971.34 | H25: =SUM(H26:H31) -> 423971.34 | I25: =SUM(I26:I31) -> 423971.34 | J25: =SUM(J26:J31) -> 423971.34 | K25: =SUM(K26:K31) -> 423971.34 | L25: =SUM(L26:L31) -> 423971.34 | ... T25: =SUM(T26:T31) -> 423971.34
B26: EURO I | C26: PLN | E26: =(Założenia!D276*Założenia!D$292)*Założenia!$E$177 -> 0 | F26: =(Założenia!E276*Założenia!E$292)*Założenia!$E$177 -> 0 | G26: =(Założenia!F276*Założenia!F$292)*Założenia!$E$177 -> 0 | H26: =(Założenia!G276*Założenia!G$292)*Założenia!$E$177 -> 0 | I26: =(Założenia!H276*Założenia!H$292)*Założenia!$E$177 -> 0 | J26: =(Założenia!I276*Założenia!I$292)*Założenia!$E$177 -> 0 | K26: =(Założenia!J276*Założenia!J$292)*Założenia!$E$177 -> 0 | L26: =(Założenia!K276*Założenia!K$292)*Założenia!$E$177 -> 0 | ... T26: =(Założenia!S276*Założenia!S$292)*Założenia!$E$177 -> 0
B27: EURO II | C27: PLN | E27: =(Założenia!D277*Założenia!D$292)*Założenia!$E$177 -> 0 | F27: =(Założenia!E277*Założenia!E$292)*Założenia!$E$177 -> 0 | G27: =(Założenia!F277*Założenia!F$292)*Założenia!$E$177 -> 0 | H27: =(Założenia!G277*Założenia!G$292)*Założenia!$E$177 -> 0 | I27: =(Założenia!H277*Założenia!H$292)*Założenia!$E$177 -> 0 | J27: =(Założenia!I277*Założenia!I$292)*Założenia!$E$177 -> 0 | K27: =(Założenia!J277*Założenia!J$292)*Założenia!$E$177 -> 0 | L27: =(Założenia!K277*Założenia!K$292)*Założenia!$E$177 -> 0 | ... T27: =(Założenia!S277*Założenia!S$292)*Założenia!$E$177 -> 0
B28: EURO III | C28: PLN | E28: =(Założenia!D278*Założenia!D$292)*Założenia!$E$177 -> 0 | F28: =(Założenia!E278*Założenia!E$292)*Założenia!$E$177 -> 0 | G28: =(Założenia!F278*Założenia!F$292)*Założenia!$E$177 -> 0 | H28: =(Założenia!G278*Założenia!G$292)*Założenia!$E$177 -> 0 | I28: =(Założenia!H278*Założenia!H$292)*Założenia!$E$177 -> 0 | J28: =(Założenia!I278*Założenia!I$292)*Założenia!$E$177 -> 0 | K28: =(Założenia!J278*Założenia!J$292)*Założenia!$E$177 -> 0 | L28: =(Założenia!K278*Założenia!K$292)*Założenia!$E$177 -> 0 | ... T28: =(Założenia!S278*Założenia!S$292)*Założenia!$E$177 -> 0
B29: EURO IV | C29: PLN | E29: =(Założenia!D279*Założenia!D$292)*Założenia!$E$177 -> 0 | F29: =(Założenia!E279*Założenia!E$292)*Założenia!$E$177 -> 0 | G29: =(Założenia!F279*Założenia!F$292)*Założenia!$E$177 -> 0 | H29: =(Założenia!G279*Założenia!G$292)*Założenia!$E$177 -> 0 | I29: =(Założenia!H279*Założenia!H$292)*Założenia!$E$177 -> 0 | J29: =(Założenia!I279*Założenia!I$292)*Założenia!$E$177 -> 0 | K29: =(Założenia!J279*Założenia!J$292)*Założenia!$E$177 -> 0 | L29: =(Założenia!K279*Założenia!K$292)*Założenia!$E$177 -> 0 | ... T29: =(Założenia!S279*Założenia!S$292)*Założenia!$E$177 -> 0
B30: EURO V | C30: PLN | E30: =(Założenia!D280*Założenia!D$292)*Założenia!$E$177 -> 0 | F30: =(Założenia!E280*Założenia!E$292)*Założenia!$E$177 -> 0 | G30: =(Założenia!F280*Założenia!F$292)*Założenia!$E$177 -> 0 | H30: =(Założenia!G280*Założenia!G$292)*Założenia!$E$177 -> 0 | I30: =(Założenia!H280*Założenia!H$292)*Założenia!$E$177 -> 0 | J30: =(Założenia!I280*Założenia!I$292)*Założenia!$E$177 -> 0 | K30: =(Założenia!J280*Założenia!J$292)*Założenia!$E$177 -> 0 | L30: =(Założenia!K280*Założenia!K$292)*Założenia!$E$177 -> 0 | ... T30: =(Założenia!S280*Założenia!S$292)*Założenia!$E$177 -> 0
B31: EURO VI i EURO VI Hybryda | C31: PLN | E31: =(Założenia!D281*Założenia!D292+Założenia!D282*Założenia!D293+Założenia!D273*Założenia!D291)*Założenia!$E$177 -> 423621.27 | F31: =(Założenia!E281*Założenia!E292+Założenia!E282*Założenia!E293+Założenia!E273*Założenia!E291)*Założenia!$E$177 -> 423971.34 | G31: =(Założenia!F281*Założenia!F292+Założenia!F282*Założenia!F293+Założenia!F273*Założenia!F291)*Założenia!$E$177 -> 423971.34 | H31: =(Założenia!G281*Założenia!G292+Założenia!G282*Założenia!G293+Założenia!G273*Założenia!G291)*Założenia!$E$177 -> 423971.34 | I31: =(Założenia!H281*Założenia!H292+Założenia!H282*Założenia!H293+Założenia!H273*Założenia!H291)*Założenia!$E$177 -> 423971.34 | J31: =(Założenia!I281*Założenia!I292+Założenia!I282*Założenia!I293+Założenia!I273*Założenia!I291)*Założenia!$E$177 -> 423971.34 | K31: =(Założenia!J281*Założenia!J292+Założenia!J282*Założenia!J293+Założenia!J273*Założenia!J291)*Założenia!$E$177 -> 423971.34 | L31: =(Założenia!K281*Założenia!K292+Założenia!K282*Założenia!K293+Założenia!K273*Założenia!K291)*Założenia!$E$177 -> 423971.34 | ... T31: =(Założenia!S281*Założenia!S292+Założenia!S282*Założenia!S293+Założenia!S273*Założenia!S291)*Założenia!$E$177 -> 423971.34
B32: ELEKTRYCZNE | C32: PLN | E32: =Założenia!D283*Założenia!D294*Założenia!$E$177*Założenia!$E$180 -> 0 | F32: =Założenia!E283*Założenia!E294*Założenia!$E$177*Założenia!$E$180 -> 0 | G32: =Założenia!F283*Założenia!F294*Założenia!$E$177*Założenia!$E$180 -> 0 | H32: =Założenia!G283*Założenia!G294*Założenia!$E$177*Założenia!$E$180 -> 0 | I32: =Założenia!H283*Założenia!H294*Założenia!$E$177*Założenia!$E$180 -> 0 | J32: =Założenia!I283*Założenia!I294*Założenia!$E$177*Założenia!$E$180 -> 0 | K32: =Założenia!J283*Założenia!J294*Założenia!$E$177*Założenia!$E$180 -> 0 | L32: =Założenia!K283*Założenia!K294*Założenia!$E$177*Założenia!$E$180 -> 0 | ... T32: =Założenia!S283*Założenia!S294*Założenia!$E$177*Założenia!$E$180 -> 0
A33: 2.2. | B33: usługi obce | C33: PLN | E33: =((SUM(Założenia!D276:D280)*Założenia!D292)*Założenia!$E$178+(Założenia!D281*Założenia!D292+Założenia!D282*Założenia!D293+Założenia!D273*Założenia!D291)*Założenia!$E$178+(Założenia!D283*Założenia!D294)*Założenia!$E$178*Założenia!$E$180)*(1+(Założenia!D295-Założenia!$D$295)*Założenia!$E$182)+Opcje!E44*Założenia!$E$197+Opcje!E45*Założenia!$E$196 -> 681335.38 | F33: =((SUM(Założenia!E276:E280)*Założenia!E292)*Założenia!$E$178+(Założenia!E281*Założenia!E292+Założenia!E282*Założenia!E293+Założenia!E273*Założenia!E291)*Założenia!$E$178+(Założenia!E283*Założenia!E294)*Założenia!$E$178*Założenia!$E$180)*(1+(Założenia!E295-Założenia!$D$295)*Założenia!$E$182)+Opcje!F44*Założenia!$E$197+Opcje!F45*Założenia!$E$196 -> 715993.34 | G33: =((SUM(Założenia!F276:F280)*Założenia!F292)*Założenia!$E$178+(Założenia!F281*Założenia!F292+Założenia!F282*Założenia!F293+Założenia!F273*Założenia!F291)*Założenia!$E$178+(Założenia!F283*Założenia!F294)*Założenia!$E$178*Założenia!$E$180)*(1+(Założenia!F295-Założenia!$D$295)*Założenia!$E$182)+Opcje!G44*Założenia!$E$197+Opcje!G45*Założenia!$E$196 -> 750088.26 | H33: =((SUM(Założenia!G276:G280)*Założenia!G292)*Założenia!$E$178+(Założenia!G281*Założenia!G292+Założenia!G282*Założenia!G293+Założenia!G273*Założenia!G291)*Założenia!$E$178+(Założenia!G283*Założenia!G294)*Założenia!$E$178*Założenia!$E$180)*(1+(Założenia!G295-Założenia!$D$295)*Założenia!$E$182)+Opcje!H44*Założenia!$E$197+Opcje!H45*Założenia!$E$196 -> 784183.18 | I33: =((SUM(Założenia!H276:H280)*Założenia!H292)*Założenia!$E$178+(Założenia!H281*Założenia!H292+Założenia!H282*Założenia!H293+Założenia!H273*Założenia!H291)*Założenia!$E$178+(Założenia!H283*Założenia!H294)*Założenia!$E$178*Założenia!$E$180)*(1+(Założenia!H295-Założenia!$D$295)*Założenia!$E$182)+Opcje!I44*Założenia!$E$197+Opcje!I45*Założenia!$E$196 -> 818278.1 | J33: =((SUM(Założenia!I276:I280)*Założenia!I292)*Założenia!$E$178+(Założenia!I281*Założenia!I292+Założenia!I282*Założenia!I293+Założenia!I273*Założenia!I291)*Założenia!$E$178+(Założenia!I283*Założenia!I294)*Założenia!$E$178*Założenia!$E$180)*(1+(Założenia!I295-Założenia!$D$295)*Założenia!$E$182)+Opcje!J44*Założenia!$E$197+Opcje!J45*Założenia!$E$196 -> 852373.02 | K33: =((SUM(Założenia!J276:J280)*Założenia!J292)*Założenia!$E$178+(Założenia!J281*Założenia!J292+Założenia!J282*Założenia!J293+Założenia!J273*Założenia!J291)*Założenia!$E$178+(Założenia!J283*Założenia!J294)*Założenia!$E$178*Założenia!$E$180)*(1+(Założenia!J295-Założenia!$D$295)*Założenia!$E$182)+Opcje!K44*Założenia!$E$197+Opcje!K45*Założenia!$E$196 -> 886467.94 | L33: =((SUM(Założenia!K276:K280)*Założenia!K292)*Założenia!$E$178+(Założenia!K281*Założenia!K292+Założenia!K282*Założenia!K293+Założenia!K273*Założenia!K291)*Założenia!$E$178+(Założenia!K283*Założenia!K294)*Założenia!$E$178*Założenia!$E$180)*(1+(Założenia!K295-Założenia!$D$295)*Założenia!$E$182)+Opcje!L44*Założenia!$E$197+Opcje!L45*Założenia!$E$196 -> 713498.59 | ... T33: =((SUM(Założenia!S276:S280)*Założenia!S292)*Założenia!$E$178+(Założenia!S281*Założenia!S292+Założenia!S282*Założenia!S293+Założenia!S273*Założenia!S291)*Założenia!$E$178+(Założenia!S283*Założenia!S294)*Założenia!$E$178*Założenia!$E$180)*(1+(Założenia!S295-Założenia!$D$295)*Założenia!$E$182)+Opcje!T44*Założenia!$E$197+Opcje!T45*Założenia!$E$196 -> 713498.59
A34: 2.3. | B34: podatki i opłaty | C34: PLN | E34: =Założenia!$E$218 -> 337789.35 | F34: =Założenia!$E$218 -> 337789.35 | G34: =Założenia!$E$218 -> 337789.35 | H34: =Założenia!$E$218 -> 337789.35 | I34: =Założenia!$E$218 -> 337789.35 | J34: =Założenia!$E$218 -> 337789.35 | K34: =Założenia!$E$218 -> 337789.35 | L34: =Założenia!$E$218 -> 337789.35 | ... T34: =Założenia!$E$218 -> 337789.35
A35: 2.4. | B35: wynagrodzenia | C35: PLN | E35: =Założenia!$E$209 -> 5097501.7 | F35: =Założenia!$E$209 -> 5097501.7 | G35: =Założenia!$E$209 -> 5097501.7 | H35: =Założenia!$E$209 -> 5097501.7 | I35: =Założenia!$E$209 -> 5097501.7 | J35: =Założenia!$E$209 -> 5097501.7 | K35: =Założenia!$E$209 -> 5097501.7 | L35: =Założenia!$E$209 -> 5097501.7 | ... T35: =Założenia!$E$209 -> 5097501.7
A36: 2.5. | B36: świadczenia na rzecz pracowników | C36: PLN | E36: =Założenia!$E$210 -> 1372905.9 | F36: =Założenia!$E$210 -> 1372905.9 | G36: =Założenia!$E$210 -> 1372905.9 | H36: =Założenia!$E$210 -> 1372905.9 | I36: =Założenia!$E$210 -> 1372905.9 | J36: =Założenia!$E$210 -> 1372905.9 | K36: =Założenia!$E$210 -> 1372905.9 | L36: =Założenia!$E$210 -> 1372905.9 | ... T36: =Założenia!$E$210 -> 1372905.9
A37: 2.7. | B37: pozostałe | C37: PLN | E37: =E38+E39 -> 1249696.5 | F37: =F38+F39 -> 1249696.5 | G37: =G38+G39 -> 1249696.5 | H37: =H38+H39 -> 1249696.5 | I37: =I38+I39 -> 1249696.5 | J37: =J38+J39 -> 1249696.5 | K37: =K38+K39 -> 1249696.5 | L37: =L38+L39 -> 1249696.5 | ... T37: =T38+T39 -> 1249696.5
A38: 2.7.1. | B38: ubezpieczenia autobusów | C38: PLN | E38: =Założenia!$F$229*Założenia!D272 -> 276716 | F38: =Założenia!$F$229*Założenia!E272 -> 276716 | G38: =Założenia!$F$229*Założenia!F272 -> 276716 | H38: =Założenia!$F$229*Założenia!G272 -> 276716 | I38: =Założenia!$F$229*Założenia!H272 -> 276716 | J38: =Założenia!$F$229*Założenia!I272 -> 276716 | K38: =Założenia!$F$229*Założenia!J272 -> 276716 | L38: =Założenia!$F$229*Założenia!K272 -> 276716 | ... T38: =Założenia!$F$229*Założenia!S272 -> 276716
A39: 2.7.2. | B39: inne | C39: PLN | E39: =Założenia!$E$220 -> 972980.47 | F39: =Założenia!$E$220 -> 972980.47 | G39: =Założenia!$E$220 -> 972980.47 | H39: =Założenia!$E$220 -> 972980.47 | I39: =Założenia!$E$220 -> 972980.47 | J39: =Założenia!$E$220 -> 972980.47 | K39: =Założenia!$E$220 -> 972980.47 | L39: =Założenia!$E$220 -> 972980.47 | ... T39: =Założenia!$E$220 -> 972980.47
A40: B. | B40: Koszty ogólne | C40: PLN | E40: =Założenia!$E222 -> 1348716.5 | F40: =Założenia!$E222 -> 1348716.5 | G40: =Założenia!$E222 -> 1348716.5 | H40: =Założenia!$E222 -> 1348716.5 | I40: =Założenia!$E222 -> 1348716.5 | J40: =Założenia!$E222 -> 1348716.5 | K40: =Założenia!$E222 -> 1348716.5 | L40: =Założenia!$E222 -> 1348716.5 | ... T40: =Założenia!$E222 -> 1348716.5
A42: TABELA 2. | B42: EFEKTY ZEWNĘTRZNE
A43: 1. | B43: Skutki zmian klimatycznych: | C43: PLN | E43: =E45*E50 -> 225256.51 | F43: =F45*F50 -> 231883.88 | G43: =G45*G50 -> 238325.09 | H43: =H45*H50 -> 244766.31 | I43: =I45*I50 -> 251207.53 | J43: =J45*J50 -> 257648.75 | K43: =K45*K50 -> 264089.97 | L43: =L45*L50 -> 270531.19 | ... T43: =T45*T50 -> 322060.94
B44: Wskaźnik emisji CO2 przez silnik ON | C44: kgCO2/l | E44: =Założenia!E114 -> 2.68 | F44: =Założenia!F114 -> 2.68 | G44: =Założenia!G114 -> 2.68 | H44: =Założenia!H114 -> 2.68 | I44: =Założenia!I114 -> 2.68 | J44: =Założenia!J114 -> 2.68 | K44: =Założenia!K114 -> 2.68 | L44: =Założenia!L114 -> 2.68 | ... T44: =Założenia!T114 -> 2.68
B45: Jednostkowy koszt CO2 | C45: PLN/tCO2 | E45: =Założenia!E115 -> 188.60725 | F45: =Założenia!F115 -> 193.99603 | G45: =Założenia!G115 -> 199.38481 | H45: =Założenia!H115 -> 204.77359 | I45: =Założenia!I115 -> 210.16237 | J45: =Założenia!J115 -> 215.55115 | K45: =Założenia!K115 -> 220.93993 | L45: =Założenia!L115 -> 226.3287 | ... T45: =Założenia!T115 -> 269.43893
B46: Średnia liczba wozokilometrów na autobus ON poniżej 10 m | C46: wzkm/rok | E46: =Założenia!D291 -> 52086.957 | F46: =Założenia!E291 -> 52130 | G46: =Założenia!F291 -> 52130 | H46: =Założenia!G291 -> 52130 | I46: =Założenia!H291 -> 52130 | J46: =Założenia!I291 -> 52130 | K46: =Założenia!J291 -> 52130 | L46: =Założenia!K291 -> 52130 | ... T46: =Założenia!S291 -> 52130
B47: Średnia liczba wozokilometrów na autobus ON | C47: wzkm/rok | E47: =Założenia!D292 -> 55555.556 | F47: =Założenia!E292 -> 55601.465 | G47: =Założenia!F292 -> 55601.465 | H47: =Założenia!G292 -> 55601.465 | I47: =Założenia!H292 -> 55601.465 | J47: =Założenia!I292 -> 55601.465 | K47: =Założenia!J292 -> 55601.465 | L47: =Założenia!K292 -> 55601.465 | ... T47: =Założenia!S292 -> 55601.465
B48: Średnia liczba wozokilometrów na autobus ON hybryda | C48: wzkm/rok | E48: =Założenia!D293 -> 0 | F48: =Założenia!E293 -> 0 | G48: =Założenia!F293 -> 0 | H48: =Założenia!G293 -> 0 | I48: =Założenia!H293 -> 0 | J48: =Założenia!I293 -> 0 | K48: =Założenia!J293 -> 0 | L48: =Założenia!K293 -> 0 | ... T48: =Założenia!S293 -> 0
B49: Średnia liczba wozokilometrów na autobus ELEKTRYCZNY | C49: wzkm/rok | E49: 0 | F49: 1 | G49: 2 | H49: 3 | I49: 4 | J49: 5 | K49: 6 | L49: 7 | M49: 8 | N49: 9 | O49: 10 | P49: 11 | Q49: 12 | R49: 13 | S49: 14 | T49: 15
B50: Ilość CO2, w tym: | C50: tCO2 | E50: =E51+E59 -> 1194.3152 | F50: =F51+F59 -> 1195.3022 | G50: =G51+G59 -> 1195.3022 | H50: =H51+H59 -> 1195.3022 | I50: =I51+I59 -> 1195.3022 | J50: =J51+J59 -> 1195.3022 | K50: =K51+K59 -> 1195.3022 | L50: =L51+L59 -> 1195.3022 | ... T50: =T51+T59 -> 1195.3022
B51: ON: | C51: tCO2 | E51: =SUM(E52:E58) -> 1194.3152 | F51: =SUM(F52:F58) -> 1195.3022 | G51: =SUM(G52:G58) -> 1195.3022 | H51: =SUM(H52:H58) -> 1195.3022 | I51: =SUM(I52:I58) -> 1195.3022 | J51: =SUM(J52:J58) -> 1195.3022 | K51: =SUM(K52:K58) -> 1195.3022 | L51: =SUM(L52:L58) -> 1195.3022 | ... T51: =SUM(T52:T58) -> 1195.3022
B52: EURO I | C52: tCO2 | E52: =Założenia!D276*E$47*E$44/1000*Założenia!$G53/100 -> 0 | F52: =Założenia!E276*F$47*F$44/1000*Założenia!$G53/100 -> 0 | G52: =Założenia!F276*G$47*G$44/1000*Założenia!$G53/100 -> 0 | H52: =Założenia!G276*H$47*H$44/1000*Założenia!$G53/100 -> 0 | I52: =Założenia!H276*I$47*I$44/1000*Założenia!$G53/100 -> 0 | J52: =Założenia!I276*J$47*J$44/1000*Założenia!$G53/100 -> 0 | K52: =Założenia!J276*K$47*K$44/1000*Założenia!$G53/100 -> 0 | L52: =Założenia!K276*L$47*L$44/1000*Założenia!$G53/100 -> 0 | ... T52: =Założenia!S276*T$47*T$44/1000*Założenia!$G53/100 -> 0
B53: EURO II | C53: tCO2 | E53: =Założenia!D277*E$47*E$44/1000*Założenia!$G54/100 -> 0 | F53: =Założenia!E277*F$47*F$44/1000*Założenia!$G54/100 -> 0 | G53: =Założenia!F277*G$47*G$44/1000*Założenia!$G54/100 -> 0 | H53: =Założenia!G277*H$47*H$44/1000*Założenia!$G54/100 -> 0 | I53: =Założenia!H277*I$47*I$44/1000*Założenia!$G54/100 -> 0 | J53: =Założenia!I277*J$47*J$44/1000*Założenia!$G54/100 -> 0 | K53: =Założenia!J277*K$47*K$44/1000*Założenia!$G54/100 -> 0 | L53: =Założenia!K277*L$47*L$44/1000*Założenia!$G54/100 -> 0 | ... T53: =Założenia!S277*T$47*T$44/1000*Założenia!$G54/100 -> 0
B54: EURO III | C54: tCO2 | E54: =Założenia!D278*E$47*E$44/1000*Założenia!$G55/100 -> 0 | F54: =Założenia!E278*F$47*F$44/1000*Założenia!$G55/100 -> 0 | G54: =Założenia!F278*G$47*G$44/1000*Założenia!$G55/100 -> 0 | H54: =Założenia!G278*H$47*H$44/1000*Założenia!$G55/100 -> 0 | I54: =Założenia!H278*I$47*I$44/1000*Założenia!$G55/100 -> 0 | J54: =Założenia!I278*J$47*J$44/1000*Założenia!$G55/100 -> 0 | K54: =Założenia!J278*K$47*K$44/1000*Założenia!$G55/100 -> 0 | L54: =Założenia!K278*L$47*L$44/1000*Założenia!$G55/100 -> 0 | ... T54: =Założenia!S278*T$47*T$44/1000*Założenia!$G55/100 -> 0
B55: EURO IV | C55: tCO2 | E55: =Założenia!D279*E$47*E$44/1000*Założenia!$G56/100 -> 0 | F55: =Założenia!E279*F$47*F$44/1000*Założenia!$G56/100 -> 0 | G55: =Założenia!F279*G$47*G$44/1000*Założenia!$G56/100 -> 0 | H55: =Założenia!G279*H$47*H$44/1000*Założenia!$G56/100 -> 0 | I55: =Założenia!H279*I$47*I$44/1000*Założenia!$G56/100 -> 0 | J55: =Założenia!I279*J$47*J$44/1000*Założenia!$G56/100 -> 0 | K55: =Założenia!J279*K$47*K$44/1000*Założenia!$G56/100 -> 0 | L55: =Założenia!K279*L$47*L$44/1000*Założenia!$G56/100 -> 0 | ... T55: =Założenia!S279*T$47*T$44/1000*Założenia!$G56/100 -> 0
B56: EURO V | C56: tCO2 | E56: =Założenia!D280*E$47*E$44/1000*Założenia!$G57/100 -> 0 | F56: =Założenia!E280*F$47*F$44/1000*Założenia!$G57/100 -> 0 | G56: =Założenia!F280*G$47*G$44/1000*Założenia!$G57/100 -> 0 | H56: =Założenia!G280*H$47*H$44/1000*Założenia!$G57/100 -> 0 | I56: =Założenia!H280*I$47*I$44/1000*Założenia!$G57/100 -> 0 | J56: =Założenia!I280*J$47*J$44/1000*Założenia!$G57/100 -> 0 | K56: =Założenia!J280*K$47*K$44/1000*Założenia!$G57/100 -> 0 | L56: =Założenia!K280*L$47*L$44/1000*Założenia!$G57/100 -> 0 | ... T56: =Założenia!S280*T$47*T$44/1000*Założenia!$G57/100 -> 0
B57: EURO VI | C57: tCO2 | E57: =Założenia!D281*E$47*E$44/1000*Założenia!$G58/100+Założenia!D273*E$46*E$44/1000*Założenia!$E58/100 -> 1194.3152 | F57: =Założenia!E281*F$47*F$44/1000*Założenia!$G58/100+Założenia!E273*F$46*F$44/1000*Założenia!$E58/100 -> 1195.3022 | G57: =Założenia!F281*G$47*G$44/1000*Założenia!$G58/100+Założenia!F273*G$46*G$44/1000*Założenia!$E58/100 -> 1195.3022 | H57: =Założenia!G281*H$47*H$44/1000*Założenia!$G58/100+Założenia!G273*H$46*H$44/1000*Założenia!$E58/100 -> 1195.3022 | I57: =Założenia!H281*I$47*I$44/1000*Założenia!$G58/100+Założenia!H273*I$46*I$44/1000*Założenia!$E58/100 -> 1195.3022 | J57: =Założenia!I281*J$47*J$44/1000*Założenia!$G58/100+Założenia!I273*J$46*J$44/1000*Założenia!$E58/100 -> 1195.3022 | K57: =Założenia!J281*K$47*K$44/1000*Założenia!$G58/100+Założenia!J273*K$46*K$44/1000*Założenia!$E58/100 -> 1195.3022 | L57: =Założenia!K281*L$47*L$44/1000*Założenia!$G58/100+Założenia!K273*L$46*L$44/1000*Założenia!$E58/100 -> 1195.3022 | ... T57: =Założenia!S281*T$47*T$44/1000*Założenia!$G58/100+Założenia!S273*T$46*T$44/1000*Założenia!$E58/100 -> 1195.3022
B58: EURO VI HYBRYDA | C58: tCO2 | E58: =Założenia!D282*E$48*E$44/1000*Założenia!$G59/100 -> 0 | F58: =Założenia!E282*F$48*F$44/1000*Założenia!$G59/100 -> 0 | G58: =Założenia!F282*G$48*G$44/1000*Założenia!$G59/100 -> 0 | H58: =Założenia!G282*H$48*H$44/1000*Założenia!$G59/100 -> 0 | I58: =Założenia!H282*I$48*I$44/1000*Założenia!$G59/100 -> 0 | J58: =Założenia!I282*J$48*J$44/1000*Założenia!$G59/100 -> 0 | K58: =Założenia!J282*K$48*K$44/1000*Założenia!$G59/100 -> 0 | L58: =Założenia!K282*L$48*L$44/1000*Założenia!$G59/100 -> 0 | ... T58: =Założenia!S282*T$48*T$44/1000*Założenia!$G59/100 -> 0
B59: ELEKTRYCZNE | C59: tCO2 | E59: =E49*Założenia!D283*Założenia!$E$184*Założenia!$E$123*Założenia!E116/1000000 -> 0 | F59: =F49*Założenia!E283*Założenia!$E$184*Założenia!$E$123*Założenia!F116/1000000 -> 0 | G59: =G49*Założenia!F283*Założenia!$E$184*Założenia!$E$123*Założenia!G116/1000000 -> 0 | H59: =H49*Założenia!G283*Założenia!$E$184*Założenia!$E$123*Założenia!H116/1000000 -> 0 | I59: =I49*Założenia!H283*Założenia!$E$184*Założenia!$E$123*Założenia!I116/1000000 -> 0 | J59: =J49*Założenia!I283*Założenia!$E$184*Założenia!$E$123*Założenia!J116/1000000 -> 0 | K59: =K49*Założenia!J283*Założenia!$E$184*Założenia!$E$123*Założenia!K116/1000000 -> 0 | L59: =L49*Założenia!K283*Założenia!$E$184*Założenia!$E$123*Założenia!L116/1000000 -> 0 | ... T59: =T49*Założenia!S283*Założenia!$E$184*Założenia!$E$123*Założenia!T116/1000000 -> 0
A60: 2. | B60: Skutki zanieczyszczenia powietrza: | C60: PLN | E60: =(E62*Założenia!E96*(1+Założenia!$C$110)+E70*Założenia!E96)+(E72*Założenia!E99*(1+Założenia!$C$110)+E80*Założenia!E99)+(E82*Założenia!E97*(1+Założenia!$C$110)+E90*Założenia!E97) -> 239740.03 | F60: =(F62*Założenia!F96*(1+Założenia!$C$110)+F70*Założenia!F96)+(F72*Założenia!F99*(1+Założenia!$C$110)+F80*Założenia!F99)+(F82*Założenia!F97*(1+Założenia!$C$110)+F90*Założenia!F97) -> 249700.68 | G60: =(G62*Założenia!G96*(1+Założenia!$C$110)+G70*Założenia!G96)+(G72*Założenia!G99*(1+Założenia!$C$110)+G80*Założenia!G99)+(G82*Założenia!G97*(1+Założenia!$C$110)+G90*Założenia!G97) -> 259290.58 | H60: =(H62*Założenia!H96*(1+Założenia!$C$110)+H70*Założenia!H96)+(H72*Założenia!H99*(1+Założenia!$C$110)+H80*Założenia!H99)+(H82*Założenia!H97*(1+Założenia!$C$110)+H90*Założenia!H97) -> 267412.79 | I60: =(I62*Założenia!I96*(1+Założenia!$C$110)+I70*Założenia!I96)+(I72*Założenia!I99*(1+Założenia!$C$110)+I80*Założenia!I99)+(I82*Założenia!I97*(1+Założenia!$C$110)+I90*Założenia!I97) -> 275399.36 | J60: =(J62*Założenia!J96*(1+Założenia!$C$110)+J70*Założenia!J96)+(J72*Założenia!J99*(1+Założenia!$C$110)+J80*Założenia!J99)+(J82*Założenia!J97*(1+Założenia!$C$110)+J90*Założenia!J97) -> 283665.48 | K60: =(K62*Założenia!K96*(1+Założenia!$C$110)+K70*Założenia!K96)+(K72*Założenia!K99*(1+Założenia!$C$110)+K80*Założenia!K99)+(K82*Założenia!K97*(1+Założenia!$C$110)+K90*Założenia!K97) -> 292222.29 | L60: =(L62*Założenia!L96*(1+Założenia!$C$110)+L70*Założenia!L96)+(L72*Założenia!L99*(1+Założenia!$C$110)+L80*Założenia!L99)+(L82*Założenia!L97*(1+Założenia!$C$110)+L90*Założenia!L97) -> 300846.95 | ... T60: =(T62*Założenia!T96*(1+Założenia!$C$110)+T70*Założenia!T96)+(T72*Założenia!T99*(1+Założenia!$C$110)+T80*Założenia!T99)+(T82*Założenia!T97*(1+Założenia!$C$110)+T90*Założenia!T97) -> 367558.24
A61: 2.1. | B61: Emisja NOx | C61: tNOx | E61: =E62+E70 -> 1.78256 | F61: =F62+F70 -> 1.7840331 | G61: =G62+G70 -> 1.7840331 | H61: =H62+H70 -> 1.7840331 | I61: =I62+I70 -> 1.7840331 | J61: =J62+J70 -> 1.7840331 | K61: =K62+K70 -> 1.7840331 | L61: =L62+L70 -> 1.7840331 | ... T61: =T62+T70 -> 1.7840331
B62: ON: | C62: tNOx | E62: =SUM(E63:E69) -> 1.78256 | F62: =SUM(F63:F69) -> 1.7840331 | G62: =SUM(G63:G69) -> 1.7840331 | H62: =SUM(H63:H69) -> 1.7840331 | I62: =SUM(I63:I69) -> 1.7840331 | J62: =SUM(J63:J69) -> 1.7840331 | K62: =SUM(K63:K69) -> 1.7840331 | L62: =SUM(L63:L69) -> 1.7840331 | ... T62: =SUM(T63:T69) -> 1.7840331
B63: EURO I | C63: tNOx | E63: =Założenia!D276*Założenia!D$292*Założenia!$F$72/1000000 -> 0 | F63: =Założenia!E276*Założenia!E$292*Założenia!$F$72/1000000 -> 0 | G63: =Założenia!F276*Założenia!F$292*Założenia!$F$72/1000000 -> 0 | H63: =Założenia!G276*Założenia!G$292*Założenia!$F$72/1000000 -> 0 | I63: =Założenia!H276*Założenia!H$292*Założenia!$F$72/1000000 -> 0 | J63: =Założenia!I276*Założenia!I$292*Założenia!$F$72/1000000 -> 0 | K63: =Założenia!J276*Założenia!J$292*Założenia!$F$72/1000000 -> 0 | L63: =Założenia!K276*Założenia!K$292*Założenia!$F$72/1000000 -> 0 | ... T63: =Założenia!S276*Założenia!S$292*Założenia!$F$72/1000000 -> 0
B64: EURO II | C64: tNOx | E64: =Założenia!D277*Założenia!D$292*Założenia!$F$73/1000000 -> 0 | F64: =Założenia!E277*Założenia!E$292*Założenia!$F$73/1000000 -> 0 | G64: =Założenia!F277*Założenia!F$292*Założenia!$F$73/1000000 -> 0 | H64: =Założenia!G277*Założenia!G$292*Założenia!$F$73/1000000 -> 0 | I64: =Założenia!H277*Założenia!H$292*Założenia!$F$73/1000000 -> 0 | J64: =Założenia!I277*Założenia!I$292*Założenia!$F$73/1000000 -> 0 | K64: =Założenia!J277*Założenia!J$292*Założenia!$F$73/1000000 -> 0 | L64: =Założenia!K277*Założenia!K$292*Założenia!$F$73/1000000 -> 0 | ... T64: =Założenia!S277*Założenia!S$292*Założenia!$F$73/1000000 -> 0
B65: EURO III | C65: tNOx | E65: =Założenia!D278*Założenia!D$292*Założenia!$F$74/1000000 -> 0 | F65: =Założenia!E278*Założenia!E$292*Założenia!$F$74/1000000 -> 0 | G65: =Założenia!F278*Założenia!F$292*Założenia!$F$74/1000000 -> 0 | H65: =Założenia!G278*Założenia!G$292*Założenia!$F$74/1000000 -> 0 | I65: =Założenia!H278*Założenia!H$292*Założenia!$F$74/1000000 -> 0 | J65: =Założenia!I278*Założenia!I$292*Założenia!$F$74/1000000 -> 0 | K65: =Założenia!J278*Założenia!J$292*Założenia!$F$74/1000000 -> 0 | L65: =Założenia!K278*Założenia!K$292*Założenia!$F$74/1000000 -> 0 | ... T65: =Założenia!S278*Założenia!S$292*Założenia!$F$74/1000000 -> 0
B66: EURO IV | C66: tNOx | E66: =Założenia!D279*Założenia!D$292*Założenia!$F$75/1000000 -> 0 | F66: =Założenia!E279*Założenia!E$292*Założenia!$F$75/1000000 -> 0 | G66: =Założenia!F279*Założenia!F$292*Założenia!$F$75/1000000 -> 0 | H66: =Założenia!G279*Założenia!G$292*Założenia!$F$75/1000000 -> 0 | I66: =Założenia!H279*Założenia!H$292*Założenia!$F$75/1000000 -> 0 | J66: =Założenia!I279*Założenia!I$292*Założenia!$F$75/1000000 -> 0 | K66: =Założenia!J279*Założenia!J$292*Założenia!$F$75/1000000 -> 0 | L66: =Założenia!K279*Założenia!K$292*Założenia!$F$75/1000000 -> 0 | ... T66: =Założenia!S279*Założenia!S$292*Założenia!$F$75/1000000 -> 0
B67: EURO V | C67: tNOx | E67: =Założenia!D280*Założenia!D$292*Założenia!$F$76/1000000 -> 0 | F67: =Założenia!E280*Założenia!E$292*Założenia!$F$76/1000000 -> 0 | G67: =Założenia!F280*Założenia!F$292*Założenia!$F$76/1000000 -> 0 | H67: =Założenia!G280*Założenia!G$292*Założenia!$F$76/1000000 -> 0 | I67: =Założenia!H280*Założenia!H$292*Założenia!$F$76/1000000 -> 0 | J67: =Założenia!I280*Założenia!I$292*Założenia!$F$76/1000000 -> 0 | K67: =Założenia!J280*Założenia!J$292*Założenia!$F$76/1000000 -> 0 | L67: =Założenia!K280*Założenia!K$292*Założenia!$F$76/1000000 -> 0 | ... T67: =Założenia!S280*Założenia!S$292*Założenia!$F$76/1000000 -> 0
B68: EURO VI | C68: tNOx | E68: =Założenia!D281*Założenia!D$292*Założenia!$F$77/1000000+Założenia!D273*Założenia!D291*Założenia!$F$68/1000000 -> 1.78256 | F68: =Założenia!E281*Założenia!E$292*Założenia!$F$77/1000000+Założenia!E273*Założenia!E291*Założenia!$F$68/1000000 -> 1.7840331 | G68: =Założenia!F281*Założenia!F$292*Założenia!$F$77/1000000+Założenia!F273*Założenia!F291*Założenia!$F$68/1000000 -> 1.7840331 | H68: =Założenia!G281*Założenia!G$292*Założenia!$F$77/1000000+Założenia!G273*Założenia!G291*Założenia!$F$68/1000000 -> 1.7840331 | I68: =Założenia!H281*Założenia!H$292*Założenia!$F$77/1000000+Założenia!H273*Założenia!H291*Założenia!$F$68/1000000 -> 1.7840331 | J68: =Założenia!I281*Założenia!I$292*Założenia!$F$77/1000000+Założenia!I273*Założenia!I291*Założenia!$F$68/1000000 -> 1.7840331 | K68: =Założenia!J281*Założenia!J$292*Założenia!$F$77/1000000+Założenia!J273*Założenia!J291*Założenia!$F$68/1000000 -> 1.7840331 | L68: =Założenia!K281*Założenia!K$292*Założenia!$F$77/1000000+Założenia!K273*Założenia!K291*Założenia!$F$68/1000000 -> 1.7840331 | ... T68: =Założenia!S281*Założenia!S$292*Założenia!$F$77/1000000+Założenia!S273*Założenia!S291*Założenia!$F$68/1000000 -> 1.7840331
B69: EURO VI HYBRYDA | C69: tNOx | E69: =Założenia!D282*Założenia!D$293*Założenia!$I77/1000000 -> 0 | F69: =Założenia!E282*Założenia!E$293*Założenia!$I77/1000000 -> 0 | G69: =Założenia!F282*Założenia!F$293*Założenia!$I77/1000000 -> 0 | H69: =Założenia!G282*Założenia!G$293*Założenia!$I77/1000000 -> 0 | I69: =Założenia!H282*Założenia!H$293*Założenia!$I77/1000000 -> 0 | J69: =Założenia!I282*Założenia!I$293*Założenia!$I77/1000000 -> 0 | K69: =Założenia!J282*Założenia!J$293*Założenia!$I77/1000000 -> 0 | L69: =Założenia!K282*Założenia!K$293*Założenia!$I77/1000000 -> 0 | ... T69: =Założenia!S282*Założenia!S$293*Założenia!$I77/1000000 -> 0
B70: ELEKTRYCZNE | C70: tNOx | E70: =Założenia!D283*Założenia!D$294*Założenia!$E$184*Założenia!$E$123*Założenia!E92/1000000 -> 0 | F70: =Założenia!E283*Założenia!E$294*Założenia!$E$184*Założenia!$E$123*Założenia!F92/1000000 -> 0 | G70: =Założenia!F283*Założenia!F$294*Założenia!$E$184*Założenia!$E$123*Założenia!G92/1000000 -> 0 | H70: =Założenia!G283*Założenia!G$294*Założenia!$E$184*Założenia!$E$123*Założenia!H92/1000000 -> 0 | I70: =Założenia!H283*Założenia!H$294*Założenia!$E$184*Założenia!$E$123*Założenia!I92/1000000 -> 0 | J70: =Założenia!I283*Założenia!I$294*Założenia!$E$184*Założenia!$E$123*Założenia!J92/1000000 -> 0 | K70: =Założenia!J283*Założenia!J$294*Założenia!$E$184*Założenia!$E$123*Założenia!K92/1000000 -> 0 | L70: =Założenia!K283*Założenia!K$294*Założenia!$E$184*Założenia!$E$123*Założenia!L92/1000000 -> 0 | ... T70: =Założenia!S283*Założenia!S$294*Założenia!$E$184*Założenia!$E$123*Założenia!T92/1000000 -> 0
A71: 2.2. | B71: Emisja PM | C71: tPM | E71: =E72+E80 -> 0.044564 | F71: =F72+F80 -> 0.044600827 | G71: =G72+G80 -> 0.044600827 | H71: =H72+H80 -> 0.044600827 | I71: =I72+I80 -> 0.044600827 | J71: =J72+J80 -> 0.044600827 | K71: =K72+K80 -> 0.044600827 | L71: =L72+L80 -> 0.044600827 | ... T71: =T72+T80 -> 0.044600827
B72: ON: | C72: tPM | E72: =SUM(E73:E79) -> 0.044564 | F72: =SUM(F73:F79) -> 0.044600827 | G72: =SUM(G73:G79) -> 0.044600827 | H72: =SUM(H73:H79) -> 0.044600827 | I72: =SUM(I73:I79) -> 0.044600827 | J72: =SUM(J73:J79) -> 0.044600827 | K72: =SUM(K73:K79) -> 0.044600827 | L72: =SUM(L73:L79) -> 0.044600827 | ... T72: =SUM(T73:T79) -> 0.044600827
B73: EURO I | C73: tPM | E73: =Założenia!D276*Założenia!D$292*Założenia!$G72/1000000 -> 0 | F73: =Założenia!E276*Założenia!E$292*Założenia!$G72/1000000 -> 0 | G73: =Założenia!F276*Założenia!F$292*Założenia!$G72/1000000 -> 0 | H73: =Założenia!G276*Założenia!G$292*Założenia!$G72/1000000 -> 0 | I73: =Założenia!H276*Założenia!H$292*Założenia!$G72/1000000 -> 0 | J73: =Założenia!I276*Założenia!I$292*Założenia!$G72/1000000 -> 0 | K73: =Założenia!J276*Założenia!J$292*Założenia!$G72/1000000 -> 0 | L73: =Założenia!K276*Założenia!K$292*Założenia!$G72/1000000 -> 0 | ... T73: =Założenia!S276*Założenia!S$292*Założenia!$G72/1000000 -> 0
B74: EURO II | C74: tPM | E74: =Założenia!D277*Założenia!D$292*Założenia!$G73/1000000 -> 0 | F74: =Założenia!E277*Założenia!E$292*Założenia!$G73/1000000 -> 0 | G74: =Założenia!F277*Założenia!F$292*Założenia!$G73/1000000 -> 0 | H74: =Założenia!G277*Założenia!G$292*Założenia!$G73/1000000 -> 0 | I74: =Założenia!H277*Założenia!H$292*Założenia!$G73/1000000 -> 0 | J74: =Założenia!I277*Założenia!I$292*Założenia!$G73/1000000 -> 0 | K74: =Założenia!J277*Założenia!J$292*Założenia!$G73/1000000 -> 0 | L74: =Założenia!K277*Założenia!K$292*Założenia!$G73/1000000 -> 0 | ... T74: =Założenia!S277*Założenia!S$292*Założenia!$G73/1000000 -> 0
B75: EURO III | C75: tPM | E75: =Założenia!D278*Założenia!D$292*Założenia!$G74/1000000 -> 0 | F75: =Założenia!E278*Założenia!E$292*Założenia!$G74/1000000 -> 0 | G75: =Założenia!F278*Założenia!F$292*Założenia!$G74/1000000 -> 0 | H75: =Założenia!G278*Założenia!G$292*Założenia!$G74/1000000 -> 0 | I75: =Założenia!H278*Założenia!H$292*Założenia!$G74/1000000 -> 0 | J75: =Założenia!I278*Założenia!I$292*Założenia!$G74/1000000 -> 0 | K75: =Założenia!J278*Założenia!J$292*Założenia!$G74/1000000 -> 0 | L75: =Założenia!K278*Założenia!K$292*Założenia!$G74/1000000 -> 0 | ... T75: =Założenia!S278*Założenia!S$292*Założenia!$G74/1000000 -> 0
B76: EURO IV | C76: tPM | E76: =Założenia!D279*Założenia!D$292*Założenia!$G75/1000000 -> 0 | F76: =Założenia!E279*Założenia!E$292*Założenia!$G75/1000000 -> 0 | G76: =Założenia!F279*Założenia!F$292*Założenia!$G75/1000000 -> 0 | H76: =Założenia!G279*Założenia!G$292*Założenia!$G75/1000000 -> 0 | I76: =Założenia!H279*Założenia!H$292*Założenia!$G75/1000000 -> 0 | J76: =Założenia!I279*Założenia!I$292*Założenia!$G75/1000000 -> 0 | K76: =Założenia!J279*Założenia!J$292*Założenia!$G75/1000000 -> 0 | L76: =Założenia!K279*Założenia!K$292*Założenia!$G75/1000000 -> 0 | ... T76: =Założenia!S279*Założenia!S$292*Założenia!$G75/1000000 -> 0
B77: EURO V | C77: tPM | E77: =Założenia!D280*Założenia!D$292*Założenia!$G76/1000000 -> 0 | F77: =Założenia!E280*Założenia!E$292*Założenia!$G76/1000000 -> 0 | G77: =Założenia!F280*Założenia!F$292*Założenia!$G76/1000000 -> 0 | H77: =Założenia!G280*Założenia!G$292*Założenia!$G76/1000000 -> 0 | I77: =Założenia!H280*Założenia!H$292*Założenia!$G76/1000000 -> 0 | J77: =Założenia!I280*Założenia!I$292*Założenia!$G76/1000000 -> 0 | K77: =Założenia!J280*Założenia!J$292*Założenia!$G76/1000000 -> 0 | L77: =Założenia!K280*Założenia!K$292*Założenia!$G76/1000000 -> 0 | ... T77: =Założenia!S280*Założenia!S$292*Założenia!$G76/1000000 -> 0
B78: EURO VI | C78: tPM | E78: =Założenia!D281*Założenia!D$292*Założenia!$G77/1000000+Założenia!D273*Założenia!D291*Założenia!$G$68/1000000 -> 0.044564 | F78: =Założenia!E281*Założenia!E$292*Założenia!$G77/1000000+Założenia!E273*Założenia!E291*Założenia!$G$68/1000000 -> 0.044600827 | G78: =Założenia!F281*Założenia!F$292*Założenia!$G77/1000000+Założenia!F273*Założenia!F291*Założenia!$G$68/1000000 -> 0.044600827 | H78: =Założenia!G281*Założenia!G$292*Założenia!$G77/1000000+Założenia!G273*Założenia!G291*Założenia!$G$68/1000000 -> 0.044600827 | I78: =Założenia!H281*Założenia!H$292*Założenia!$G77/1000000+Założenia!H273*Założenia!H291*Założenia!$G$68/1000000 -> 0.044600827 | J78: =Założenia!I281*Założenia!I$292*Założenia!$G77/1000000+Założenia!I273*Założenia!I291*Założenia!$G$68/1000000 -> 0.044600827 | K78: =Założenia!J281*Założenia!J$292*Założenia!$G77/1000000+Założenia!J273*Założenia!J291*Założenia!$G$68/1000000 -> 0.044600827 | L78: =Założenia!K281*Założenia!K$292*Założenia!$G77/1000000+Założenia!K273*Założenia!K291*Założenia!$G$68/1000000 -> 0.044600827 | ... T78: =Założenia!S281*Założenia!S$292*Założenia!$G77/1000000+Założenia!S273*Założenia!S291*Założenia!$G$68/1000000 -> 0.044600827
B79: EURO VI HYBRYDA | C79: tPM | E79: =Założenia!D282*Założenia!D$293*Założenia!$J77/1000000 -> 0 | F79: =Założenia!E282*Założenia!E$293*Założenia!$J77/1000000 -> 0 | G79: =Założenia!F282*Założenia!F$293*Założenia!$J77/1000000 -> 0 | H79: =Założenia!G282*Założenia!G$293*Założenia!$J77/1000000 -> 0 | I79: =Założenia!H282*Założenia!H$293*Założenia!$J77/1000000 -> 0 | J79: =Założenia!I282*Założenia!I$293*Założenia!$J77/1000000 -> 0 | K79: =Założenia!J282*Założenia!J$293*Założenia!$J77/1000000 -> 0 | L79: =Założenia!K282*Założenia!K$293*Założenia!$J77/1000000 -> 0 | ... T79: =Założenia!S282*Założenia!S$293*Założenia!$J77/1000000 -> 0
B80: ELEKTRYCZNE | C80: tPM | E80: =Założenia!D283*Założenia!D$294*Założenia!$E$184*Założenia!$E$123*Założenia!E93/1000000 -> 0 | F80: =Założenia!E283*Założenia!E$294*Założenia!$E$184*Założenia!$E$123*Założenia!F93/1000000 -> 0 | G80: =Założenia!F283*Założenia!F$294*Założenia!$E$184*Założenia!$E$123*Założenia!G93/1000000 -> 0 | H80: =Założenia!G283*Założenia!G$294*Założenia!$E$184*Założenia!$E$123*Założenia!H93/1000000 -> 0 | I80: =Założenia!H283*Założenia!H$294*Założenia!$E$184*Założenia!$E$123*Założenia!I93/1000000 -> 0 | J80: =Założenia!I283*Założenia!I$294*Założenia!$E$184*Założenia!$E$123*Założenia!J93/1000000 -> 0 | K80: =Założenia!J283*Założenia!J$294*Założenia!$E$184*Założenia!$E$123*Założenia!K93/1000000 -> 0 | L80: =Założenia!K283*Założenia!K$294*Założenia!$E$184*Założenia!$E$123*Założenia!L93/1000000 -> 0 | ... T80: =Założenia!S283*Założenia!S$294*Założenia!$E$184*Założenia!$E$123*Założenia!T93/1000000 -> 0
A81: 2.3. | B81: Emisja NMHC/NMVOC | C81: t NMVOC | E81: =E82+E90 -> 0.579332 | F81: =F82+F90 -> 0.57981075 | G81: =G82+G90 -> 0.57981075 | H81: =H82+H90 -> 0.57981075 | I81: =I82+I90 -> 0.57981075 | J81: =J82+J90 -> 0.57981075 | K81: =K82+K90 -> 0.57981075 | L81: =L82+L90 -> 0.57981075 | ... T81: =T82+T90 -> 0.57981075
B82: ON: | C82: t NMVOC | E82: =SUM(E83:E89) -> 0.579332 | F82: =SUM(F83:F89) -> 0.57981075 | G82: =SUM(G83:G89) -> 0.57981075 | H82: =SUM(H83:H89) -> 0.57981075 | I82: =SUM(I83:I89) -> 0.57981075 | J82: =SUM(J83:J89) -> 0.57981075 | K82: =SUM(K83:K89) -> 0.57981075 | L82: =SUM(L83:L89) -> 0.57981075 | ... T82: =SUM(T83:T89) -> 0.57981075
B83: EURO I | C83: t NMVOC | E83: =Założenia!D276*Założenia!D$292*Założenia!$E72/1000000 -> 0 | F83: =Założenia!E276*Założenia!E$292*Założenia!$E72/1000000 -> 0 | G83: =Założenia!F276*Założenia!F$292*Założenia!$E72/1000000 -> 0 | H83: =Założenia!G276*Założenia!G$292*Założenia!$E72/1000000 -> 0 | I83: =Założenia!H276*Założenia!H$292*Założenia!$E72/1000000 -> 0 | J83: =Założenia!I276*Założenia!I$292*Założenia!$E72/1000000 -> 0 | K83: =Założenia!J276*Założenia!J$292*Założenia!$E72/1000000 -> 0 | L83: =Założenia!K276*Założenia!K$292*Założenia!$E72/1000000 -> 0 | ... T83: =Założenia!S276*Założenia!S$292*Założenia!$E72/1000000 -> 0
B84: EURO II | C84: t NMVOC | E84: =Założenia!D277*Założenia!D$292*Założenia!$E73/1000000 -> 0 | F84: =Założenia!E277*Założenia!E$292*Założenia!$E73/1000000 -> 0 | G84: =Założenia!F277*Założenia!F$292*Założenia!$E73/1000000 -> 0 | H84: =Założenia!G277*Założenia!G$292*Założenia!$E73/1000000 -> 0 | I84: =Założenia!H277*Założenia!H$292*Założenia!$E73/1000000 -> 0 | J84: =Założenia!I277*Założenia!I$292*Założenia!$E73/1000000 -> 0 | K84: =Założenia!J277*Założenia!J$292*Założenia!$E73/1000000 -> 0 | L84: =Założenia!K277*Założenia!K$292*Założenia!$E73/1000000 -> 0 | ... T84: =Założenia!S277*Założenia!S$292*Założenia!$E73/1000000 -> 0
B85: EURO III | C85: t NMVOC | E85: =Założenia!D278*Założenia!D$292*Założenia!$E74/1000000 -> 0 | F85: =Założenia!E278*Założenia!E$292*Założenia!$E74/1000000 -> 0 | G85: =Założenia!F278*Założenia!F$292*Założenia!$E74/1000000 -> 0 | H85: =Założenia!G278*Założenia!G$292*Założenia!$E74/1000000 -> 0 | I85: =Założenia!H278*Założenia!H$292*Założenia!$E74/1000000 -> 0 | J85: =Założenia!I278*Założenia!I$292*Założenia!$E74/1000000 -> 0 | K85: =Założenia!J278*Założenia!J$292*Założenia!$E74/1000000 -> 0 | L85: =Założenia!K278*Założenia!K$292*Założenia!$E74/1000000 -> 0 | ... T85: =Założenia!S278*Założenia!S$292*Założenia!$E74/1000000 -> 0
B86: EURO IV | C86: t NMVOC | E86: =Założenia!D279*Założenia!D$292*Założenia!$E75/1000000 -> 0 | F86: =Założenia!E279*Założenia!E$292*Założenia!$E75/1000000 -> 0 | G86: =Założenia!F279*Założenia!F$292*Założenia!$E75/1000000 -> 0 | H86: =Założenia!G279*Założenia!G$292*Założenia!$E75/1000000 -> 0 | I86: =Założenia!H279*Założenia!H$292*Założenia!$E75/1000000 -> 0 | J86: =Założenia!I279*Założenia!I$292*Założenia!$E75/1000000 -> 0 | K86: =Założenia!J279*Założenia!J$292*Założenia!$E75/1000000 -> 0 | L86: =Założenia!K279*Założenia!K$292*Założenia!$E75/1000000 -> 0 | ... T86: =Założenia!S279*Założenia!S$292*Założenia!$E75/1000000 -> 0
B87: EURO V | C87: t NMVOC | E87: =+Założenia!D280*Założenia!D$292*Założenia!$E76/1000000 -> 0 | F87: =+Założenia!E280*Założenia!E$292*Założenia!$E76/1000000 -> 0 | G87: =+Założenia!F280*Założenia!F$292*Założenia!$E76/1000000 -> 0 | H87: =+Założenia!G280*Założenia!G$292*Założenia!$E76/1000000 -> 0 | I87: =+Założenia!H280*Założenia!H$292*Założenia!$E76/1000000 -> 0 | J87: =+Założenia!I280*Założenia!I$292*Założenia!$E76/1000000 -> 0 | K87: =+Założenia!J280*Założenia!J$292*Założenia!$E76/1000000 -> 0 | L87: =+Założenia!K280*Założenia!K$292*Założenia!$E76/1000000 -> 0 | ... T87: =+Założenia!S280*Założenia!S$292*Założenia!$E76/1000000 -> 0
B88: EURO VI | C88: t NMVOC | E88: =Założenia!D281*Założenia!D$292*Założenia!$E77/1000000+Założenia!D273*Założenia!D291*Założenia!$E$68/1000000 -> 0.579332 | F88: =Założenia!E281*Założenia!E$292*Założenia!$E77/1000000+Założenia!E273*Założenia!E291*Założenia!$E$68/1000000 -> 0.57981075 | G88: =Założenia!F281*Założenia!F$292*Założenia!$E77/1000000+Założenia!F273*Założenia!F291*Założenia!$E$68/1000000 -> 0.57981075 | H88: =Założenia!G281*Założenia!G$292*Założenia!$E77/1000000+Założenia!G273*Założenia!G291*Założenia!$E$68/1000000 -> 0.57981075 | I88: =Założenia!H281*Założenia!H$292*Założenia!$E77/1000000+Założenia!H273*Założenia!H291*Założenia!$E$68/1000000 -> 0.57981075 | J88: =Założenia!I281*Założenia!I$292*Założenia!$E77/1000000+Założenia!I273*Założenia!I291*Założenia!$E$68/1000000 -> 0.57981075 | K88: =Założenia!J281*Założenia!J$292*Założenia!$E77/1000000+Założenia!J273*Założenia!J291*Założenia!$E$68/1000000 -> 0.57981075 | L88: =Założenia!K281*Założenia!K$292*Założenia!$E77/1000000+Założenia!K273*Założenia!K291*Założenia!$E$68/1000000 -> 0.57981075 | ... T88: =Założenia!S281*Założenia!S$292*Założenia!$E77/1000000+Założenia!S273*Założenia!S291*Założenia!$E$68/1000000 -> 0.57981075
B89: EURO VI HYBRYDA | C89: t NMVOC | E89: =Założenia!D282*Założenia!D$293*Założenia!$H77/1000000 -> 0 | F89: =Założenia!E282*Założenia!E$293*Założenia!$H77/1000000 -> 0 | G89: =Założenia!F282*Założenia!F$293*Założenia!$H77/1000000 -> 0 | H89: =Założenia!G282*Założenia!G$293*Założenia!$H77/1000000 -> 0 | I89: =Założenia!H282*Założenia!H$293*Założenia!$H77/1000000 -> 0 | J89: =Założenia!I282*Założenia!I$293*Założenia!$H77/1000000 -> 0 | K89: =Założenia!J282*Założenia!J$293*Założenia!$H77/1000000 -> 0 | L89: =Założenia!K282*Założenia!K$293*Założenia!$H77/1000000 -> 0 | ... T89: =Założenia!S282*Założenia!S$293*Założenia!$H77/1000000 -> 0
B90: ELEKTRYCZNE | C90: t NMVOC | E90: =Założenia!D283*Założenia!D$294*Założenia!$E$184*Założenia!$E$123*Założenia!E90/1000000 -> 0 | F90: =Założenia!E283*Założenia!E$294*Założenia!$E$184*Założenia!$E$123*Założenia!F90/1000000 -> 0 | G90: =Założenia!F283*Założenia!F$294*Założenia!$E$184*Założenia!$E$123*Założenia!G90/1000000 -> 0 | H90: =Założenia!G283*Założenia!G$294*Założenia!$E$184*Założenia!$E$123*Założenia!H90/1000000 -> 0 | I90: =Założenia!H283*Założenia!H$294*Założenia!$E$184*Założenia!$E$123*Założenia!I90/1000000 -> 0 | J90: =Założenia!I283*Założenia!I$294*Założenia!$E$184*Założenia!$E$123*Założenia!J90/1000000 -> 0 | K90: =Założenia!J283*Założenia!J$294*Założenia!$E$184*Założenia!$E$123*Założenia!K90/1000000 -> 0 | L90: =Założenia!K283*Założenia!K$294*Założenia!$E$184*Założenia!$E$123*Założenia!L90/1000000 -> 0 | ... T90: =Założenia!S283*Założenia!S$294*Założenia!$E$184*Założenia!$E$123*Założenia!T90/1000000 -> 0
A91: 3. | B91: Skutki emisji hałasu: | C91: PLN | E91: =E95+E99+E107+E103 -> 747171.99 | F91: =F95+F99+F107+F103 -> 778215.28 | G91: =G95+G99+G107+G103 -> 808103.08 | H91: =H95+H99+H107+H103 -> 833416.71 | I91: =I95+I99+I107+I103 -> 858307.58 | J91: =J95+J99+J107+J103 -> 884069.71 | K91: =K95+K99+K107+K103 -> 910737.82 | L91: =L95+L99+L107+L103 -> 937617.35 | ... T91: =T95+T99+T107+T103 -> 1145529.3
A92: 3.1. | B92: Autobusy ON EURO I - EURO V
B93: Jednostkowy koszt hałasu uśredniony | C93: PLN/wzkm | E93: =Założenia!E26 -> 0.35782385 | F93: =Założenia!F26 -> 0.37238289 | G93: =Założenia!G26 -> 0.38668447 | H93: =Założenia!H26 -> 0.39879726 | I93: =Założenia!I26 -> 0.41070776 | J93: =Założenia!J26 -> 0.42303517 | K93: =Założenia!K26 -> 0.4357961 | L93: =Założenia!L26 -> 0.44865819 | ... T93: =Założenia!T26 -> 0.54814589
B94: Liczba wozokilometrów | C94: wzkm/rok | E94: =(Założenia!D276+Założenia!D277+Założenia!D278+Założenia!D279+Założenia!D280)*Założenia!D292 -> 0 | F94: =(Założenia!E276+Założenia!E277+Założenia!E278+Założenia!E279+Założenia!E280)*Założenia!E292 -> 0 | G94: =(Założenia!F276+Założenia!F277+Założenia!F278+Założenia!F279+Założenia!F280)*Założenia!F292 -> 0 | H94: =(Założenia!G276+Założenia!G277+Założenia!G278+Założenia!G279+Założenia!G280)*Założenia!G292 -> 0 | I94: =(Założenia!H276+Założenia!H277+Założenia!H278+Założenia!H279+Założenia!H280)*Założenia!H292 -> 0 | J94: =(Założenia!I276+Założenia!I277+Założenia!I278+Założenia!I279+Założenia!I280)*Założenia!I292 -> 0 | K94: =(Założenia!J276+Założenia!J277+Założenia!J278+Założenia!J279+Założenia!J280)*Założenia!J292 -> 0 | L94: =(Założenia!K276+Założenia!K277+Założenia!K278+Założenia!K279+Założenia!K280)*Założenia!K292 -> 0 | ... T94: =(Założenia!S276+Założenia!S277+Założenia!S278+Założenia!S279+Założenia!S280)*Założenia!S292 -> 0
B95: Koszt społeczny emisji hałasu | C95: PLN | E95: =E93*E94 -> 0 | F95: =F93*F94 -> 0 | G95: =G93*G94 -> 0 | H95: =H93*H94 -> 0 | I95: =I93*I94 -> 0 | J95: =J93*J94 -> 0 | K95: =K93*K94 -> 0 | L95: =L93*L94 -> 0 | ... T95: =T93*T94 -> 0
A96: 3.2. | B96: Autobusy ON EURO VI
B97: Jednostkowy koszt hałasu uśredniony | C97: PLN/wzkm | E97: =E93*(1-Założenia!$E$29) -> 0.33993266 | F97: =F93*(1-Założenia!$E$29) -> 0.35376374 | G97: =G93*(1-Założenia!$E$29) -> 0.36735024 | H97: =H93*(1-Założenia!$E$29) -> 0.3788574 | I97: =I93*(1-Założenia!$E$29) -> 0.39017238 | J97: =J93*(1-Założenia!$E$29) -> 0.40188341 | K97: =K93*(1-Założenia!$E$29) -> 0.41400629 | L97: =L93*(1-Założenia!$E$29) -> 0.42622528 | ... T97: =T93*(1-Założenia!$E$29) -> 0.52073859
B98: Liczba wozokilometrów | C98: wzkm/rok | E98: =Założenia!D281*Założenia!D292+Założenia!D273*Założenia!D291 -> 2198000 | F98: =Założenia!E281*Założenia!E292+Założenia!E273*Założenia!E291 -> 2199816.4 | G98: =Założenia!F281*Założenia!F292+Założenia!F273*Założenia!F291 -> 2199816.4 | H98: =Założenia!G281*Założenia!G292+Założenia!G273*Założenia!G291 -> 2199816.4 | I98: =Założenia!H281*Założenia!H292+Założenia!H273*Założenia!H291 -> 2199816.4 | J98: =Założenia!I281*Założenia!I292+Założenia!I273*Założenia!I291 -> 2199816.4 | K98: =Założenia!J281*Założenia!J292+Założenia!J273*Założenia!J291 -> 2199816.4 | L98: =Założenia!K281*Założenia!K292+Założenia!K273*Założenia!K291 -> 2199816.4 | ... T98: =Założenia!S281*Założenia!S292+Założenia!S273*Założenia!S291 -> 2199816.4
B99: Koszt społeczny emisji hałasu | C99: PLN | E99: =E97*E98 -> 747171.99 | F99: =F97*F98 -> 778215.28 | G99: =G97*G98 -> 808103.08 | H99: =H97*H98 -> 833416.71 | I99: =I97*I98 -> 858307.58 | J99: =J97*J98 -> 884069.71 | K99: =K97*K98 -> 910737.82 | L99: =L97*L98 -> 937617.35 | ... T99: =T97*T98 -> 1145529.3
A100: 3.3. | B100: Autobusy ON EURO VI HYBRYDA
B101: Jednostkowy koszt hałasu uśredniony | C101: PLN/wzkm | E101: =E97*(1-Założenia!$E$30) -> 0.3059394 | F101: =F97*(1-Założenia!$E$30) -> 0.31838737 | G101: =G97*(1-Założenia!$E$30) -> 0.33061522 | H101: =H97*(1-Założenia!$E$30) -> 0.34097166 | I101: =I97*(1-Założenia!$E$30) -> 0.35115514 | J101: =J97*(1-Założenia!$E$30) -> 0.36169507 | K101: =K97*(1-Założenia!$E$30) -> 0.37260566 | L101: =L97*(1-Założenia!$E$30) -> 0.38360275 | ... T101: =T97*(1-Założenia!$E$30) -> 0.46866473
B102: Liczba wozokilometrów | C102: wzkm/rok | E102: =Założenia!D282*Założenia!D293 -> 0 | F102: =Założenia!E282*Założenia!E293 -> 0 | G102: =Założenia!F282*Założenia!F293 -> 0 | H102: =Założenia!G282*Założenia!G293 -> 0 | I102: =Założenia!H282*Założenia!H293 -> 0 | J102: =Założenia!I282*Założenia!I293 -> 0 | K102: =Założenia!J282*Założenia!J293 -> 0 | L102: =Założenia!K282*Założenia!K293 -> 0 | ... T102: =Założenia!S282*Założenia!S293 -> 0
B103: Koszt społeczny emisji hałasu | C103: PLN | E103: =E101*E102 -> 0 | F103: =F101*F102 -> 0 | G103: =G101*G102 -> 0 | H103: =H101*H102 -> 0 | I103: =I101*I102 -> 0 | J103: =J101*J102 -> 0 | K103: =K101*K102 -> 0 | L103: =L101*L102 -> 0 | ... T103: =T101*T102 -> 0
A104: 3.4. | B104: Autobusy elektryczne
B105: Jednostkowy koszt hałasu uśredniony | C105: PLN/wzkm | E105: =E93*(1-Założenia!$E$28) -> 0.071564771 | F105: =F93*(1-Założenia!$E$28) -> 0.074476578 | G105: =G93*(1-Założenia!$E$28) -> 0.077336893 | H105: =H93*(1-Założenia!$E$28) -> 0.079759452 | I105: =I93*(1-Założenia!$E$28) -> 0.082141553 | J105: =J93*(1-Założenia!$E$28) -> 0.084607034 | K105: =K93*(1-Założenia!$E$28) -> 0.087159219 | L105: =L93*(1-Założenia!$E$28) -> 0.089731637 | ... T105: =T93*(1-Założenia!$E$28) -> 0.10962918
...

Sheet Wariant elektryczny 1
E2: 0 | F2: =E2+1 -> 1 | G2: =F2+1 -> 2 | H2: =G2+1 -> 3 | I2: =H2+1 -> 4 | J2: =I2+1 -> 5 | K2: =J2+1 -> 6 | L2: =K2+1 -> 7 | M2: =L2+1 -> 8 | ... T2: =S2+1 -> 15
B3: Kalkulacja dla wariantu elektrycznego 1
B5: Kategoria | C5: Jednostka | D5: Suma | E5: =Założenia!E6 -> 2021 | F5: =E5+1 -> 2022 | G5: =F5+1 -> 2023 | H5: =G5+1 -> 2024 | I5: =H5+1 -> 2025 | J5: =I5+1 -> 2026 | K5: =J5+1 -> 2027 | L5: =K5+1 -> 2028 | M5: =L5+1 -> 2029 | ... T5: =S5+1 -> 2036
A8: TABELA 1. | B8: KOSZTY BEZPOŚREDNIE EKSPLOATACJI AUTOBUSÓW
A9: 1. | B9: Przychody | C9: PLN | E9: =przychody!D7*1000000 -> 9037074.8 | F9: =przychody!E7*1000000 -> 8513112.9 | G9: =przychody!F7*1000000 -> 5613484.5 | H9: =przychody!G7*1000000 -> 6366641.8 | I9: =przychody!H7*1000000 -> 6742273.1 | J9: =przychody!I7*1000000 -> 6986859.2 | K9: =przychody!J7*1000000 -> 7154077.3 | L9: =przychody!K7*1000000 -> 7269297 | ... T9: =przychody!S7*1000000 -> 7958875.9
A10: 2. | B10: Koszty operacyjne, w tym: | C10: PLN | E10: =E11+E40 -> 12298793 | F10: =F11+F40 -> 12356362 | G10: =G11+G40 -> 12411655 | H10: =H11+H40 -> 12466949 | I10: =I11+I40 -> 12522242 | J10: =J11+J40 -> 12577536 | K10: =K11+K40 -> 12678829 | L10: =L11+L40 -> 12193835 | ... T10: =T11+T40 -> 12324128
A11: A. | B11: Koszty bezpośrednie | C11: PLN | E11: =E12+E33+E35+E36+E37+E34 -> 10950076 | F11: =F12+F33+F35+F36+F37+F34 -> 11007645 | G11: =G12+G33+G35+G36+G37+G34 -> 11062939 | H11: =H12+H33+H35+H36+H37+H34 -> 11118232 | I11: =I12+I33+I35+I36+I37+I34 -> 11173526 | J11: =J12+J33+J35+J36+J37+J34 -> 11228819 | K11: =K12+K33+K35+K36+K37+K34 -> 11330113 | L11: =L12+L33+L35+L36+L37+L34 -> 10845118 | ... T11: =T12+T33+T35+T36+T37+T34 -> 10975412
A12: 2.1. | B12: zużycie materiałów i energii: | C12: PLN | E12: =E13+E15+E24 -> 2210847.3 | F12: =F13+F15+F24 -> 2233758.5 | G12: =G13+G15+G24 -> 2254957.1 | H12: =H13+H15+H24 -> 2276155.6 | I12: =I13+I15+I24 -> 2297354.2 | J12: =J13+J15+J24 -> 2318552.8 | K12: =K13+K15+K24 -> 2339751.3 | L12: =L13+L15+L24 -> 2082230.5 | ... T12: =T13+T15+T24 -> 2132182.9
A13: 2.1.1. | B13: energia, w tym: | C13: PLN | E13: =Założenia!$E$213+E14 -> 138358 | F13: =Założenia!$E$213+F14 -> 138358 | G13: =Założenia!$E$213+G14 -> 138358 | H13: =Założenia!$E$213+H14 -> 138358 | I13: =Założenia!$E$213+I14 -> 138358 | J13: =Założenia!$E$213+J14 -> 138358 | K13: =Założenia!$E$213+K14 -> 138358 | L13: =Założenia!$E$213+L14 -> 552942.1 | ... T13: =Założenia!$E$213+T14 -> 552942.1
B14: autobusy elektryczne | C14: PLN | E14: =Założenia!D312*Założenia!D323*Założenia!$E$184*Założenia!$E$176*(1+Założenia!$E$121) -> 0 | F14: =Założenia!E312*Założenia!E323*Założenia!$E$184*Założenia!$E$176*(1+Założenia!$E$121) -> 0 | G14: =Założenia!F312*Założenia!F323*Założenia!$E$184*Założenia!$E$176*(1+Założenia!$E$121) -> 0 | H14: =Założenia!G312*Założenia!G323*Założenia!$E$184*Założenia!$E$176*(1+Założenia!$E$121) -> 0 | I14: =Założenia!H312*Założenia!H323*Założenia!$E$184*Założenia!$E$176*(1+Założenia!$E$121) -> 0 | J14: =Założenia!I312*Założenia!I323*Założenia!$E$184*Założenia!$E$176*(1+Założenia!$E$121) -> 0 | K14: =Założenia!J312*Założenia!J323*Założenia!$E$184*Założenia!$E$176*(1+Założenia!$E$121) -> 0 | L14: =Założenia!K312*Założenia!K323*Założenia!$E$184*Założenia!$E$176*(1+Założenia!$E$121) -> 414584.1 | ... T14: =Założenia!S312*Założenia!S323*Założenia!$E$184*Założenia!$E$176*(1+Założenia!$E$121) -> 414584.1
A15: 2.1.2. | B15: paliwo | C15: PLN | E15: =E16 -> 1648868 | F15: =F16 -> 1650230.6 | G15: =G16 -> 1650230.6 | H15: =H16 -> 1650230.6 | I15: =I16 -> 1650230.6 | J15: =J16 -> 1650230.6 | K15: =K16 -> 1650230.6 | L15: =L16 -> 1127950.4 | ... T15: =T16 -> 1127950.4
A16: 2.1.2.1. | B16: ON: | C16: PLN | E16: =SUM(E17:E23) -> 1648868 | F16: =SUM(F17:F23) -> 1650230.6 | G16: =SUM(G17:G23) -> 1650230.6 | H16: =SUM(H17:H23) -> 1650230.6 | I16: =SUM(I17:I23) -> 1650230.6 | J16: =SUM(J17:J23) -> 1650230.6 | K16: =SUM(K17:K23) -> 1650230.6 | L16: =SUM(L17:L23) -> 1127950.4 | ... T16: =SUM(T17:T23) -> 1127950.4
B17: EURO I | C17: PLN | E17: =(Założenia!D305*Założenia!D321*Założenia!$G53/100)*Założenia!$E$175 -> 0 | F17: =(Założenia!E305*Założenia!E321*Założenia!$G53/100)*Założenia!$E$175 -> 0 | G17: =(Założenia!F305*Założenia!F321*Założenia!$G53/100)*Założenia!$E$175 -> 0 | H17: =(Założenia!G305*Założenia!G321*Założenia!$G53/100)*Założenia!$E$175 -> 0 | I17: =(Założenia!H305*Założenia!H321*Założenia!$G53/100)*Założenia!$E$175 -> 0 | J17: =(Założenia!I305*Założenia!I321*Założenia!$G53/100)*Założenia!$E$175 -> 0 | K17: =(Założenia!J305*Założenia!J321*Założenia!$G53/100)*Założenia!$E$175 -> 0 | L17: =(Założenia!K305*Założenia!K321*Założenia!$G53/100)*Założenia!$E$175 -> 0 | ... T17: =(Założenia!S305*Założenia!S321*Założenia!$G53/100)*Założenia!$E$175 -> 0
B18: EURO II | C18: PLN | E18: =(Założenia!D306*Założenia!D321*Założenia!$G54/100)*Założenia!$E$175 -> 0 | F18: =(Założenia!E306*Założenia!E321*Założenia!$G54/100)*Założenia!$E$175 -> 0 | G18: =(Założenia!F306*Założenia!F321*Założenia!$G54/100)*Założenia!$E$175 -> 0 | H18: =(Założenia!G306*Założenia!G321*Założenia!$G54/100)*Założenia!$E$175 -> 0 | I18: =(Założenia!H306*Założenia!H321*Założenia!$G54/100)*Założenia!$E$175 -> 0 | J18: =(Założenia!I306*Założenia!I321*Założenia!$G54/100)*Założenia!$E$175 -> 0 | K18: =(Założenia!J306*Założenia!J321*Założenia!$G54/100)*Założenia!$E$175 -> 0 | L18: =(Założenia!K306*Założenia!K321*Założenia!$G54/100)*Założenia!$E$175 -> 0 | ... T18: =(Założenia!S306*Założenia!S321*Założenia!$G54/100)*Założenia!$E$175 -> 0
B19: EURO III | C19: PLN | E19: =(Założenia!D307*Założenia!D321*Założenia!$G55/100)*Założenia!$E$175 -> 0 | F19: =(Założenia!E307*Założenia!E321*Założenia!$G55/100)*Założenia!$E$175 -> 0 | G19: =(Założenia!F307*Założenia!F321*Założenia!$G55/100)*Założenia!$E$175 -> 0 | H19: =(Założenia!G307*Założenia!G321*Założenia!$G55/100)*Założenia!$E$175 -> 0 | I19: =(Założenia!H307*Założenia!H321*Założenia!$G55/100)*Założenia!$E$175 -> 0 | J19: =(Założenia!I307*Założenia!I321*Założenia!$G55/100)*Założenia!$E$175 -> 0 | K19: =(Założenia!J307*Założenia!J321*Założenia!$G55/100)*Założenia!$E$175 -> 0 | L19: =(Założenia!K307*Założenia!K321*Założenia!$G55/100)*Założenia!$E$175 -> 0 | ... T19: =(Założenia!S307*Założenia!S321*Założenia!$G55/100)*Założenia!$E$175 -> 0
B20: EURO IV | C20: PLN | E20: =(Założenia!D308*Założenia!D321*Założenia!$G56/100)*Założenia!$E$175 -> 0 | F20: =(Założenia!E308*Założenia!E321*Założenia!$G56/100)*Założenia!$E$175 -> 0 | G20: =(Założenia!F308*Założenia!F321*Założenia!$G56/100)*Założenia!$E$175 -> 0 | H20: =(Założenia!G308*Założenia!G321*Założenia!$G56/100)*Założenia!$E$175 -> 0 | I20: =(Założenia!H308*Założenia!H321*Założenia!$G56/100)*Założenia!$E$175 -> 0 | J20: =(Założenia!I308*Założenia!I321*Założenia!$G56/100)*Założenia!$E$175 -> 0 | K20: =(Założenia!J308*Założenia!J321*Założenia!$G56/100)*Założenia!$E$175 -> 0 | L20: =(Założenia!K308*Założenia!K321*Założenia!$G56/100)*Założenia!$E$175 -> 0 | ... T20: =(Założenia!S308*Założenia!S321*Założenia!$G56/100)*Założenia!$E$175 -> 0
B21: EURO V | C21: PLN | E21: =(Założenia!D309*Założenia!D321*Założenia!$G57/100)*Założenia!$E$175 -> 0 | F21: =(Założenia!E309*Założenia!E321*Założenia!$G57/100)*Założenia!$E$175 -> 0 | G21: =(Założenia!F309*Założenia!F321*Założenia!$G57/100)*Założenia!$E$175 -> 0 | H21: =(Założenia!G309*Założenia!G321*Założenia!$G57/100)*Założenia!$E$175 -> 0 | I21: =(Założenia!H309*Założenia!H321*Założenia!$G57/100)*Założenia!$E$175 -> 0 | J21: =(Założenia!I309*Założenia!I321*Założenia!$G57/100)*Założenia!$E$175 -> 0 | K21: =(Założenia!J309*Założenia!J321*Założenia!$G57/100)*Założenia!$E$175 -> 0 | L21: =(Założenia!K309*Założenia!K321*Założenia!$G57/100)*Założenia!$E$175 -> 0 | ... T21: =(Założenia!S309*Założenia!S321*Założenia!$G57/100)*Założenia!$E$175 -> 0
B22: EURO VI | C22: PLN | E22: =(Założenia!D310*Założenia!D$321*Założenia!$G58/100)*Założenia!$E$175+(Założenia!D302*Założenia!D320*Założenia!$E$58/100)*Założenia!$E$175 -> 1648868 | F22: =(Założenia!E310*Założenia!E$321*Założenia!$G58/100)*Założenia!$E$175+(Założenia!E302*Założenia!E320*Założenia!$E$58/100)*Założenia!$E$175 -> 1650230.6 | G22: =(Założenia!F310*Założenia!F$321*Założenia!$G58/100)*Założenia!$E$175+(Założenia!F302*Założenia!F320*Założenia!$E$58/100)*Założenia!$E$175 -> 1650230.6 | H22: =(Założenia!G310*Założenia!G$321*Założenia!$G58/100)*Założenia!$E$175+(Założenia!G302*Założenia!G320*Założenia!$E$58/100)*Założenia!$E$175 -> 1650230.6 | I22: =(Założenia!H310*Założenia!H$321*Założenia!$G58/100)*Założenia!$E$175+(Założenia!H302*Założenia!H320*Założenia!$E$58/100)*Założenia!$E$175 -> 1650230.6 | J22: =(Założenia!I310*Założenia!I$321*Założenia!$G58/100)*Założenia!$E$175+(Założenia!I302*Założenia!I320*Założenia!$E$58/100)*Założenia!$E$175 -> 1650230.6 | K22: =(Założenia!J310*Założenia!J$321*Założenia!$G58/100)*Założenia!$E$175+(Założenia!J302*Założenia!J320*Założenia!$E$58/100)*Założenia!$E$175 -> 1650230.6 | L22: =(Założenia!K310*Założenia!K$321*Założenia!$G58/100)*Założenia!$E$175+(Założenia!K302*Założenia!K320*Założenia!$E$58/100)*Założenia!$E$175 -> 1127950.4 | ... T22: =(Założenia!S310*Założenia!S$321*Założenia!$G58/100)*Założenia!$E$175+(Założenia!S302*Założenia!S320*Założenia!$E$58/100)*Założenia!$E$175 -> 1127950.4
B23: EURO VI HYBRYDA | C23: PLN | E23: =(Założenia!D311*Założenia!D$322*Założenia!$G59/100)*Założenia!$E$175 -> 0 | F23: =(Założenia!E311*Założenia!E$322*Założenia!$G59/100)*Założenia!$E$175 -> 0 | G23: =(Założenia!F311*Założenia!F$322*Założenia!$G59/100)*Założenia!$E$175 -> 0 | H23: =(Założenia!G311*Założenia!G$322*Założenia!$G59/100)*Założenia!$E$175 -> 0 | I23: =(Założenia!H311*Założenia!H$322*Założenia!$G59/100)*Założenia!$E$175 -> 0 | J23: =(Założenia!I311*Założenia!I$322*Założenia!$G59/100)*Założenia!$E$175 -> 0 | K23: =(Założenia!J311*Założenia!J$322*Założenia!$G59/100)*Założenia!$E$175 -> 0 | L23: =(Założenia!K311*Założenia!K$322*Założenia!$G59/100)*Założenia!$E$175 -> 0 | ... T23: =(Założenia!S311*Założenia!S$322*Założenia!$G59/100)*Założenia!$E$175 -> 0
A24: 2.1.3. | B24: części, materiały eksploatacyjne i inne | C24: PLN | E24: =(E25+E32)*(1+(Założenia!D324-Założenia!$D$324)*Założenia!$E$182) -> 423621.27 | F24: =(F25+F32)*(1+(Założenia!E324-Założenia!$D$324)*Założenia!$E$182) -> 445169.91 | G24: =(G25+G32)*(1+(Założenia!F324-Założenia!$D$324)*Założenia!$E$182) -> 466368.47 | H24: =(H25+H32)*(1+(Założenia!G324-Założenia!$D$324)*Założenia!$E$182) -> 487567.04 | I24: =(I25+I32)*(1+(Założenia!H324-Założenia!$D$324)*Założenia!$E$182) -> 508765.61 | J24: =(J25+J32)*(1+(Założenia!I324-Założenia!$D$324)*Założenia!$E$182) -> 529964.18 | K24: =(K25+K32)*(1+(Założenia!J324-Założenia!$D$324)*Założenia!$E$182) -> 551162.74 | L24: =(L25+L32)*(1+(Założenia!K324-Założenia!$D$324)*Założenia!$E$182) -> 401337.96 | ... T24: =(T25+T32)*(1+(Założenia!S324-Założenia!$D$324)*Założenia!$E$182) -> 451290.36
B25: ON: | C25: PLN | E25: =SUM(E26:E31) -> 423621.27 | F25: =SUM(F26:F31) -> 423971.34 | G25: =SUM(G26:G31) -> 423971.34 | H25: =SUM(H26:H31) -> 423971.34 | I25: =SUM(I26:I31) -> 423971.34 | J25: =SUM(J26:J31) -> 423971.34 | K25: =SUM(K26:K31) -> 423971.34 | L25: =SUM(L26:L31) -> 289125.22 | ... T25: =SUM(T26:T31) -> 289125.22
B26: EURO I | C26: PLN | E26: =((Założenia!D305*Założenia!D$321)*Założenia!$E$177) -> 0 | F26: =((Założenia!E305*Założenia!E$321)*Założenia!$E$177) -> 0 | G26: =((Założenia!F305*Założenia!F$321)*Założenia!$E$177) -> 0 | H26: =((Założenia!G305*Założenia!G$321)*Założenia!$E$177) -> 0 | I26: =((Założenia!H305*Założenia!H$321)*Założenia!$E$177) -> 0 | J26: =((Założenia!I305*Założenia!I$321)*Założenia!$E$177) -> 0 | K26: =((Założenia!J305*Założenia!J$321)*Założenia!$E$177) -> 0 | L26: =((Założenia!K305*Założenia!K$321)*Założenia!$E$177) -> 0 | ... T26: =((Założenia!S305*Założenia!S$321)*Założenia!$E$177) -> 0
B27: EURO II | C27: PLN | E27: =((Założenia!D306*Założenia!D$321)*Założenia!$E$177) -> 0 | F27: =((Założenia!E306*Założenia!E$321)*Założenia!$E$177) -> 0 | G27: =((Założenia!F306*Założenia!F$321)*Założenia!$E$177) -> 0 | H27: =((Założenia!G306*Założenia!G$321)*Założenia!$E$177) -> 0 | I27: =((Założenia!H306*Założenia!H$321)*Założenia!$E$177) -> 0 | J27: =((Założenia!I306*Założenia!I$321)*Założenia!$E$177) -> 0 | K27: =((Założenia!J306*Założenia!J$321)*Założenia!$E$177) -> 0 | L27: =((Założenia!K306*Założenia!K$321)*Założenia!$E$177) -> 0 | ... T27: =((Założenia!S306*Założenia!S$321)*Założenia!$E$177) -> 0
B28: EURO III | C28: PLN | E28: =((Założenia!D307*Założenia!D$321)*Założenia!$E$177) -> 0 | F28: =((Założenia!E307*Założenia!E$321)*Założenia!$E$177) -> 0 | G28: =((Założenia!F307*Założenia!F$321)*Założenia!$E$177) -> 0 | H28: =((Założenia!G307*Założenia!G$321)*Założenia!$E$177) -> 0 | I28: =((Założenia!H307*Założenia!H$321)*Założenia!$E$177) -> 0 | J28: =((Założenia!I307*Założenia!I$321)*Założenia!$E$177) -> 0 | K28: =((Założenia!J307*Założenia!J$321)*Założenia!$E$177) -> 0 | L28: =((Założenia!K307*Założenia!K$321)*Założenia!$E$177) -> 0 | ... T28: =((Założenia!S307*Założenia!S$321)*Założenia!$E$177) -> 0
B29: EURO IV | C29: PLN | E29: =((Założenia!D308*Założenia!D$321)*Założenia!$E$177) -> 0 | F29: =((Założenia!E308*Założenia!E$321)*Założenia!$E$177) -> 0 | G29: =((Założenia!F308*Założenia!F$321)*Założenia!$E$177) -> 0 | H29: =((Założenia!G308*Założenia!G$321)*Założenia!$E$177) -> 0 | I29: =((Założenia!H308*Założenia!H$321)*Założenia!$E$177) -> 0 | J29: =((Założenia!I308*Założenia!I$321)*Założenia!$E$177) -> 0 | K29: =((Założenia!J308*Założenia!J$321)*Założenia!$E$177) -> 0 | L29: =((Założenia!K308*Założenia!K$321)*Założenia!$E$177) -> 0 | ... T29: =((Założenia!S308*Założenia!S$321)*Założenia!$E$177) -> 0
B30: EURO V | C30: PLN | E30: =((Założenia!D309*Założenia!D$321)*Założenia!$E$177) -> 0 | F30: =((Założenia!E309*Założenia!E$321)*Założenia!$E$177) -> 0 | G30: =((Założenia!F309*Założenia!F$321)*Założenia!$E$177) -> 0 | H30: =((Założenia!G309*Założenia!G$321)*Założenia!$E$177) -> 0 | I30: =((Założenia!H309*Założenia!H$321)*Założenia!$E$177) -> 0 | J30: =((Założenia!I309*Założenia!I$321)*Założenia!$E$177) -> 0 | K30: =((Założenia!J309*Założenia!J$321)*Założenia!$E$177) -> 0 | L30: =((Założenia!K309*Założenia!K$321)*Założenia!$E$177) -> 0 | ... T30: =((Założenia!S309*Założenia!S$321)*Założenia!$E$177) -> 0
B31: EURO VI i EURO VI Hybryda | C31: PLN | E31: =(Założenia!D310*Założenia!D321+Założenia!D311*Założenia!D322+Założenia!D302*Założenia!D320)*Założenia!$E$177 -> 423621.27 | F31: =(Założenia!E310*Założenia!E321+Założenia!E311*Założenia!E322+Założenia!E302*Założenia!E320)*Założenia!$E$177 -> 423971.34 | G31: =(Założenia!F310*Założenia!F321+Założenia!F311*Założenia!F322+Założenia!F302*Założenia!F320)*Założenia!$E$177 -> 423971.34 | H31: =(Założenia!G310*Założenia!G321+Założenia!G311*Założenia!G322+Założenia!G302*Założenia!G320)*Założenia!$E$177 -> 423971.34 | I31: =(Założenia!H310*Założenia!H321+Założenia!H311*Założenia!H322+Założenia!H302*Założenia!H320)*Założenia!$E$177 -> 423971.34 | J31: =(Założenia!I310*Założenia!I321+Założenia!I311*Założenia!I322+Założenia!I302*Założenia!I320)*Założenia!$E$177 -> 423971.34 | K31: =(Założenia!J310*Założenia!J321+Założenia!J311*Założenia!J322+Założenia!J302*Założenia!J320)*Założenia!$E$177 -> 423971.34 | L31: =(Założenia!K310*Założenia!K321+Założenia!K311*Założenia!K322+Założenia!K302*Założenia!K320)*Założenia!$E$177 -> 289125.22 | ... T31: =(Założenia!S310*Założenia!S321+Założenia!S311*Założenia!S322+Założenia!S302*Założenia!S320)*Założenia!$E$177 -> 289125.22
B32: ELEKTRYCZNE | C32: PLN | E32: =Założenia!D312*Założenia!D323*Założenia!$E$177*Założenia!$E$180 -> 0 | F32: =Założenia!E312*Założenia!E323*Założenia!$E$177*Założenia!$E$180 -> 0 | G32: =Założenia!F312*Założenia!F323*Założenia!$E$177*Założenia!$E$180 -> 0 | H32: =Założenia!G312*Założenia!G323*Założenia!$E$177*Założenia!$E$180 -> 0 | I32: =Założenia!H312*Założenia!H323*Założenia!$E$177*Założenia!$E$180 -> 0 | J32: =Założenia!I312*Założenia!I323*Założenia!$E$177*Założenia!$E$180 -> 0 | K32: =Założenia!J312*Założenia!J323*Założenia!$E$177*Założenia!$E$180 -> 0 | L32: =Założenia!K312*Założenia!K323*Założenia!$E$177*Założenia!$E$180 -> 94437.863 | ... T32: =Założenia!S312*Założenia!S323*Założenia!$E$177*Założenia!$E$180 -> 94437.863
A33: 2.2. | B33: usługi obce | C33: PLN | E33: =((SUM(Założenia!D305:D309)*Założenia!D321)*Założenia!$E$178+(Założenia!D310*Założenia!D321+Założenia!D311*Założenia!D322+Założenia!D302*Założenia!D320)*Założenia!$E$178+(Założenia!D312*Założenia!D323)*Założenia!$E$178*Założenia!$E$180)*(1+(Założenia!D324-Założenia!$D$324)*Założenia!$E$182)+Opcje!E69*Założenia!$E$197+Opcje!E70*Założenia!$E$196 -> 681335.38 | F33: =((SUM(Założenia!E305:E309)*Założenia!E321)*Założenia!$E$178+(Założenia!E310*Założenia!E321+Założenia!E311*Założenia!E322+Założenia!E302*Założenia!E320)*Założenia!$E$178+(Założenia!E312*Założenia!E323)*Założenia!$E$178*Założenia!$E$180)*(1+(Założenia!E324-Założenia!$D$324)*Założenia!$E$182)+Opcje!F69*Założenia!$E$197+Opcje!F70*Założenia!$E$196 -> 715993.34 | G33: =((SUM(Założenia!F305:F309)*Założenia!F321)*Założenia!$E$178+(Założenia!F310*Założenia!F321+Założenia!F311*Założenia!F322+Założenia!F302*Założenia!F320)*Założenia!$E$178+(Założenia!F312*Założenia!F323)*Założenia!$E$178*Założenia!$E$180)*(1+(Założenia!F324-Założenia!$D$324)*Założenia!$E$182)+Opcje!G69*Założenia!$E$197+Opcje!G70*Założenia!$E$196 -> 750088.26 | H33: =((SUM(Założenia!G305:G309)*Założenia!G321)*Założenia!$E$178+(Założenia!G310*Założenia!G321+Założenia!G311*Założenia!G322+Założenia!G302*Założenia!G320)*Założenia!$E$178+(Założenia!G312*Założenia!G323)*Założenia!$E$178*Założenia!$E$180)*(1+(Założenia!G324-Założenia!$D$324)*Założenia!$E$182)+Opcje!H69*Założenia!$E$197+Opcje!H70*Założenia!$E$196 -> 784183.18 | I33: =((SUM(Założenia!H305:H309)*Założenia!H321)*Założenia!$E$178+(Założenia!H310*Założenia!H321+Założenia!H311*Założenia!H322+Założenia!H302*Założenia!H320)*Założenia!$E$178+(Założenia!H312*Założenia!H323)*Założenia!$E$178*Założenia!$E$180)*(1+(Założenia!H324-Założenia!$D$324)*Założenia!$E$182)+Opcje!I69*Założenia!$E$197+Opcje!I70*Założenia!$E$196 -> 818278.1 | J33: =((SUM(Założenia!I305:I309)*Założenia!I321)*Założenia!$E$178+(Założenia!I310*Założenia!I321+Założenia!I311*Założenia!I322+Założenia!I302*Założenia!I320)*Założenia!$E$178+(Założenia!I312*Założenia!I323)*Założenia!$E$178*Założenia!$E$180)*(1+(Założenia!I324-Założenia!$D$324)*Założenia!$E$182)+Opcje!J69*Założenia!$E$197+Opcje!J70*Założenia!$E$196 -> 852373.02 | K33: =((SUM(Założenia!J305:J309)*Założenia!J321)*Założenia!$E$178+(Założenia!J310*Założenia!J321+Założenia!J311*Założenia!J322+Założenia!J302*Założenia!J320)*Założenia!$E$178+(Założenia!J312*Założenia!J323)*Założenia!$E$178*Założenia!$E$180)*(1+(Założenia!J324-Założenia!$D$324)*Założenia!$E$182)+Opcje!K69*Założenia!$E$197+Opcje!K70*Założenia!$E$196 -> 932467.94 | L33: =((SUM(Założenia!K305:K309)*Założenia!K321)*Założenia!$E$178+(Założenia!K310*Założenia!K321+Założenia!K311*Założenia!K322+Założenia!K302*Założenia!K320)*Założenia!$E$178+(Założenia!K312*Założenia!K323)*Założenia!$E$178*Założenia!$E$180)*(1+(Założenia!K324-Założenia!$D$324)*Założenia!$E$182)+Opcje!L69*Założenia!$E$197+Opcje!L70*Założenia!$E$196 -> 691495.79 | ... T33: =((SUM(Założenia!S305:S309)*Założenia!S321)*Założenia!$E$178+(Założenia!S310*Założenia!S321+Założenia!S311*Założenia!S322+Założenia!S302*Założenia!S320)*Założenia!$E$178+(Założenia!S312*Założenia!S323)*Założenia!$E$178*Założenia!$E$180)*(1+(Założenia!S324-Założenia!$D$324)*Założenia!$E$182)+Opcje!T69*Założenia!$E$197+Opcje!T70*Założenia!$E$196 -> 771837.22
A34: 2.3. | B34: podatki i opłaty | C34: PLN | E34: =Założenia!$E$218 -> 337789.35 | F34: =Założenia!$E$218 -> 337789.35 | G34: =Założenia!$E$218 -> 337789.35 | H34: =Założenia!$E$218 -> 337789.35 | I34: =Założenia!$E$218 -> 337789.35 | J34: =Założenia!$E$218 -> 337789.35 | K34: =Założenia!$E$218 -> 337789.35 | L34: =Założenia!$E$218 -> 337789.35 | ... T34: =Założenia!$E$218 -> 337789.35
A35: 2.4. | B35: wynagrodzenia | C35: PLN | E35: =Założenia!$E$209 -> 5097501.7 | F35: =Założenia!$E$209 -> 5097501.7 | G35: =Założenia!$E$209 -> 5097501.7 | H35: =Założenia!$E$209 -> 5097501.7 | I35: =Założenia!$E$209 -> 5097501.7 | J35: =Założenia!$E$209 -> 5097501.7 | K35: =Założenia!$E$209 -> 5097501.7 | L35: =Założenia!$E$209 -> 5097501.7 | ... T35: =Założenia!$E$209 -> 5097501.7
A36: 2.5. | B36: świadczenia na rzecz pracowników | C36: PLN | E36: =Założenia!$E$210 -> 1372905.9 | F36: =Założenia!$E$210 -> 1372905.9 | G36: =Założenia!$E$210 -> 1372905.9 | H36: =Założenia!$E$210 -> 1372905.9 | I36: =Założenia!$E$210 -> 1372905.9 | J36: =Założenia!$E$210 -> 1372905.9 | K36: =Założenia!$E$210 -> 1372905.9 | L36: =Założenia!$E$210 -> 1372905.9 | ... T36: =Założenia!$E$210 -> 1372905.9
A37: 2.7. | B37: pozostałe | C37: PLN | E37: =E38+E39 -> 1249696.5 | F37: =F38+F39 -> 1249696.5 | G37: =G38+G39 -> 1249696.5 | H37: =H38+H39 -> 1249696.5 | I37: =I38+I39 -> 1249696.5 | J37: =J38+J39 -> 1249696.5 | K37: =K38+K39 -> 1249696.5 | L37: =L38+L39 -> 1263194.8 | ... T37: =T38+T39 -> 1263194.8
A38: 2.7.1. | B38: ubezpieczenia autobusów | C38: PLN | E38: =Założenia!$F$229*Założenia!D301 -> 276716 | F38: =Założenia!$F$229*Założenia!E301 -> 276716 | G38: =Założenia!$F$229*Założenia!F301 -> 276716 | H38: =Założenia!$F$229*Założenia!G301 -> 276716 | I38: =Założenia!$F$229*Założenia!H301 -> 276716 | J38: =Założenia!$F$229*Założenia!I301 -> 276716 | K38: =Założenia!$F$229*Założenia!J301 -> 276716 | L38: =Założenia!$F$229*Założenia!K301 -> 290214.34 | ... T38: =Założenia!$F$229*Założenia!S301 -> 290214.34
A39: 2.7.2. | B39: inne | C39: PLN | E39: =Założenia!$E$220 -> 972980.47 | F39: =Założenia!$E$220 -> 972980.47 | G39: =Założenia!$E$220 -> 972980.47 | H39: =Założenia!$E$220 -> 972980.47 | I39: =Założenia!$E$220 -> 972980.47 | J39: =Założenia!$E$220 -> 972980.47 | K39: =Założenia!$E$220 -> 972980.47 | L39: =Założenia!$E$220 -> 972980.47 | ... T39: =Założenia!$E$220 -> 972980.47
A40: B. | B40: Koszty ogólne | C40: PLN | E40: =Założenia!$E222 -> 1348716.5 | F40: =Założenia!$E222 -> 1348716.5 | G40: =Założenia!$E222 -> 1348716.5 | H40: =Założenia!$E222 -> 1348716.5 | I40: =Założenia!$E222 -> 1348716.5 | J40: =Założenia!$E222 -> 1348716.5 | K40: =Założenia!$E222 -> 1348716.5 | L40: =Założenia!$E222 -> 1348716.5 | ... T40: =Założenia!$E222 -> 1348716.5
A42: TABELA 2. | B42: EFEKTY ZEWNĘTRZNE
A43: 1. | B43: Skutki zmian klimatycznych: | C43: PLN | E43: =E45*E50 -> 225256.51 | F43: =F45*F50 -> 231883.88 | G43: =G45*G50 -> 238325.09 | H43: =H45*H50 -> 244766.31 | I43: =I45*I50 -> 251207.53 | J43: =J45*J50 -> 257648.75 | K43: =K45*K50 -> 264089.97 | L43: =L45*L50 -> 309452.29 | ... T43: =T45*T50 -> 312267.28
B44: Wskaźnik emisji CO2 przez silnik ON | C44: kgCO2/l | E44: =Założenia!E114 -> 2.68 | F44: =Założenia!F114 -> 2.68 | G44: =Założenia!G114 -> 2.68 | H44: =Założenia!H114 -> 2.68 | I44: =Założenia!I114 -> 2.68 | J44: =Założenia!J114 -> 2.68 | K44: =Założenia!K114 -> 2.68 | L44: =Założenia!L114 -> 2.68 | ... T44: =Założenia!T114 -> 2.68
B45: Jednostkowy koszt CO2 | C45: PLN/tCO2 | E45: =Założenia!E115 -> 188.60725 | F45: =Założenia!F115 -> 193.99603 | G45: =Założenia!G115 -> 199.38481 | H45: =Założenia!H115 -> 204.77359 | I45: =Założenia!I115 -> 210.16237 | J45: =Założenia!J115 -> 215.55115 | K45: =Założenia!K115 -> 220.93993 | L45: =Założenia!L115 -> 226.3287 | ... T45: =Założenia!T115 -> 269.43893
B46: Średnia liczba wozokilometrów na autobus ON poniżej 10 m | C46: wzkm/rok | E46: =Założenia!D320 -> 52086.957 | F46: =Założenia!E320 -> 52130 | G46: =Założenia!F320 -> 52130 | H46: =Założenia!G320 -> 52130 | I46: =Założenia!H320 -> 52130 | J46: =Założenia!I320 -> 52130 | K46: =Założenia!J320 -> 52130 | L46: =Założenia!K320 -> 50230 | ... T46: =Założenia!S320 -> 50230
B47: Średnia liczba wozokilometrów na autobus ON | C47: wzkm/rok | E47: =Założenia!D321 -> 55555.556 | F47: =Założenia!E321 -> 55601.465 | G47: =Założenia!F321 -> 55601.465 | H47: =Założenia!G321 -> 55601.465 | I47: =Założenia!H321 -> 55601.465 | J47: =Założenia!I321 -> 55601.465 | K47: =Założenia!J321 -> 55601.465 | L47: =Założenia!K321 -> 53574.94 | ... T47: =Założenia!S321 -> 53574.94
B48: Średnia liczba wozokilometrów na autobus ON hybryda | C48: wzkm/rok | E48: =Założenia!D322 -> 0 | F48: =Założenia!E322 -> 0 | G48: =Założenia!F322 -> 0 | H48: =Założenia!G322 -> 0 | I48: =Założenia!H322 -> 0 | J48: =Założenia!I322 -> 0 | K48: =Założenia!J322 -> 0 | L48: =Założenia!K322 -> 0 | ... T48: =Założenia!S322 -> 0
B49: Średnia liczba wozokilometrów na autobus ELEKTRYCZNY | C49: wzkm/rok | E49: =Założenia!D323 -> 0 | F49: =Założenia!E323 -> 0 | G49: =Założenia!F323 -> 0 | H49: =Założenia!G323 -> 0 | I49: =Założenia!H323 -> 0 | J49: =Założenia!I323 -> 0 | K49: =Założenia!J323 -> 0 | L49: =Założenia!K323 -> 50000 | ... T49: =Założenia!S323 -> 50000
B50: Ilość CO2, w tym: | C50: tCO2 | E50: =E51+E59 -> 1194.3152 | F50: =F51+F59 -> 1195.3022 | G50: =G51+G59 -> 1195.3022 | H50: =H51+H59 -> 1195.3022 | I50: =I51+I59 -> 1195.3022 | J50: =J51+J59 -> 1195.3022 | K50: =K51+K59 -> 1195.3022 | L50: =L51+L59 -> 1367.2693 | ... T50: =T51+T59 -> 1158.9538
B51: ON: | C51: tCO2 | E51: =SUM(E52:E58) -> 1194.3152 | F51: =SUM(F52:F58) -> 1195.3022 | G51: =SUM(G52:G58) -> 1195.3022 | H51: =SUM(H52:H58) -> 1195.3022 | I51: =SUM(I52:I58) -> 1195.3022 | J51: =SUM(J52:J58) -> 1195.3022 | K51: =SUM(K52:K58) -> 1195.3022 | L51: =SUM(L52:L58) -> 817.00194 | ... T51: =SUM(T52:T58) -> 817.00194
B52: EURO I | C52: tCO2 | E52: =Założenia!D305*E$47*E$44/1000*Założenia!$G53/100 -> 0 | F52: =Założenia!E305*F$47*F$44/1000*Założenia!$G53/100 -> 0 | G52: =Założenia!F305*G$47*G$44/1000*Założenia!$G53/100 -> 0 | H52: =Założenia!G305*H$47*H$44/1000*Założenia!$G53/100 -> 0 | I52: =Założenia!H305*I$47*I$44/1000*Założenia!$G53/100 -> 0 | J52: =Założenia!I305*J$47*J$44/1000*Założenia!$G53/100 -> 0 | K52: =Założenia!J305*K$47*K$44/1000*Założenia!$G53/100 -> 0 | L52: =Założenia!K305*L$47*L$44/1000*Założenia!$G53/100 -> 0 | ... T52: =Założenia!S305*T$47*T$44/1000*Założenia!$G53/100 -> 0
B53: EURO II | C53: tCO2 | E53: =Założenia!D306*E$47*E$44/1000*Założenia!$G54/100 -> 0 | F53: =Założenia!E306*F$47*F$44/1000*Założenia!$G54/100 -> 0 | G53: =Założenia!F306*G$47*G$44/1000*Założenia!$G54/100 -> 0 | H53: =Założenia!G306*H$47*H$44/1000*Założenia!$G54/100 -> 0 | I53: =Założenia!H306*I$47*I$44/1000*Założenia!$G54/100 -> 0 | J53: =Założenia!I306*J$47*J$44/1000*Założenia!$G54/100 -> 0 | K53: =Założenia!J306*K$47*K$44/1000*Założenia!$G54/100 -> 0 | L53: =Założenia!K306*L$47*L$44/1000*Założenia!$G54/100 -> 0 | ... T53: =Założenia!S306*T$47*T$44/1000*Założenia!$G54/100 -> 0
B54: EURO III | C54: tCO2 | E54: =Założenia!D307*E$47*E$44/1000*Założenia!$G55/100 -> 0 | F54: =Założenia!E307*F$47*F$44/1000*Założenia!$G55/100 -> 0 | G54: =Założenia!F307*G$47*G$44/1000*Założenia!$G55/100 -> 0 | H54: =Założenia!G307*H$47*H$44/1000*Założenia!$G55/100 -> 0 | I54: =Założenia!H307*I$47*I$44/1000*Założenia!$G55/100 -> 0 | J54: =Założenia!I307*J$47*J$44/1000*Założenia!$G55/100 -> 0 | K54: =Założenia!J307*K$47*K$44/1000*Założenia!$G55/100 -> 0 | L54: =Założenia!K307*L$47*L$44/1000*Założenia!$G55/100 -> 0 | ... T54: =Założenia!S307*T$47*T$44/1000*Założenia!$G55/100 -> 0
B55: EURO IV | C55: tCO2 | E55: =Założenia!D308*E$47*E$44/1000*Założenia!$G56/100 -> 0 | F55: =Założenia!E308*F$47*F$44/1000*Założenia!$G56/100 -> 0 | G55: =Założenia!F308*G$47*G$44/1000*Założenia!$G56/100 -> 0 | H55: =Założenia!G308*H$47*H$44/1000*Założenia!$G56/100 -> 0 | I55: =Założenia!H308*I$47*I$44/1000*Założenia!$G56/100 -> 0 | J55: =Założenia!I308*J$47*J$44/1000*Założenia!$G56/100 -> 0 | K55: =Założenia!J308*K$47*K$44/1000*Założenia!$G56/100 -> 0 | L55: =Założenia!K308*L$47*L$44/1000*Założenia!$G56/100 -> 0 | ... T55: =Założenia!S308*T$47*T$44/1000*Założenia!$G56/100 -> 0
B56: EURO V | C56: tCO2 | E56: =Założenia!D309*E$47*E$44/1000*Założenia!$G57/100 -> 0 | F56: =Założenia!E309*F$47*F$44/1000*Założenia!$G57/100 -> 0 | G56: =Założenia!F309*G$47*G$44/1000*Założenia!$G57/100 -> 0 | H56: =Założenia!G309*H$47*H$44/1000*Założenia!$G57/100 -> 0 | I56: =Założenia!H309*I$47*I$44/1000*Założenia!$G57/100 -> 0 | J56: =Założenia!I309*J$47*J$44/1000*Założenia!$G57/100 -> 0 | K56: =Założenia!J309*K$47*K$44/1000*Założenia!$G57/100 -> 0 | L56: =Założenia!K309*L$47*L$44/1000*Założenia!$G57/100 -> 0 | ... T56: =Założenia!S309*T$47*T$44/1000*Założenia!$G57/100 -> 0
B57: EURO VI | C57: tCO2 | E57: =Założenia!D310*E$47*E$44/1000*Założenia!$G58/100+Założenia!D302*E$46*E$44/1000*Założenia!$E58/100 -> 1194.3152 | F57: =Założenia!E310*F$47*F$44/1000*Założenia!$G58/100+Założenia!E302*F$46*F$44/1000*Założenia!$E58/100 -> 1195.3022 | G57: =Założenia!F310*G$47*G$44/1000*Założenia!$G58/100+Założenia!F302*G$46*G$44/1000*Założenia!$E58/100 -> 1195.3022 | H57: =Założenia!G310*H$47*H$44/1000*Założenia!$G58/100+Założenia!G302*H$46*H$44/1000*Założenia!$E58/100 -> 1195.3022 | I57: =Założenia!H310*I$47*I$44/1000*Założenia!$G58/100+Założenia!H302*I$46*I$44/1000*Założenia!$E58/100 -> 1195.3022 | J57: =Założenia!I310*J$47*J$44/1000*Założenia!$G58/100+Założenia!I302*J$46*J$44/1000*Założenia!$E58/100 -> 1195.3022 | K57: =Założenia!J310*K$47*K$44/1000*Założenia!$G58/100+Założenia!J302*K$46*K$44/1000*Założenia!$E58/100 -> 1195.3022 | L57: =Założenia!K310*L$47*L$44/1000*Założenia!$G58/100+Założenia!K302*L$46*L$44/1000*Założenia!$E58/100 -> 817.00194 | ... T57: =Założenia!S310*T$47*T$44/1000*Założenia!$G58/100+Założenia!S302*T$46*T$44/1000*Założenia!$E58/100 -> 817.00194
B58: EURO VI HYBRYDA | C58: tCO2 | E58: =Założenia!D311*E$47*E$44/1000*Założenia!$G59/100 -> 0 | F58: =Założenia!E311*F$47*F$44/1000*Założenia!$G59/100 -> 0 | G58: =Założenia!F311*G$47*G$44/1000*Założenia!$G59/100 -> 0 | H58: =Założenia!G311*H$47*H$44/1000*Założenia!$G59/100 -> 0 | I58: =Założenia!H311*I$47*I$44/1000*Założenia!$G59/100 -> 0 | J58: =Założenia!I311*J$47*J$44/1000*Założenia!$G59/100 -> 0 | K58: =Założenia!J311*K$47*K$44/1000*Założenia!$G59/100 -> 0 | L58: =Założenia!K311*L$47*L$44/1000*Założenia!$G59/100 -> 0 | ... T58: =Założenia!S311*T$47*T$44/1000*Założenia!$G59/100 -> 0
B59: Autobusy elektryczne | C59: tCO2 | E59: =E49*Założenia!D312*Założenia!$E$184*Założenia!$E$123*Założenia!E116/1000000 -> 0 | F59: =F49*Założenia!E312*Założenia!$E$184*Założenia!$E$123*Założenia!F116/1000000 -> 0 | G59: =G49*Założenia!F312*Założenia!$E$184*Założenia!$E$123*Założenia!G116/1000000 -> 0 | H59: =H49*Założenia!G312*Założenia!$E$184*Założenia!$E$123*Założenia!H116/1000000 -> 0 | I59: =I49*Założenia!H312*Założenia!$E$184*Założenia!$E$123*Założenia!I116/1000000 -> 0 | J59: =J49*Założenia!I312*Założenia!$E$184*Założenia!$E$123*Założenia!J116/1000000 -> 0 | K59: =K49*Założenia!J312*Założenia!$E$184*Założenia!$E$123*Założenia!K116/1000000 -> 0 | L59: =L49*Założenia!K312*Założenia!$E$184*Założenia!$E$123*Założenia!L116/1000000 -> 550.26738 | ... T59: =T49*Założenia!S312*Założenia!$E$184*Założenia!$E$123*Założenia!T116/1000000 -> 341.95187
A60: 2. | B60: Skutki zanieczyszczenia powietrza: | C60: PLN | E60: =(E62*Założenia!E96*(1+Założenia!$C$110)+E70*Założenia!E96)+(E72*Założenia!E99*(1+Założenia!$C$110)+E80*Założenia!E99)+(E82*Założenia!E97*(1+Założenia!$C$110)+E90*Założenia!E97) -> 239740.03 | F60: =(F62*Założenia!F96*(1+Założenia!$C$110)+F70*Założenia!F96)+(F72*Założenia!F99*(1+Założenia!$C$110)+F80*Założenia!F99)+(F82*Założenia!F97*(1+Założenia!$C$110)+F90*Założenia!F97) -> 249700.68 | G60: =(G62*Założenia!G96*(1+Założenia!$C$110)+G70*Założenia!G96)+(G72*Założenia!G99*(1+Założenia!$C$110)+G80*Założenia!G99)+(G82*Założenia!G97*(1+Założenia!$C$110)+G90*Założenia!G97) -> 259290.58 | H60: =(H62*Założenia!H96*(1+Założenia!$C$110)+H70*Założenia!H96)+(H72*Założenia!H99*(1+Założenia!$C$110)+H80*Założenia!H99)+(H82*Założenia!H97*(1+Założenia!$C$110)+H90*Założenia!H97) -> 267412.79 | I60: =(I62*Założenia!I96*(1+Założenia!$C$110)+I70*Założenia!I96)+(I72*Założenia!I99*(1+Założenia!$C$110)+I80*Założenia!I99)+(I82*Założenia!I97*(1+Założenia!$C$110)+I90*Założenia!I97) -> 275399.36 | J60: =(J62*Założenia!J96*(1+Założenia!$C$110)+J70*Założenia!J96)+(J72*Założenia!J99*(1+Założenia!$C$110)+J80*Założenia!J99)+(J82*Założenia!J97*(1+Założenia!$C$110)+J90*Założenia!J97) -> 283665.48 | K60: =(K62*Założenia!K96*(1+Założenia!$C$110)+K70*Założenia!K96)+(K72*Założenia!K99*(1+Założenia!$C$110)+K80*Założenia!K99)+(K82*Założenia!K97*(1+Założenia!$C$110)+K90*Założenia!K97) -> 292222.29 | L60: =(L62*Założenia!L96*(1+Założenia!$C$110)+L70*Założenia!L96)+(L72*Założenia!L99*(1+Założenia!$C$110)+L80*Założenia!L99)+(L82*Założenia!L97*(1+Założenia!$C$110)+L90*Założenia!L97) -> 304603.04 | ... T60: =(T62*Założenia!T96*(1+Założenia!$C$110)+T70*Założenia!T96)+(T72*Założenia!T99*(1+Założenia!$C$110)+T80*Założenia!T99)+(T82*Założenia!T97*(1+Założenia!$C$110)+T90*Założenia!T97) -> 332336.24
A61: 2.1. | B61: Emisja NOx | C61: tNOx | E61: =E62+E70 -> 1.78256 | F61: =F62+F70 -> 1.7840331 | G61: =G62+G70 -> 1.7840331 | H61: =H62+H70 -> 1.7840331 | I61: =I62+I70 -> 1.7840331 | J61: =J62+J70 -> 1.7840331 | K61: =K62+K70 -> 1.7840331 | L61: =L62+L70 -> 1.9011688 | ... T61: =T62+T70 -> 1.6766838
B62: ON: | C62: tNOx | E62: =SUM(E63:E69) -> 1.78256 | F62: =SUM(F63:F69) -> 1.7840331 | G62: =SUM(G63:G69) -> 1.7840331 | H62: =SUM(H63:H69) -> 1.7840331 | I62: =SUM(I63:I69) -> 1.7840331 | J62: =SUM(J63:J69) -> 1.7840331 | K62: =SUM(K63:K69) -> 1.7840331 | L62: =SUM(L63:L69) -> 1.2194059 | ... T62: =SUM(T63:T69) -> 1.2194059
B63: EURO I | C63: tNOx | E63: =Założenia!D305*Założenia!D$321*Założenia!$F72/1000000 -> 0 | F63: =Założenia!E305*Założenia!E$321*Założenia!$F72/1000000 -> 0 | G63: =Założenia!F305*Założenia!F$321*Założenia!$F72/1000000 -> 0 | H63: =Założenia!G305*Założenia!G$321*Założenia!$F72/1000000 -> 0 | I63: =Założenia!H305*Założenia!H$321*Założenia!$F72/1000000 -> 0 | J63: =Założenia!I305*Założenia!I$321*Założenia!$F72/1000000 -> 0 | K63: =Założenia!J305*Założenia!J$321*Założenia!$F72/1000000 -> 0 | L63: =Założenia!K305*Założenia!K$321*Założenia!$F72/1000000 -> 0 | ... T63: =Założenia!S305*Założenia!S$321*Założenia!$F72/1000000 -> 0
B64: EURO II | C64: tNOx | E64: =Założenia!D306*Założenia!D$321*Założenia!$F73/1000000 -> 0 | F64: =Założenia!E306*Założenia!E$321*Założenia!$F73/1000000 -> 0 | G64: =Założenia!F306*Założenia!F$321*Założenia!$F73/1000000 -> 0 | H64: =Założenia!G306*Założenia!G$321*Założenia!$F73/1000000 -> 0 | I64: =Założenia!H306*Założenia!H$321*Założenia!$F73/1000000 -> 0 | J64: =Założenia!I306*Założenia!I$321*Założenia!$F73/1000000 -> 0 | K64: =Założenia!J306*Założenia!J$321*Założenia!$F73/1000000 -> 0 | L64: =Założenia!K306*Założenia!K$321*Założenia!$F73/1000000 -> 0 | ... T64: =Założenia!S306*Założenia!S$321*Założenia!$F73/1000000 -> 0
B65: EURO III | C65: tNOx | E65: =Założenia!D307*Założenia!D$321*Założenia!$F74/1000000 -> 0 | F65: =Założenia!E307*Założenia!E$321*Założenia!$F74/1000000 -> 0 | G65: =Założenia!F307*Założenia!F$321*Założenia!$F74/1000000 -> 0 | H65: =Założenia!G307*Założenia!G$321*Założenia!$F74/1000000 -> 0 | I65: =Założenia!H307*Założenia!H$321*Założenia!$F74/1000000 -> 0 | J65: =Założenia!I307*Założenia!I$321*Założenia!$F74/1000000 -> 0 | K65: =Założenia!J307*Założenia!J$321*Założenia!$F74/1000000 -> 0 | L65: =Założenia!K307*Założenia!K$321*Założenia!$F74/1000000 -> 0 | ... T65: =Założenia!S307*Założenia!S$321*Założenia!$F74/1000000 -> 0
B66: EURO IV | C66: tNOx | E66: =Założenia!D308*Założenia!D$321*Założenia!$F75/1000000 -> 0 | F66: =Założenia!E308*Założenia!E$321*Założenia!$F75/1000000 -> 0 | G66: =Założenia!F308*Założenia!F$321*Założenia!$F75/1000000 -> 0 | H66: =Założenia!G308*Założenia!G$321*Założenia!$F75/1000000 -> 0 | I66: =Założenia!H308*Założenia!H$321*Założenia!$F75/1000000 -> 0 | J66: =Założenia!I308*Założenia!I$321*Założenia!$F75/1000000 -> 0 | K66: =Założenia!J308*Założenia!J$321*Założenia!$F75/1000000 -> 0 | L66: =Założenia!K308*Założenia!K$321*Założenia!$F75/1000000 -> 0 | ... T66: =Założenia!S308*Założenia!S$321*Założenia!$F75/1000000 -> 0
B67: EURO V | C67: tNOx | E67: =Założenia!D309*Założenia!D$321*Założenia!$F76/1000000 -> 0 | F67: =Założenia!E309*Założenia!E$321*Założenia!$F76/1000000 -> 0 | G67: =Założenia!F309*Założenia!F$321*Założenia!$F76/1000000 -> 0 | H67: =Założenia!G309*Założenia!G$321*Założenia!$F76/1000000 -> 0 | I67: =Założenia!H309*Założenia!H$321*Założenia!$F76/1000000 -> 0 | J67: =Założenia!I309*Założenia!I$321*Założenia!$F76/1000000 -> 0 | K67: =Założenia!J309*Założenia!J$321*Założenia!$F76/1000000 -> 0 | L67: =Założenia!K309*Założenia!K$321*Założenia!$F76/1000000 -> 0 | ... T67: =Założenia!S309*Założenia!S$321*Założenia!$F76/1000000 -> 0
B68: EURO VI | C68: tNOx | E68: =Założenia!D310*Założenia!D$321*Założenia!$F77/1000000+Założenia!D302*Założenia!D320*Założenia!$F68/1000000 -> 1.78256 | F68: =Założenia!E310*Założenia!E$321*Założenia!$F77/1000000+Założenia!E302*Założenia!E320*Założenia!$F68/1000000 -> 1.7840331 | G68: =Założenia!F310*Założenia!F$321*Założenia!$F77/1000000+Założenia!F302*Założenia!F320*Założenia!$F68/1000000 -> 1.7840331 | H68: =Założenia!G310*Założenia!G$321*Założenia!$F77/1000000+Założenia!G302*Założenia!G320*Założenia!$F68/1000000 -> 1.7840331 | I68: =Założenia!H310*Założenia!H$321*Założenia!$F77/1000000+Założenia!H302*Założenia!H320*Założenia!$F68/1000000 -> 1.7840331 | J68: =Założenia!I310*Założenia!I$321*Założenia!$F77/1000000+Założenia!I302*Założenia!I320*Założenia!$F68/1000000 -> 1.7840331 | K68: =Założenia!J310*Założenia!J$321*Założenia!$F77/1000000+Założenia!J302*Założenia!J320*Założenia!$F68/1000000 -> 1.7840331 | L68: =Założenia!K310*Założenia!K$321*Założenia!$F77/1000000+Założenia!K302*Założenia!K320*Założenia!$F68/1000000 -> 1.2194059 | ... T68: =Założenia!S310*Założenia!S$321*Założenia!$F77/1000000+Założenia!S302*Założenia!S320*Założenia!$F68/1000000 -> 1.2194059
B69: EURO VI HYBRYDA | C69: tNOx | E69: =Założenia!D311*Założenia!D$322*Założenia!$I77/1000000 -> 0 | F69: =Założenia!E311*Założenia!E$322*Założenia!$I77/1000000 -> 0 | G69: =Założenia!F311*Założenia!F$322*Założenia!$I77/1000000 -> 0 | H69: =Założenia!G311*Założenia!G$322*Założenia!$I77/1000000 -> 0 | I69: =Założenia!H311*Założenia!H$322*Założenia!$I77/1000000 -> 0 | J69: =Założenia!I311*Założenia!I$322*Założenia!$I77/1000000 -> 0 | K69: =Założenia!J311*Założenia!J$322*Założenia!$I77/1000000 -> 0 | L69: =Założenia!K311*Założenia!K$322*Założenia!$I77/1000000 -> 0 | ... T69: =Założenia!S311*Założenia!S$322*Założenia!$I77/1000000 -> 0
B70: Autobusy elektryczne | C70: tNOx | E70: =Założenia!D312*Założenia!D$323*Założenia!$E$184*Założenia!$E$123*Założenia!E92/1000000 -> 0 | F70: =Założenia!E312*Założenia!E$323*Założenia!$E$184*Założenia!$E$123*Założenia!F92/1000000 -> 0 | G70: =Założenia!F312*Założenia!F$323*Założenia!$E$184*Założenia!$E$123*Założenia!G92/1000000 -> 0 | H70: =Założenia!G312*Założenia!G$323*Założenia!$E$184*Założenia!$E$123*Założenia!H92/1000000 -> 0 | I70: =Założenia!H312*Założenia!H$323*Założenia!$E$184*Założenia!$E$123*Założenia!I92/1000000 -> 0 | J70: =Założenia!I312*Założenia!I$323*Założenia!$E$184*Założenia!$E$123*Założenia!J92/1000000 -> 0 | K70: =Założenia!J312*Założenia!J$323*Założenia!$E$184*Założenia!$E$123*Założenia!K92/1000000 -> 0 | L70: =Założenia!K312*Założenia!K$323*Założenia!$E$184*Założenia!$E$123*Założenia!L92/1000000 -> 0.68176288 | ... T70: =Założenia!S312*Założenia!S$323*Założenia!$E$184*Założenia!$E$123*Założenia!T92/1000000 -> 0.45727791
A71: 2.2. | B71: Emisja PM | C71: tPM | E71: =E72+E80 -> 0.044564 | F71: =F72+F80 -> 0.044600827 | G71: =G72+G80 -> 0.044600827 | H71: =H72+H80 -> 0.044600827 | I71: =I72+I80 -> 0.044600827 | J71: =J72+J80 -> 0.044600827 | K71: =K72+K80 -> 0.044600827 | L71: =L72+L80 -> 0.049167728 | ... T71: =T72+T80 -> 0.043017869
B72: ON: | C72: tPM | E72: =SUM(E73:E79) -> 0.044564 | F72: =SUM(F73:F79) -> 0.044600827 | G72: =SUM(G73:G79) -> 0.044600827 | H72: =SUM(H73:H79) -> 0.044600827 | I72: =SUM(I73:I79) -> 0.044600827 | J72: =SUM(J73:J79) -> 0.044600827 | K72: =SUM(K73:K79) -> 0.044600827 | L72: =SUM(L73:L79) -> 0.030485147 | ... T72: =SUM(T73:T79) -> 0.030485147
B73: EURO I | C73: tPM | E73: =Założenia!D305*Założenia!D$321*Założenia!$G72/1000000 -> 0 | F73: =Założenia!E305*Założenia!E$321*Założenia!$G72/1000000 -> 0 | G73: =Założenia!F305*Założenia!F$321*Założenia!$G72/1000000 -> 0 | H73: =Założenia!G305*Założenia!G$321*Założenia!$G72/1000000 -> 0 | I73: =Założenia!H305*Założenia!H$321*Założenia!$G72/1000000 -> 0 | J73: =Założenia!I305*Założenia!I$321*Założenia!$G72/1000000 -> 0 | K73: =Założenia!J305*Założenia!J$321*Założenia!$G72/1000000 -> 0 | L73: =Założenia!K305*Założenia!K$321*Założenia!$G72/1000000 -> 0 | ... T73: =Założenia!S305*Założenia!S$321*Założenia!$G72/1000000 -> 0
B74: EURO II | C74: tPM | E74: =Założenia!D306*Założenia!D$321*Założenia!$G73/1000000 -> 0 | F74: =Założenia!E306*Założenia!E$321*Założenia!$G73/1000000 -> 0 | G74: =Założenia!F306*Założenia!F$321*Założenia!$G73/1000000 -> 0 | H74: =Założenia!G306*Założenia!G$321*Założenia!$G73/1000000 -> 0 | I74: =Założenia!H306*Założenia!H$321*Założenia!$G73/1000000 -> 0 | J74: =Założenia!I306*Założenia!I$321*Założenia!$G73/1000000 -> 0 | K74: =Założenia!J306*Założenia!J$321*Założenia!$G73/1000000 -> 0 | L74: =Założenia!K306*Założenia!K$321*Założenia!$G73/1000000 -> 0 | ... T74: =Założenia!S306*Założenia!S$321*Założenia!$G73/1000000 -> 0
