Workbook
Name CIT: [1]RW_n!$B$54
Name Company: [2]Parameters!$F$7
Name Completo: #REF!,#REF!,#REF!,#REF!
Name Completo: #REF!,#REF!,#REF!,#REF!
Name Completo: #REF!,#REF!,#REF!,#REF!
Name Completo: #REF!,#REF!,#REF!,#REF!
Name Completo: #REF!,#REF!,#REF!,#REF!
Name convCA: #REF!
Name convCA: #REF!
Name convCA: #REF!
Name convCA: #REF!
Name convCA: #REF!
Name CRITICAL2CAPEX: #REF!
Name CRITICAL2CAPEX: #REF!
Name CRITICAL2CAPEX: #REF!
Name CRITICAL2DEMAND: #REF!
Name CRITICAL2DEMAND: #REF!
Name CRITICAL2DEMAND: #REF!
Name CRITICAL2DIESEL: #REF!
Name CRITICAL2DIESEL: #REF!
Name CRITICAL2DIESEL: #REF!
Name CRITICAL2ENERGY: #REF!
Name CRITICAL2ENERGY: #REF!
Name CRITICAL2ENERGY: #REF!
Name CRITICAL2OPEX: #REF!
Name CRITICAL2OPEX: #REF!
Name CRITICAL2OPEX: #REF!
Name CRITICAL2PRICE: #REF!
Name CRITICAL2PRICE: #REF!
Name CRITICAL2PRICE: #REF!
Name CRITICAL2TIME: #REF!
Name CRITICAL2TIME: #REF!
Name CRITICAL2TIME: #REF!
Name CRITICAL2WAGES: #REF!
Name CRITICAL2WAGES: #REF!
Name CRITICAL2WAGES: #REF!
Name CRITICAL3CAPEX: #REF!
Name CRITICAL3CAPEX: #REF!
Name CRITICAL3CAPEX: #REF!
Name CRITICAL3DEMAND: #REF!
Name CRITICAL3DEMAND: #REF!
Name CRITICAL3DEMAND: #REF!
Name CRITICAL3DIESEL: #REF!
Name CRITICAL3DIESEL: #REF!
Name CRITICAL3DIESEL: #REF!
Name CRITICAL3ENERGY: #REF!
Name CRITICAL3ENERGY: #REF!
Name CRITICAL3ENERGY: #REF!
Name CRITICAL3OPEX: #REF!
Name CRITICAL3OPEX: #REF!
Name CRITICAL3OPEX: #REF!
Name CRITICAL3PRICE: #REF!
Name CRITICAL3PRICE: #REF!
Name CRITICAL3PRICE: #REF!
Name CRITICAL3TIME: #REF!
Name CRITICAL3TIME: #REF!
Name CRITICAL3TIME: #REF!
Name CRITICALCAPEX: #REF!
Name CRITICALCAPEX: #REF!
Name CRITICALCAPEX: #REF!

Sheet Słowniczek
B3: Skrót używany w arkuszach | C3: Nazwa dokumentu, źródła, instytucji
B5: Wytyczne MRiF | C5: Wytyczne Ministra Rozwoju i Finansów w zakresie zagadnień związanych z przygotowaniem projektów inwestycyjnych, w tym projektów generujących dochód i projektów hybrydowych na lata 2014-2020; MR/H 2014-2020/7(2)/02/2017; wersja z 17 lutego 2017 r.
B6: Vademecum CUPT | C6: Analiza kosztów i korzyści projektów transportowych współfinansowanych ze środków Unii Europejskiej, Vademecum Beneficjenta, CUPT , Warszawa 2016 r.
B7: Wskaźniki CUPT | C7: Aktualizacja tablic kosztów jednostkowych do wykorzystania w analizach kosztów i korzyści; Wersja - aktualizacja 28.08.2020. CUPT, https://www.cupt.gov.pl/wdrazanie-projektow/analiza-kosztow-i-korzysci/narzedzia/tablice-kosztow-jednostkowych-do-wykorzystania-w-analizach-kosztow-i-korzysci Pobranie z dnia 25-10-2021
B8: Niebieska Księga | C8: Niebieska Księga. Nowa edycja. Sektor Transportu Publicznego w miastach, aglomeracjach, regionach, Inicjatywa JASPERS, sierpień 2015 r.
B9: Niebieska Księga Drogi | C9: Niebieska Księga. Nowa edycja. Infrastruktura Drogowa, Inicjatywa JASPERS, sierpień 2015 r.
B10: uCIT | C10: Ustawa o podatku dochodowym od osób prawnych z dnia 15 lutego 1992 r., jednolity tekst ustawy Dz.U. z 2014 r. poz. 851, z późniejszymi zmianami.
B11: Kalkulator emisji CUPT | C11: https://www.cupt.gov.pl/index.php?option=com_content&view=article&id=692&Itemid=411 Pobranie z dnia 25-10-2021
B12: ZKM | C12: ZKM w Elblągu sp. z o.o.

Sheet Założenia
B2: ELBLĄG AKK
A4: Tabela 1. | B4: OKRES ANALIZY | C4: JEDNOSTKA | D4: ŹRÓDŁO / UWAGI
B6: Rok bazowy | C6: [-] | E6: 2021
B7: Rok rozpoczęcia analizy | C7: [-] | E7: 2021
B8: Rok zakończenia analizy | C8: [-] | E8: =E7+E9 -> 2036
B9: Okres analizy | C9: lata | E9: 15
B10: Faza realizacyjna | C10: lata | E10: nie dotyczy
A12: Tabela 2. | B12: ZAŁOŻENIA MAKROEKONOMICZNE, WSKAŹNIKI LOKALNE | E12: 1
B14: Lata: | E14: =E7 -> 2021 | F14: =E14+1 -> 2022 | G14: =F14+1 -> 2023 | H14: =G14+1 -> 2024 | I14: =H14+1 -> 2025 | J14: =I14+1 -> 2026 | K14: =J14+1 -> 2027 | L14: =K14+1 -> 2028 | M14: =L14+1 -> 2029 | ... U14: =T14+1 -> 2037
B15: Dynamika PKB per capita | C15: % | D15: Wskaźniki CUPT | E15: 0.050859638 | F15: 0.04800697 | G15: 0.039155931 | H15: 0.037332581 | I15: 0.037518786 | J15: 0.037706456 | K15: 0.036892516 | L15: 0.036076958 | M15: 0.034253571 | N15: 0.03242385 | O15: 0.031618746 | P15: 0.030801303 | Q15: 0.029969981 | R15: 0.029122738 | S15: 0.029259718 | T15: 0.028391519 | U15: 0.027506817
B16: Realna stopa dyskontowa | C16: % | D16: Wytyczne MRiF | E16: 0.04 | F16: =IF(F$14="","",E16) -> 0.04 | G16: =IF(G$14="","",F16) -> 0.04 | H16: =IF(H$14="","",G16) -> 0.04 | I16: =IF(I$14="","",H16) -> 0.04 | J16: =IF(J$14="","",I16) -> 0.04 | K16: =IF(K$14="","",J16) -> 0.04 | L16: =IF(L$14="","",K16) -> 0.04 | M16: =IF(M$14="","",L16) -> 0.04 | ... U16: =IF(U$14="","",T16) -> 0.04
B17: Społeczna stopa dyskontowa | C17: % | D17: Wytyczne MRiF | E17: 0.045 | F17: =E17 -> 0.045 | G17: =F17 -> 0.045 | H17: =G17 -> 0.045 | I17: =H17 -> 0.045 | J17: =I17 -> 0.045 | K17: =J17 -> 0.045 | L17: =K17 -> 0.045 | M17: =L17 -> 0.045 | ... U17: =T17 -> 0.045
A20: Tabela 3. | B20: WSKAŹNIKI I ZAŁOŻENIA METODYCZNE DO ANALIZY AKK | F20: indeksacja o 0,8 prognozy dynamiki PKB per capita
B23: Koszty hałasu w transporcie drogowym dla autobusu w terenie miejskim | E23: =E14 -> 2021 | F23: =F14 -> 2022 | G23: =G14 -> 2023 | H23: =H14 -> 2024 | I23: =I14 -> 2025 | J23: =J14 -> 2026 | K23: =K14 -> 2027 | L23: =L14 -> 2028 | ... U23: =U14 -> 2037
B24: dzień | C24: PLN/wzkm | D24: Wskaźniki CUPT | E24: 0.28089657 | F24: 0.29232561 | G24: 0.30355254 | H24: 0.31306124 | I24: 0.32241115 | J24: 0.33208833 | K24: 0.34210583 | L24: 0.35220275 | M24: 0.36236787 | N24: 0.37229779 | O24: 0.38195485 | P24: 0.39161639 | Q24: 0.40126623 | R24: 0.41088698 | S24: 0.42045991 | T24: 0.43030194 | U24: 0.44007548
B25: noc | C25: PLN/wzkm | D25: Wskaźniki CUPT | E25: 0.51167843 | F25: 0.53249745 | G25: 0.55294832 | H25: 0.57026929 | I25: 0.58730099 | J25: 0.60492884 | K25: 0.62317662 | L25: 0.64156906 | M25: 0.66008575 | N25: 0.67817399 | O25: 0.6957652 | P25: 0.71336458 | Q25: 0.73094262 | R25: 0.74846769 | S25: 0.76590563 | T25: 0.78383378 | U25: 0.80163717
B26: średnio | C26: PLN/wzkm | D26: Wskaźniki CUPT | E26: 0.35782385 | F26: 0.37238289 | G26: 0.38668447 | H26: 0.39879726 | I26: 0.41070776 | J26: 0.42303517 | K26: 0.4357961 | L26: 0.44865819 | M26: 0.46160716 | N26: 0.47425652 | O26: 0.4865583 | P26: 0.49886579 | Q26: 0.51115836 | R26: 0.52341389 | S26: 0.53560848 | T26: 0.54814589 | U26: 0.56059604
B28: Redukcja hałasu - autobus elektryczny vs. autobus ON | C28: % | D28: Założenie własne na podstawie informacji od producentów | E28: 0.8
B29: Redukcja hałasu - nowy autobus ON EURO VI vs. autobus ON używany | C29: % | D29: Habrat B., Jasiński T. Badanie zmian emisji hałasu drogowego w sieci drogowej. Praca dyplomowa magisterska (promotor: J. Bohatkiewicz). Politechnika Krakowska, 2011 | E29: 0.05
B30: Redukcja hałasu - nowy autobus ON Hybrydowy EURO VI vs. autobus ON używany | C30: % | D30: Założenie własne na podstawie informacji od producentów | E30: 0.1
B33: Wskaźnik korekty nakładów inwestycyjnych - infrastruktura | C33: [-] | D33: Vademecum CUPT, str. 27 | E33: 0.83
B34: Wskaźnik korekty nakładów inwestycyjnych - tabor | C34: [-] | D34: Vademecum CUPT, str. 28 | E34: 0.87
B35: Wskaźnik korekty kosztów operacyjnych | C35: [-] | D35: Vademecum CUPT, str. 27 | E35: 0.78
B37: Normy emisji autobusów ON: | E37: EURO I | F37: EURO II | G37: EURO III | H37: EURO IV | I37: EURO V | J37: EURO VI | K37: =K14 -> 2027 | L37: =L14 -> 2028 | M37: =M14 -> 2029 | N37: =N14 -> 2030 | O37: =O14 -> 2031 | P37: =P14 -> 2032 | Q37: =Q14 -> 2033 | R37: =R14 -> 2034 | S37: =S14 -> 2035
B38: NMHC/NMVOC | C38: g/kWh | D38: Kalkulator emisji CUPT | E38: 1.1 | F38: 1.1 | G38: 0.66 | H38: 0.46 | I38: 0.46 | J38: 0.13
B39: NOx | C39: g/kWh | D39: Kalkulator emisji CUPT | E39: 8 | F39: 7 | G39: 5 | H39: 3.5 | I39: 2 | J39: 0.4
B40: PM | C40: g/kWh | D40: Kalkulator emisji CUPT | E40: 0.36 | F40: 0.15 | G40: 0.1 | H40: 0.02 | I40: 0.02 | J40: 0.01
B43: ON
B44: Wartość energetyczna ON | D44: Kalkulator emisji CUPT | F44: 36 | G44: MJ/l
B45: 1 kWh | D45: Kalkulator emisji CUPT | E45: = | F45: 3.6 | G45: MJ
B46: Wartość energetyczna ON | D46: Kalkulator emisji CUPT | F46: =F44/F45 -> 10 | G46: kWh/l
B50: SPALANIE - TABOR | E50: średniorocznie
E51: poniżej 10 m | G51: od 10 m | I51: 18 m
B52: rodzaj autobusu | E52: ON | F52: CNG | G52: ON | H52: CNG | I52: ON | J52: CNG
B53: EURO I | C53: l/100km | D53: Zestawienie własnego taboru z podziałem na rodzaj | E53: =IFERROR(AVERAGEIFS($H$128:$H$170,$G$128:$G$170,1,$E$128:$E$170,"ON",$C$128:$C$170,"<10"),0) -> 0 | F53: =IFERROR(AVERAGEIFS($H$128:$H$170,$G$128:$G$170,1,$E$128:$E$170,"CNG",$C$128:$C$170,"<10"),0) -> 0 | G53: =IFERROR(AVERAGEIFS($H$128:$H$170,$G$128:$G$170,1,$E$128:$E$170,"ON",$C$128:$C$170,">=10",$C$128:$C$170,"<15"),0) -> 0 | H53: =IFERROR(AVERAGEIFS($H$128:$H$170,$G$128:$G$170,1,$E$128:$E$170,"CNG",$C$128:$C$170,">=10",$C$128:$C$170,"<15"),0) -> 0 | I53: =IFERROR(AVERAGEIFS($H$128:$H$170,$G$128:$G$170,1,$E$128:$E$170,"ON",$C$128:$C$170,">=15"),0) -> 0 | J53: =IFERROR(AVERAGEIFS($H$128:$H$170,$G$128:$G$170,1,$E$128:$E$170,"CNG",$C$128:$C$170,">=15"),0) -> 0
B54: EURO II | C54: l/100km | D54: Zestawienie własnego taboru z podziałem na rodzaj | E54: =IFERROR(AVERAGEIFS($H$128:$H$170,$G$128:$G$170,2,$E$128:$E$170,"ON",$C$128:$C$170,"<10"),0) -> 0 | F54: =IFERROR(AVERAGEIFS($H$128:$H$170,$G$128:$G$170,2,$E$128:$E$170,"CNG",$C$128:$C$170,"<10"),0) -> 0 | G54: =IFERROR(AVERAGEIFS($H$128:$H$170,$G$128:$G$170,2,$E$128:$E$170,"ON",$C$128:$C$170,">=10",$C$128:$C$170,"<15"),0) -> 0 | H54: =IFERROR(AVERAGEIFS($H$128:$H$170,$G$128:$G$170,2,$E$128:$E$170,"CNG",$C$128:$C$170,">=10",$C$128:$C$170,"<15"),0) -> 0 | I54: =IFERROR(AVERAGEIFS($H$128:$H$170,$G$128:$G$170,2,$E$128:$E$170,"ON",$C$128:$C$170,">=15"),0) -> 0 | J54: =IFERROR(AVERAGEIFS($H$128:$H$170,$G$128:$G$170,2,$E$128:$E$170,"CNG",$C$128:$C$170,">=15"),0) -> 0
B55: EURO III | C55: l/100km | D55: Zestawienie własnego taboru z podziałem na rodzaj | E55: =IFERROR(AVERAGEIFS($H$128:$H$170,$G$128:$G$170,3,$E$128:$E$170,"ON",$C$128:$C$170,"<10"),0) -> 0 | F55: =IFERROR(AVERAGEIFS($H$128:$H$170,$G$128:$G$170,3,$E$128:$E$170,"CNG",$C$128:$C$170,"<10"),0) -> 0 | G55: =IFERROR(AVERAGEIFS($H$128:$H$170,$G$128:$G$170,3,$E$128:$E$170,"ON",$C$128:$C$170,">=10",$C$128:$C$170,"<15"),0) -> 0 | H55: =IFERROR(AVERAGEIFS($H$128:$H$170,$G$128:$G$170,3,$E$128:$E$170,"CNG",$C$128:$C$170,">=10",$C$128:$C$170,"<15"),0) -> 0 | I55: =IFERROR(AVERAGEIFS($H$128:$H$170,$G$128:$G$170,3,$E$128:$E$170,"ON",$C$128:$C$170,">=15"),0) -> 0 | J55: =IFERROR(AVERAGEIFS($H$128:$H$170,$G$128:$G$170,3,$E$128:$E$170,"CNG",$C$128:$C$170,">=15"),0) -> 0
B56: EURO IV | C56: l/100km | D56: Zestawienie własnego taboru z podziałem na rodzaj | E56: =IFERROR(AVERAGEIFS($H$128:$H$170,$G$128:$G$170,4,$E$128:$E$170,"ON",$C$128:$C$170,"<10"),0) -> 0 | F56: =IFERROR(AVERAGEIFS($H$128:$H$170,$G$128:$G$170,4,$E$128:$E$170,"CNG",$C$128:$C$170,"<10"),0) -> 0 | G56: =IFERROR(AVERAGEIFS($H$128:$H$170,$G$128:$G$170,4,$E$128:$E$170,"ON",$C$128:$C$170,">=10",$C$128:$C$170,"<15"),0) -> 0 | H56: =IFERROR(AVERAGEIFS($H$128:$H$170,$G$128:$G$170,4,$E$128:$E$170,"CNG",$C$128:$C$170,">=10",$C$128:$C$170,"<15"),0) -> 0 | I56: =IFERROR(AVERAGEIFS($H$128:$H$170,$G$128:$G$170,4,$E$128:$E$170,"ON",$C$128:$C$170,">=15"),0) -> 0 | J56: =IFERROR(AVERAGEIFS($H$128:$H$170,$G$128:$G$170,4,$E$128:$E$170,"CNG",$C$128:$C$170,">=15"),0) -> 0
B57: EURO V | C57: l/100km | D57: Zestawienie własnego taboru z podziałem na rodzaj | E57: =IFERROR(AVERAGEIFS($H$128:$H$170,$G$128:$G$170,5,$E$128:$E$170,"ON",$C$128:$C$170,"<10"),0) -> 0 | F57: =IFERROR(AVERAGEIFS($H$128:$H$170,$G$128:$G$170,5,$E$128:$E$170,"CNG",$C$128:$C$170,"<10"),0) -> 0 | G57: =IFERROR(AVERAGEIFS($H$128:$H$170,$G$128:$G$170,5,$E$128:$E$170,"ON",$C$128:$C$170,">=10",$C$128:$C$170,"<15"),0) -> 0 | H57: =IFERROR(AVERAGEIFS($H$128:$H$170,$G$128:$G$170,5,$E$128:$E$170,"CNG",$C$128:$C$170,">=10",$C$128:$C$170,"<15"),0) -> 0 | I57: =IFERROR(AVERAGEIFS($H$128:$H$170,$G$128:$G$170,5,$E$128:$E$170,"ON",$C$128:$C$170,">=15"),0) -> 0 | J57: =IFERROR(AVERAGEIFS($H$128:$H$170,$G$128:$G$170,5,$E$128:$E$170,"CNG",$C$128:$C$170,">=15"),0) -> 0
B58: EURO VI | C58: l/100km | D58: Zestawienie własnego taboru z podziałem na rodzaj | E58: =IFERROR(AVERAGEIFS($H$128:$H$170,$G$128:$G$170,6,$E$128:$E$170,"ON",$C$128:$C$170,"<10"),0) -> 18 | F58: =IFERROR(AVERAGEIFS($H$128:$H$170,$G$128:$G$170,6,$E$128:$E$170,"CNG",$C$128:$C$170,"<10"),0) -> 0 | G58: =IFERROR(AVERAGEIFS($H$128:$H$170,$G$128:$G$170,6,$E$128:$E$170,"ON",$C$128:$C$170,">=10",$C$128:$C$170,"<15"),0) -> 23 | H58: =IFERROR(AVERAGEIFS($H$128:$H$170,$G$128:$G$170,6,$E$128:$E$170,"CNG",$C$128:$C$170,">=10",$C$128:$C$170,"<15"),0) -> 0 | I58: =I57 -> 0 | J58: =IFERROR(AVERAGEIFS($H$128:$H$170,$G$128:$G$170,6,$E$128:$E$170,"CNG",$C$128:$C$170,">=15"),0) -> 0
...

Sheet Opcje
A1: Scenariusz bazowy | B1: Scenariusz bazowy | C1: Typ | D1: 2021 | E1: =D1+1 -> 2022 | F1: =E1+1 -> 2023 | G1: =F1+1 -> 2024 | H1: =G1+1 -> 2025 | I1: =H1+1 -> 2026 | J1: =I1+1 -> 2027 | K1: =J1+1 -> 2028 | L1: =K1+1 -> 2029 | ... S1: =R1+1 -> 2036
B2: Plan zakupów
B3: 8 m ON (używane) | C3: 8 m | D3: 0 | E3: 0 | F3: 0 | G3: 0 | H3: 0 | I3: 0 | J3: 24 | K3: 0 | L3: 0 | M3: 0 | N3: 0 | O3: 0 | P3: 24 | Q3: 0 | R3: 0 | S3: 0
B4: 10-11 m ON (używane) | C4: 10-11 m | D4: 0 | E4: 0 | F4: 0 | G4: 0 | H4: 0 | I4: 0 | J4: 19 | K4: 0 | L4: 0 | M4: 0 | N4: 0 | O4: 0 | P4: 19 | Q4: 0 | R4: 0 | S4: 0
B5: RAZEM | C5: - | D5: =SUBTOTAL(9,D3:D4) -> 0 | E5: =SUBTOTAL(9,E3:E4) -> 0 | F5: =SUBTOTAL(9,F3:F4) -> 0 | G5: =SUBTOTAL(9,G3:G4) -> 0 | H5: =SUBTOTAL(9,H3:H4) -> 0 | I5: =SUBTOTAL(9,I3:I4) -> 0 | J5: =SUBTOTAL(9,J3:J4) -> 43 | K5: =SUBTOTAL(9,K3:K4) -> 0 | ... S5: =SUBTOTAL(9,S3:S4) -> 0
A7: Scenariusz bazowy | B7: Scenariusz bazowy | C7: Typ | D7: cena jedn. netto | E7: =D1 -> 2021 | F7: =E1 -> 2022 | G7: =F1 -> 2023 | H7: =G1 -> 2024 | I7: =H1 -> 2025 | J7: =I1 -> 2026 | K7: =J1 -> 2027 | L7: =K1 -> 2028 | ... T7: =S1 -> 2036
B8: Koszt zakupu
B9: 8 m ON (używane) | C9: 8 m | D9: =Założenia!E199 -> 250000 | E9: =$D9*D3 -> 0 | F9: =$D9*E3 -> 0 | G9: =$D9*F3 -> 0 | H9: =$D9*G3 -> 0 | I9: =$D9*H3 -> 0 | J9: =$D9*I3 -> 0 | K9: =$D9*J3 -> 6000000 | L9: =$D9*K3 -> 0 | ... T9: =$D9*S3 -> 0
B10: 10-11 m ON (używane) | C10: 10-11 m | D10: =Założenia!E200 -> 300000 | E10: =$D10*D4 -> 0 | F10: =$D10*E4 -> 0 | G10: =$D10*F4 -> 0 | H10: =$D10*G4 -> 0 | I10: =$D10*H4 -> 0 | J10: =$D10*I4 -> 0 | K10: =$D10*J4 -> 5700000 | L10: =$D10*K4 -> 0 | ... T10: =$D10*S4 -> 0
B11: RAZEM | C11: - | E11: =SUM(E9:E10) -> 0 | F11: =SUM(F9:F10) -> 0 | G11: =SUM(G9:G10) -> 0 | H11: =SUM(H9:H10) -> 0 | I11: =SUM(I9:I10) -> 0 | J11: =SUM(J9:J10) -> 0 | K11: =SUM(K9:K10) -> 11700000 | L11: =SUM(L9:L10) -> 0 | ... T11: =SUM(T9:T10) -> 0
E12: 0
A13: Scenariusz bazowy | B13: Scenariusz bazowy | E13: =E7 -> 2021 | F13: =E13+1 -> 2022 | G13: =F13+1 -> 2023 | H13: =G13+1 -> 2024 | I13: =H13+1 -> 2025 | J13: =I13+1 -> 2026 | K13: =J13+1 -> 2027 | L13: =K13+1 -> 2028 | M13: =L13+1 -> 2029 | ... T13: =S13+1 -> 2036
B15: Inwestycje
B16: Koszt zakupu autobusów | C16: zł | E16: =E11 -> 0 | F16: =F11 -> 0 | G16: =G11 -> 0 | H16: =H11 -> 0 | I16: =I11 -> 0 | J16: =J11 -> 0 | K16: =K11 -> 11700000 | L16: =L11 -> 0 | ... T16: =T11 -> 0
B17: Infrastruktura | C17: zł
B18: Wymiana baterii | C18: zł
B19: Serwis butli gazowej | C19: zł
B20: Liczba stacji ładowania szybkiego | C20: szt
B21: Liczba stacji ładowania na zajezdni | C21: szt
B22: Maksymalny czas użytkowania autobusów | C22: 13 | D22: lat
B23: Maksymalny czas użytkowania infrastruktury | C23: 15 | D23: lat
A25: Wariant 1 | B25: Wariant konwencjonalny | C25: Typ | D25: 2021 | E25: =D25+1 -> 2022 | F25: =E25+1 -> 2023 | G25: =F25+1 -> 2024 | H25: =G25+1 -> 2025 | I25: =H25+1 -> 2026 | J25: =I25+1 -> 2027 | K25: =J25+1 -> 2028 | L25: =K25+1 -> 2029 | ... S25: =R25+1 -> 2036
B26: Plan zakupów
B27: 8 m ON (nowe) | C27: 8 m | D27: 0 | E27: 0 | F27: 0 | G27: 0 | H27: 0 | I27: 0 | J27: 23 | K27: 0 | L27: 0 | M27: 0 | N27: 0 | O27: 0 | P27: 0 | Q27: 0 | R27: 23 | S27: 0
B28: 10-11 m ON (nowe) | C28: 10-11 m | D28: 0 | E28: 0 | F28: 0 | G28: 0 | H28: 0 | I28: 0 | J28: 18 | K28: 0 | L28: 0 | M28: 0 | N28: 0 | O28: 0 | P28: 0 | Q28: 0 | R28: 18 | S28: 0
B29: RAZEM | C29: - | D29: =SUBTOTAL(9,D27:D28) -> 0 | E29: =SUBTOTAL(9,E27:E28) -> 0 | F29: =SUBTOTAL(9,F27:F28) -> 0 | G29: =SUBTOTAL(9,G27:G28) -> 0 | H29: =SUBTOTAL(9,H27:H28) -> 0 | I29: =SUBTOTAL(9,I27:I28) -> 0 | J29: =SUBTOTAL(9,J27:J28) -> 41 | K29: =SUBTOTAL(9,K27:K28) -> 0 | ... S29: =SUBTOTAL(9,S27:S28) -> 0
A31: Wariant 1 | B31: Wariant konwencjonalny | C31: Typ | D31: cena jedn. netto | E31: =D25 -> 2021 | F31: =E25 -> 2022 | G31: =F25 -> 2023 | H31: =G25 -> 2024 | I31: =H25 -> 2025 | J31: =I25 -> 2026 | K31: =J25 -> 2027 | L31: =K25 -> 2028 | ... T31: =S25 -> 2036
B32: Koszt zakupu
B33: 8 m ON (nowe) | C33: 8 m | D33: =Założenia!E201 -> 590000 | E33: =$D33*D27 -> 0 | F33: =$D33*E27 -> 0 | G33: =$D33*F27 -> 0 | H33: =$D33*G27 -> 0 | I33: =$D33*H27 -> 0 | J33: =$D33*I27 -> 0 | K33: =$D33*J27 -> 13570000 | L33: =$D33*K27 -> 0 | ... T33: =$D33*S27 -> 0
B34: 10-11 m ON (nowe) | C34: 10-11 m | D34: =Założenia!E202 -> 900000 | E34: =$D34*D28 -> 0 | F34: =$D34*E28 -> 0 | G34: =$D34*F28 -> 0 | H34: =$D34*G28 -> 0 | I34: =$D34*H28 -> 0 | J34: =$D34*I28 -> 0 | K34: =$D34*J28 -> 16200000 | L34: =$D34*K28 -> 0 | ... T34: =$D34*S28 -> 0
B35: RAZEM | C35: - | E35: =SUM(E33:E34) -> 0 | F35: =SUM(F33:F34) -> 0 | G35: =SUM(G33:G34) -> 0 | H35: =SUM(H33:H34) -> 0 | I35: =SUM(I33:I34) -> 0 | J35: =SUM(J33:J34) -> 0 | K35: =SUM(K33:K34) -> 29770000 | L35: =SUM(L33:L34) -> 0 | ... T35: =SUM(T33:T34) -> 0
E36: 0
A37: Wariant 1 | B37: Wariant konwencjonalny | E37: =E31 -> 2021 | F37: =E37+1 -> 2022 | G37: =F37+1 -> 2023 | H37: =G37+1 -> 2024 | I37: =H37+1 -> 2025 | J37: =I37+1 -> 2026 | K37: =J37+1 -> 2027 | L37: =K37+1 -> 2028 | M37: =L37+1 -> 2029 | ... T37: =S37+1 -> 2036
B39: Inwestycje
B40: Koszt zakupu autobusów | C40: zł | E40: =E35 -> 0 | F40: =F35 -> 0 | G40: =G35 -> 0 | H40: =H35 -> 0 | I40: =I35 -> 0 | J40: =J35 -> 0 | K40: =K35 -> 29770000 | L40: =L35 -> 0 | ... T40: =T35 -> 0
B41: Infrastruktura | C41: zł
B42: Wymiana baterii | C42: zł
B43: Serwis butli gazowej | C43: zł
B44: Liczba stacji ładowania szybkiego | C44: szt
B45: Liczba stacji ładowania na zajezdni | C45: szt
...

Sheet przychody
A1: TABELA 1. | B1: POPYT NA USŁUGI TRANSPORTOWE
B2: Kategoria | C2: Jednostka | D2: =Założenia!E14 -> 2021 | E2: =D2+1 -> 2022 | F2: =E2+1 -> 2023 | G2: =F2+1 -> 2024 | H2: =G2+1 -> 2025 | I2: =H2+1 -> 2026 | J2: =I2+1 -> 2027 | K2: =J2+1 -> 2028 | L2: =K2+1 -> 2029 | ... S2: =R2+1 -> 2036
A4: 1 | B4: Praca eksploatacyjna - Plan | C4: [mln wzkm] | D4: =Założenia!D233/1000000 -> 2.198 | E4: =Założenia!E233/1000000 -> 2.2002384 | F4: =Założenia!F233/1000000 -> 2.2002384 | G4: =Założenia!G233/1000000 -> 2.2002384 | H4: =Założenia!H233/1000000 -> 2.2002384 | I4: =Założenia!I233/1000000 -> 2.2002384 | J4: =Założenia!J233/1000000 -> 2.2002384 | K4: =Założenia!K233/1000000 -> 2.20031 | ... S4: =Założenia!S233/1000000 -> 2.20031
A5: Liczba przewiezionych pasażerów i przychody z biletów
A6: 2 | B6: Liczba pasażerów | C6: [tys. osób] | D6: 9687.0968 | E6: 9438.7097 | F6: 5634.8387 | G6: 6390.861 | H6: 6877.1877 | I6: 7243.6146 | J6: 7540.7185 | K6: 7792.1656 | L6: 8011.0627 | M6: 8205.4759 | N6: 8380.7437 | O6: 8540.5936 | P6: 8687.7372 | Q6: 8824.2127 | R6: =Q6 -> 8824.2127 | S6: =R6 -> 8824.2127
A7: 3 | B7: Przychody z biletów | C7: [mln zł] | D7: 9.0370748 | E7: 8.5131129 | F7: 5.6134845 | G7: 6.3666418 | H7: 6.7422731 | I7: 6.9868592 | J7: 7.1540773 | K7: 7.269297 | L7: 7.4238979 | M7: 7.55325 | N7: 7.6626893 | O7: 7.7559565 | P7: 7.8357838 | Q7: 7.9588759 | R7: =Q7 -> 7.9588759 | S7: =R7 -> 7.9588759

Sheet Scenariusz bazowy
E2: 0 | F2: =E2+1 -> 1 | G2: =F2+1 -> 2 | H2: =G2+1 -> 3 | I2: =H2+1 -> 4 | J2: =I2+1 -> 5 | K2: =J2+1 -> 6 | L2: =K2+1 -> 7 | M2: =L2+1 -> 8 | ... T2: =S2+1 -> 15
B3: Kalkulacja dla scenariusza bazowego
B5: Kategoria | C5: Jednostka | D5: Suma | E5: =Założenia!E6 -> 2021 | F5: =E5+1 -> 2022 | G5: =F5+1 -> 2023 | H5: =G5+1 -> 2024 | I5: =H5+1 -> 2025 | J5: =I5+1 -> 2026 | K5: =J5+1 -> 2027 | L5: =K5+1 -> 2028 | M5: =L5+1 -> 2029 | ... T5: =S5+1 -> 2036
A8: TABELA 1. | B8: KOSZTY BEZPOŚREDNIE EKSPLOATACJI AUTOBUSÓW
A9: 1. | B9: Przychody | C9: PLN | E9: =przychody!D7*1000000 -> 9037074.8 | F9: =przychody!E7*1000000 -> 8513112.9 | G9: =przychody!F7*1000000 -> 5613484.5 | H9: =przychody!G7*1000000 -> 6366641.8 | I9: =przychody!H7*1000000 -> 6742273.1 | J9: =przychody!I7*1000000 -> 6986859.2 | K9: =przychody!J7*1000000 -> 7154077.3 | L9: =przychody!K7*1000000 -> 7269297 | ... T9: =przychody!S7*1000000 -> 7958875.9
A10: 2. | B10: Koszty operacyjne, w tym: | C10: PLN | E10: =E11+E40 -> 12298793 | F10: =F11+F40 -> 12356901 | G10: =G11+G40 -> 12412205 | H10: =H11+H40 -> 12467509 | I10: =I11+I40 -> 12522813 | J10: =J11+J40 -> 12578118 | K10: =K11+K40 -> 12849108 | L10: =L11+L40 -> 12979931 | ... T10: =T11+T40 -> 13107135
A11: A. | B11: Koszty bezpośrednie | E11: =E12+E33+E35+E36+E37+E34 -> 10950076 | F11: =F12+F33+F35+F36+F37+F34 -> 11008185 | G11: =G12+G33+G35+G36+G37+G34 -> 11063489 | H11: =H12+H33+H35+H36+H37+H34 -> 11118793 | I11: =I12+I33+I35+I36+I37+I34 -> 11174097 | J11: =J12+J33+J35+J36+J37+J34 -> 11229401 | K11: =K12+K33+K35+K36+K37+K34 -> 11500391 | L11: =L12+L33+L35+L36+L37+L34 -> 11631215 | ... T11: =T12+T33+T35+T36+T37+T34 -> 11758418
A12: 2.1. | B12: zużycie materiałów i energii: | C12: PLN | E12: =E13+E15+E24 -> 2210847.3 | F12: =F13+F15+F24 -> 2234160.5 | G12: =G13+G15+G24 -> 2255363.1 | H12: =H13+H15+H24 -> 2276565.7 | I12: =I13+I15+I24 -> 2297768.4 | J12: =J13+J15+J24 -> 2318971 | K12: =K13+K15+K24 -> 2422863.9 | L12: =L13+L15+L24 -> 2464589.9 | ... T12: =T13+T15+T24 -> 2513357.5
A13: 2.1.1. | B13: energia | C13: PLN | E13: =Założenia!$E$213+E14 -> 138358 | F13: =Założenia!$E$213+F14 -> 138358 | G13: =Założenia!$E$213+G14 -> 138358 | H13: =Założenia!$E$213+H14 -> 138358 | I13: =Założenia!$E$213+I14 -> 138358 | J13: =Założenia!$E$213+J14 -> 138358 | K13: =Założenia!$E$213+K14 -> 138358 | L13: =Założenia!$E$213+L14 -> 138358 | ... T13: =Założenia!$E$213+T14 -> 138358
B14: autobusy elektryczne | C14: PLN | E14: 0 | F14: 0 | G14: 0 | H14: 0 | I14: 0 | J14: 0 | K14: 0 | L14: 0 | M14: 0 | N14: 0 | O14: 0 | P14: 0 | Q14: 0 | R14: 0 | S14: 0 | T14: 0
A15: 2.1.2. | B15: paliwo | C15: PLN | E15: =E16 -> 1648868 | F15: =F16 -> 1650547.1 | G15: =G16 -> 1650547.1 | H15: =H16 -> 1650547.1 | I15: =I16 -> 1650547.1 | J15: =J16 -> 1650547.1 | K15: =K16 -> 1650547.1 | L15: =L16 -> 1645269 | ... T15: =T16 -> 1645269
A16: 2.1.2.1. | B16: ON: | C16: PLN | E16: =SUM(E17:E23) -> 1648868 | F16: =SUM(F17:F23) -> 1650547.1 | G16: =SUM(G17:G23) -> 1650547.1 | H16: =SUM(H17:H23) -> 1650547.1 | I16: =SUM(I17:I23) -> 1650547.1 | J16: =SUM(J17:J23) -> 1650547.1 | K16: =SUM(K17:K23) -> 1650547.1 | L16: =SUM(L17:L23) -> 1645269 | ... T16: =SUM(T17:T23) -> 1645269
B17: EURO I | C17: PLN | E17: =(Założenia!D247*Założenia!D258*Założenia!$G53/100)*Założenia!$E$175 -> 0 | F17: =(Założenia!E247*Założenia!E258*Założenia!$G53/100)*Założenia!$E$175 -> 0 | G17: =(Założenia!F247*Założenia!F258*Założenia!$G53/100)*Założenia!$E$175 -> 0 | H17: =(Założenia!G247*Założenia!G258*Założenia!$G53/100)*Założenia!$E$175 -> 0 | I17: =(Założenia!H247*Założenia!H258*Założenia!$G53/100)*Założenia!$E$175 -> 0 | J17: =(Założenia!I247*Założenia!I258*Założenia!$G53/100)*Założenia!$E$175 -> 0 | K17: =(Założenia!J247*Założenia!J258*Założenia!$G53/100)*Założenia!$E$175 -> 0 | L17: =(Założenia!K247*Założenia!K258*Założenia!$G53/100)*Założenia!$E$175 -> 0 | ... T17: =(Założenia!S247*Założenia!S258*Założenia!$G53/100)*Założenia!$E$175 -> 0
B18: EURO II | C18: PLN | E18: =(Założenia!D248*Założenia!D$263*Założenia!$G54/100)*Założenia!$E$175 -> 0 | F18: =(Założenia!E248*Założenia!E$263*Założenia!$G54/100)*Założenia!$E$175 -> 0 | G18: =(Założenia!F248*Założenia!F$263*Założenia!$G54/100)*Założenia!$E$175 -> 0 | H18: =(Założenia!G248*Założenia!G$263*Założenia!$G54/100)*Założenia!$E$175 -> 0 | I18: =(Założenia!H248*Założenia!H$263*Założenia!$G54/100)*Założenia!$E$175 -> 0 | J18: =(Założenia!I248*Założenia!I$263*Założenia!$G54/100)*Założenia!$E$175 -> 0 | K18: =(Założenia!J248*Założenia!J$263*Założenia!$G54/100)*Założenia!$E$175 -> 0 | L18: =(Założenia!K248*Założenia!K$263*Założenia!$G54/100)*Założenia!$E$175 -> 0 | ... T18: =(Założenia!S248*Założenia!S$263*Założenia!$G54/100)*Założenia!$E$175 -> 0
B19: EURO III | C19: PLN | E19: =(Założenia!D249*Założenia!D$263*Założenia!$G55/100)*Założenia!$E$175 -> 0 | F19: =(Założenia!E249*Założenia!E$263*Założenia!$G55/100)*Założenia!$E$175 -> 0 | G19: =(Założenia!F249*Założenia!F$263*Założenia!$G55/100)*Założenia!$E$175 -> 0 | H19: =(Założenia!G249*Założenia!G$263*Założenia!$G55/100)*Założenia!$E$175 -> 0 | I19: =(Założenia!H249*Założenia!H$263*Założenia!$G55/100)*Założenia!$E$175 -> 0 | J19: =(Założenia!I249*Założenia!I$263*Założenia!$G55/100)*Założenia!$E$175 -> 0 | K19: =(Założenia!J249*Założenia!J$263*Założenia!$G55/100)*Założenia!$E$175 -> 0 | L19: =(Założenia!K249*Założenia!K$263*Założenia!$G55/100)*Założenia!$E$175 -> 0 | ... T19: =(Założenia!S249*Założenia!S$263*Założenia!$G55/100)*Założenia!$E$175 -> 0
B20: EURO IV | C20: PLN | E20: =(Założenia!D250*Założenia!D$263*Założenia!$G56/100)*Założenia!$E$175 -> 0 | F20: =(Założenia!E250*Założenia!E$263*Założenia!$G56/100)*Założenia!$E$175 -> 0 | G20: =(Założenia!F250*Założenia!F$263*Założenia!$G56/100)*Założenia!$E$175 -> 0 | H20: =(Założenia!G250*Założenia!G$263*Założenia!$G56/100)*Założenia!$E$175 -> 0 | I20: =(Założenia!H250*Założenia!H$263*Założenia!$G56/100)*Założenia!$E$175 -> 0 | J20: =(Założenia!I250*Założenia!I$263*Założenia!$G56/100)*Założenia!$E$175 -> 0 | K20: =(Założenia!J250*Założenia!J$263*Założenia!$G56/100)*Założenia!$E$175 -> 0 | L20: =(Założenia!K250*Założenia!K$263*Założenia!$G56/100)*Założenia!$E$175 -> 0 | ... T20: =(Założenia!S250*Założenia!S$263*Założenia!$G56/100)*Założenia!$E$175 -> 0
B21: EURO V | C21: PLN | E21: =(Założenia!D251*Założenia!D$263*Założenia!$G57/100)*Założenia!$E$175 -> 0 | F21: =(Założenia!E251*Założenia!E$263*Założenia!$G57/100)*Założenia!$E$175 -> 0 | G21: =(Założenia!F251*Założenia!F$263*Założenia!$G57/100)*Założenia!$E$175 -> 0 | H21: =(Założenia!G251*Założenia!G$263*Założenia!$G57/100)*Założenia!$E$175 -> 0 | I21: =(Założenia!H251*Założenia!H$263*Założenia!$G57/100)*Założenia!$E$175 -> 0 | J21: =(Założenia!I251*Założenia!I$263*Założenia!$G57/100)*Założenia!$E$175 -> 0 | K21: =(Założenia!J251*Założenia!J$263*Założenia!$G57/100)*Założenia!$E$175 -> 0 | L21: =(Założenia!K251*Założenia!K$263*Założenia!$G57/100)*Założenia!$E$175 -> 0 | ... T21: =(Założenia!S251*Założenia!S$263*Założenia!$G57/100)*Założenia!$E$175 -> 0
B22: EURO VI | C22: PLN | E22: =(Założenia!D252*Założenia!D$263*Założenia!$G58/100)*Założenia!$E$175+(Założenia!D244*Założenia!D262*Założenia!$E$58/100)*Założenia!$E$175 -> 1648868 | F22: =(Założenia!E252*Założenia!E$263*Założenia!$G58/100)*Założenia!$E$175+(Założenia!E244*Założenia!E262*Założenia!$E$58/100)*Założenia!$E$175 -> 1650547.1 | G22: =(Założenia!F252*Założenia!F$263*Założenia!$G58/100)*Założenia!$E$175+(Założenia!F244*Założenia!F262*Założenia!$E$58/100)*Założenia!$E$175 -> 1650547.1 | H22: =(Założenia!G252*Założenia!G$263*Założenia!$G58/100)*Założenia!$E$175+(Założenia!G244*Założenia!G262*Założenia!$E$58/100)*Założenia!$E$175 -> 1650547.1 | I22: =(Założenia!H252*Założenia!H$263*Założenia!$G58/100)*Założenia!$E$175+(Założenia!H244*Założenia!H262*Założenia!$E$58/100)*Założenia!$E$175 -> 1650547.1 | J22: =(Założenia!I252*Założenia!I$263*Założenia!$G58/100)*Założenia!$E$175+(Założenia!I244*Założenia!I262*Założenia!$E$58/100)*Założenia!$E$175 -> 1650547.1 | K22: =(Założenia!J252*Założenia!J$263*Założenia!$G58/100)*Założenia!$E$175+(Założenia!J244*Założenia!J262*Założenia!$E$58/100)*Założenia!$E$175 -> 1650547.1 | L22: =(Założenia!K252*Założenia!K$263*Założenia!$G58/100)*Założenia!$E$175+(Założenia!K244*Założenia!K262*Założenia!$E$58/100)*Założenia!$E$175 -> 1645269 | ... T22: =(Założenia!S252*Założenia!S$263*Założenia!$G58/100)*Założenia!$E$175+(Założenia!S244*Założenia!S262*Założenia!$E$58/100)*Założenia!$E$175 -> 1645269
B23: EURO VI HYBRYDA | C23: PLN | E23: =(Założenia!D253*Założenia!D$264*Założenia!$G59/100)*Założenia!$E$175 -> 0 | F23: =(Założenia!E253*Założenia!E$264*Założenia!$G59/100)*Założenia!$E$175 -> 0 | G23: =(Założenia!F253*Założenia!F$264*Założenia!$G59/100)*Założenia!$E$175 -> 0 | H23: =(Założenia!G253*Założenia!G$264*Założenia!$G59/100)*Założenia!$E$175 -> 0 | I23: =(Założenia!H253*Założenia!H$264*Założenia!$G59/100)*Założenia!$E$175 -> 0 | J23: =(Założenia!I253*Założenia!I$264*Założenia!$G59/100)*Założenia!$E$175 -> 0 | K23: =(Założenia!J253*Założenia!J$264*Założenia!$G59/100)*Założenia!$E$175 -> 0 | L23: =(Założenia!K253*Założenia!K$264*Założenia!$G59/100)*Założenia!$E$175 -> 0 | ... T23: =(Założenia!S253*Założenia!S$264*Założenia!$G59/100)*Założenia!$E$175 -> 0
A24: 2.1.3. | B24: części, materiały eksploatacyjne i inne | C24: PLN | E24: =(E25++E32)*(1+(Założenia!D266-Założenia!$D$266)*Założenia!$E$182) -> 423621.27 | F24: =(F25++F32)*(1+(Założenia!E266-Założenia!$D$266)*Założenia!$E$182) -> 445255.3 | G24: =(G25++G32)*(1+(Założenia!F266-Założenia!$D$266)*Założenia!$E$182) -> 466457.94 | H24: =(H25++H32)*(1+(Założenia!G266-Założenia!$D$266)*Założenia!$E$182) -> 487660.57 | I24: =(I25++I32)*(1+(Założenia!H266-Założenia!$D$266)*Założenia!$E$182) -> 508863.2 | J24: =(J25++J32)*(1+(Założenia!I266-Założenia!$D$266)*Założenia!$E$182) -> 530065.84 | K24: =(K25++K32)*(1+(Założenia!J266-Założenia!$D$266)*Założenia!$E$182) -> 633958.74 | L24: =(L25++L32)*(1+(Założenia!K266-Założenia!$D$266)*Założenia!$E$182) -> 680962.84 | ... T24: =(T25++T32)*(1+(Założenia!S266-Założenia!$D$266)*Założenia!$E$182) -> 729730.49
B25: ON: | C25: PLN | E25: =SUM(E26:E31) -> 423621.27 | F25: =SUM(F26:F31) -> 424052.67 | G25: =SUM(G26:G31) -> 424052.67 | H25: =SUM(H26:H31) -> 424052.67 | I25: =SUM(I26:I31) -> 424052.67 | J25: =SUM(J26:J31) -> 424052.67 | K25: =SUM(K26:K31) -> 487660.57 | L25: =SUM(L26:L31) -> 487676.45 | ... T25: =SUM(T26:T31) -> 487676.45
B26: EURO I | C26: PLN | E26: =(Założenia!D247*Założenia!D$263)*Założenia!$E$177 -> 0 | F26: =(Założenia!E247*Założenia!E$263)*Założenia!$E$177 -> 0 | G26: =(Założenia!F247*Założenia!F$263)*Założenia!$E$177 -> 0 | H26: =(Założenia!G247*Założenia!G$263)*Założenia!$E$177 -> 0 | I26: =(Założenia!H247*Założenia!H$263)*Założenia!$E$177 -> 0 | J26: =(Założenia!I247*Założenia!I$263)*Założenia!$E$177 -> 0 | K26: =(Założenia!J247*Założenia!J$263)*Założenia!$E$177 -> 0 | L26: =(Założenia!K247*Założenia!K$263)*Założenia!$E$177 -> 0 | ... T26: =(Założenia!S247*Założenia!S$263)*Założenia!$E$177 -> 0
B27: EURO II | C27: PLN | E27: =(Założenia!D248*Założenia!D$263)*Założenia!$E$177 -> 0 | F27: =(Założenia!E248*Założenia!E$263)*Założenia!$E$177 -> 0 | G27: =(Założenia!F248*Założenia!F$263)*Założenia!$E$177 -> 0 | H27: =(Założenia!G248*Założenia!G$263)*Założenia!$E$177 -> 0 | I27: =(Założenia!H248*Założenia!H$263)*Założenia!$E$177 -> 0 | J27: =(Założenia!I248*Założenia!I$263)*Założenia!$E$177 -> 0 | K27: =(Założenia!J248*Założenia!J$263)*Założenia!$E$177 -> 0 | L27: =(Założenia!K248*Założenia!K$263)*Założenia!$E$177 -> 0 | ... T27: =(Założenia!S248*Założenia!S$263)*Założenia!$E$177 -> 0
B28: EURO III | C28: PLN | E28: =(Założenia!D249*Założenia!D$263)*Założenia!$E$177 -> 0 | F28: =(Założenia!E249*Założenia!E$263)*Założenia!$E$177 -> 0 | G28: =(Założenia!F249*Założenia!F$263)*Założenia!$E$177 -> 0 | H28: =(Założenia!G249*Założenia!G$263)*Założenia!$E$177 -> 0 | I28: =(Założenia!H249*Założenia!H$263)*Założenia!$E$177 -> 0 | J28: =(Założenia!I249*Założenia!I$263)*Założenia!$E$177 -> 0 | K28: =(Założenia!J249*Założenia!J$263)*Założenia!$E$177 -> 0 | L28: =(Założenia!K249*Założenia!K$263)*Założenia!$E$177 -> 0 | ... T28: =(Założenia!S249*Założenia!S$263)*Założenia!$E$177 -> 0
B29: EURO IV | C29: PLN | E29: =(Założenia!D250*Założenia!D$263)*Założenia!$E$177 -> 0 | F29: =(Założenia!E250*Założenia!E$263)*Założenia!$E$177 -> 0 | G29: =(Założenia!F250*Założenia!F$263)*Założenia!$E$177 -> 0 | H29: =(Założenia!G250*Założenia!G$263)*Założenia!$E$177 -> 0 | I29: =(Założenia!H250*Założenia!H$263)*Założenia!$E$177 -> 0 | J29: =(Założenia!I250*Założenia!I$263)*Założenia!$E$177 -> 0 | K29: =(Założenia!J250*Założenia!J$263)*Założenia!$E$177 -> 0 | L29: =(Założenia!K250*Założenia!K$263)*Założenia!$E$177 -> 0 | ... T29: =(Założenia!S250*Założenia!S$263)*Założenia!$E$177 -> 0
B30: EURO V | C30: PLN | E30: =(Założenia!D251*Założenia!D$263)*Założenia!$E$177 -> 0 | F30: =(Założenia!E251*Założenia!E$263)*Założenia!$E$177 -> 0 | G30: =(Założenia!F251*Założenia!F$263)*Założenia!$E$177 -> 0 | H30: =(Założenia!G251*Założenia!G$263)*Założenia!$E$177 -> 0 | I30: =(Założenia!H251*Założenia!H$263)*Założenia!$E$177 -> 0 | J30: =(Założenia!I251*Założenia!I$263)*Założenia!$E$177 -> 0 | K30: =(Założenia!J251*Założenia!J$263)*Założenia!$E$177 -> 0 | L30: =(Założenia!K251*Założenia!K$263)*Założenia!$E$177 -> 0 | ... T30: =(Założenia!S251*Założenia!S$263)*Założenia!$E$177 -> 0
B31: EURO VI i EURO VI Hybryda | C31: PLN | E31: =(Założenia!D252*Założenia!D263+Założenia!D253*Założenia!D264+Założenia!D244*Założenia!D262)*Założenia!$E$177 -> 423621.27 | F31: =(Założenia!E252*Założenia!E263+Założenia!E253*Założenia!E264+Założenia!E244*Założenia!E262)*Założenia!$E$177 -> 424052.67 | G31: =(Założenia!F252*Założenia!F263+Założenia!F253*Założenia!F264+Założenia!F244*Założenia!F262)*Założenia!$E$177 -> 424052.67 | H31: =(Założenia!G252*Założenia!G263+Założenia!G253*Założenia!G264+Założenia!G244*Założenia!G262)*Założenia!$E$177 -> 424052.67 | I31: =(Założenia!H252*Założenia!H263+Założenia!H253*Założenia!H264+Założenia!H244*Założenia!H262)*Założenia!$E$177 -> 424052.67 | J31: =(Założenia!I252*Założenia!I263+Założenia!I253*Założenia!I264+Założenia!I244*Założenia!I262)*Założenia!$E$177 -> 424052.67 | K31: =(Założenia!J252*Założenia!J263+Założenia!J253*Założenia!J264+Założenia!J244*Założenia!J262)*Założenia!$E$177*Założenia!$E$181 -> 487660.57 | L31: =(Założenia!K252*Założenia!K263+Założenia!K253*Założenia!K264+Założenia!K244*Założenia!K262)*Założenia!$E$177*Założenia!$E$181 -> 487676.45 | M31: =(Założenia!L252*Założenia!L263+Założenia!L253*Założenia!L264+Założenia!L244*Założenia!L262)*Założenia!$E$177*Założenia!$E$181 -> 487676.45 | N31: =(Założenia!M252*Założenia!M263+Założenia!M253*Założenia!M264+Założenia!M244*Założenia!M262)*Założenia!$E$177*Założenia!$E$181 -> 487676.45 | O31: =(Założenia!N252*Założenia!N263+Założenia!N253*Założenia!N264+Założenia!N244*Założenia!N262)*Założenia!$E$177*Założenia!$E$181 -> 487676.45 | P31: =(Założenia!O252*Założenia!O263+Założenia!O253*Założenia!O264+Założenia!O244*Założenia!O262)*Założenia!$E$177*Założenia!$E$181 -> 487676.45 | Q31: =(Założenia!P252*Założenia!P263+Założenia!P253*Założenia!P264+Założenia!P244*Założenia!P262)*Założenia!$E$177*Założenia!$E$181 -> 487676.45 | R31: =(Założenia!Q252*Założenia!Q263+Założenia!Q253*Założenia!Q264+Założenia!Q244*Założenia!Q262)*Założenia!$E$177*Założenia!$E$181 -> 487676.45 | ... T31: =(Założenia!S252*Założenia!S263+Założenia!S253*Założenia!S264+Założenia!S244*Założenia!S262)*Założenia!$E$177*Założenia!$E$181 -> 487676.45
B32: ELEKTRYCZNE | C32: PLN | E32: 0 | F32: 0 | G32: 0 | H32: 0 | I32: 0 | J32: 0 | K32: 0 | L32: 0 | M32: 0 | N32: 0 | O32: 0 | P32: 0 | Q32: 0 | R32: 0 | S32: 0 | T32: 0
A33: 2.2. | B33: usługi obce | C33: PLN | E33: =((SUM(Założenia!D247:D251)*Założenia!D263)*Założenia!$E$178+(Założenia!D252*Założenia!D263+Założenia!D253*Założenia!D264+Założenia!D244*Założenia!D262)*Założenia!$E$178+(Założenia!D254*Założenia!D265)*Założenia!$E$178*Założenia!$E$180)*(1+(Założenia!D266-Założenia!$D$266)*Założenia!$E$182)+Opcje!E20*Założenia!$E$197+Opcje!E21*Założenia!$E$196 -> 681335.38 | F33: =((SUM(Założenia!E247:E251)*Założenia!E263)*Założenia!$E$178+(Założenia!E252*Założenia!E263+Założenia!E253*Założenia!E264+Założenia!E244*Założenia!E262)*Założenia!$E$178+(Założenia!E254*Założenia!E265)*Założenia!$E$178*Założenia!$E$180)*(1+(Założenia!E266-Założenia!$D$266)*Założenia!$E$182)+Opcje!F20*Założenia!$E$197+Opcje!F21*Założenia!$E$196 -> 716130.68 | G33: =((SUM(Założenia!F247:F251)*Założenia!F263)*Założenia!$E$178+(Założenia!F252*Założenia!F263+Założenia!F253*Założenia!F264+Założenia!F244*Założenia!F262)*Założenia!$E$178+(Założenia!F254*Założenia!F265)*Założenia!$E$178*Założenia!$E$180)*(1+(Założenia!F266-Założenia!$D$266)*Założenia!$E$182)+Opcje!G20*Założenia!$E$197+Opcje!G21*Założenia!$E$196 -> 750232.15 | H33: =((SUM(Założenia!G247:G251)*Założenia!G263)*Założenia!$E$178+(Założenia!G252*Założenia!G263+Założenia!G253*Założenia!G264+Założenia!G244*Założenia!G262)*Założenia!$E$178+(Założenia!G254*Założenia!G265)*Założenia!$E$178*Założenia!$E$180)*(1+(Założenia!G266-Założenia!$D$266)*Założenia!$E$182)+Opcje!H20*Założenia!$E$197+Opcje!H21*Założenia!$E$196 -> 784333.61 | I33: =((SUM(Założenia!H247:H251)*Założenia!H263)*Założenia!$E$178+(Założenia!H252*Założenia!H263+Założenia!H253*Założenia!H264+Założenia!H244*Założenia!H262)*Założenia!$E$178+(Założenia!H254*Założenia!H265)*Założenia!$E$178*Założenia!$E$180)*(1+(Założenia!H266-Założenia!$D$266)*Założenia!$E$182)+Opcje!I20*Założenia!$E$197+Opcje!I21*Założenia!$E$196 -> 818435.07 | J33: =((SUM(Założenia!I247:I251)*Założenia!I263)*Założenia!$E$178+(Założenia!I252*Założenia!I263+Założenia!I253*Założenia!I264+Założenia!I244*Założenia!I262)*Założenia!$E$178+(Założenia!I254*Założenia!I265)*Założenia!$E$178*Założenia!$E$180)*(1+(Założenia!I266-Założenia!$D$266)*Założenia!$E$182)+Opcje!J20*Założenia!$E$197+Opcje!J21*Założenia!$E$196 -> 852536.53 | K33: =((SUM(Założenia!J247:J251)*Założenia!J263)*Założenia!$E$178+(Założenia!J252*Założenia!J263+Założenia!J253*Założenia!J264+Założenia!J244*Założenia!J262)*Założenia!$E$178*Założenia!$E$181+(Założenia!J254*Założenia!J265)*Założenia!$E$178*Założenia!$E$180)*(1+(Założenia!J266-Założenia!$D$266)*Założenia!$E$182)+Opcje!K20*Założenia!$E$197+Opcje!K21*Założenia!$E$196 -> 1019633.7 | L33: =((SUM(Założenia!K247:K251)*Założenia!K263)*Założenia!$E$178+(Założenia!K252*Założenia!K263+Założenia!K253*Założenia!K264+Założenia!K244*Założenia!K262)*Założenia!$E$178*Założenia!$E$181+(Założenia!K254*Założenia!K265)*Założenia!$E$178*Założenia!$E$180)*(1+(Założenia!K266-Założenia!$D$266)*Założenia!$E$182)+Opcje!L20*Założenia!$E$197+Opcje!L21*Założenia!$E$196 -> 1095233.2 | M33: =((SUM(Założenia!L247:L251)*Założenia!L263)*Założenia!$E$178+(Założenia!L252*Założenia!L263+Założenia!L253*Założenia!L264+Założenia!L244*Założenia!L262)*Założenia!$E$178*Założenia!$E$181+(Założenia!L254*Założenia!L265)*Założenia!$E$178*Założenia!$E$180)*(1+(Założenia!L266-Założenia!$D$266)*Założenia!$E$182)+Opcje!M20*Założenia!$E$197+Opcje!M21*Założenia!$E$196 -> 1134451.2 | N33: =((SUM(Założenia!M247:M251)*Założenia!M263)*Założenia!$E$178+(Założenia!M252*Założenia!M263+Założenia!M253*Założenia!M264+Założenia!M244*Założenia!M262)*Założenia!$E$178*Założenia!$E$181+(Założenia!M254*Założenia!M265)*Założenia!$E$178*Założenia!$E$180)*(1+(Założenia!M266-Założenia!$D$266)*Założenia!$E$182)+Opcje!N20*Założenia!$E$197+Opcje!N21*Założenia!$E$196 -> 1173669.1 | O33: =((SUM(Założenia!N247:N251)*Założenia!N263)*Założenia!$E$178+(Założenia!N252*Założenia!N263+Założenia!N253*Założenia!N264+Założenia!N244*Założenia!N262)*Założenia!$E$178*Założenia!$E$181+(Założenia!N254*Założenia!N265)*Założenia!$E$178*Założenia!$E$180)*(1+(Założenia!N266-Założenia!$D$266)*Założenia!$E$182)+Opcje!O20*Założenia!$E$197+Opcje!O21*Założenia!$E$196 -> 1212887.1 | P33: =((SUM(Założenia!O247:O251)*Założenia!O263)*Założenia!$E$178+(Założenia!O252*Założenia!O263+Założenia!O253*Założenia!O264+Założenia!O244*Założenia!O262)*Założenia!$E$178*Założenia!$E$181+(Założenia!O254*Założenia!O265)*Założenia!$E$178*Założenia!$E$180)*(1+(Założenia!O266-Założenia!$D$266)*Założenia!$E$182)+Opcje!P20*Założenia!$E$197+Opcje!P21*Założenia!$E$196 -> 1252105 | Q33: =((SUM(Założenia!P247:P251)*Założenia!P263)*Założenia!$E$178+(Założenia!P252*Założenia!P263+Założenia!P253*Założenia!P264+Założenia!P244*Założenia!P262)*Założenia!$E$178*Założenia!$E$181+(Założenia!P254*Założenia!P265)*Założenia!$E$178*Założenia!$E$180)*(1+(Założenia!P266-Założenia!$D$266)*Założenia!$E$182)+Opcje!Q20*Założenia!$E$197+Opcje!Q21*Założenia!$E$196 -> 1291323 | R33: =((SUM(Założenia!Q247:Q251)*Założenia!Q263)*Założenia!$E$178+(Założenia!Q252*Założenia!Q263+Założenia!Q253*Założenia!Q264+Założenia!Q244*Założenia!Q262)*Założenia!$E$178*Założenia!$E$181+(Założenia!Q254*Założenia!Q265)*Założenia!$E$178*Założenia!$E$180)*(1+(Założenia!Q266-Założenia!$D$266)*Założenia!$E$182)+Opcje!R20*Założenia!$E$197+Opcje!R21*Założenia!$E$196 -> 1095233.2 | ... T33: =((SUM(Założenia!S247:S251)*Założenia!S263)*Założenia!$E$178+(Założenia!S252*Założenia!S263+Założenia!S253*Założenia!S264+Założenia!S244*Założenia!S262)*Założenia!$E$178*Założenia!$E$181+(Założenia!S254*Założenia!S265)*Założenia!$E$178*Założenia!$E$180)*(1+(Założenia!S266-Założenia!$D$266)*Założenia!$E$182)+Opcje!T20*Założenia!$E$197+Opcje!T21*Założenia!$E$196 -> 1173669.1
A34: 2.3. | B34: podatki i opłaty | C34: PLN | E34: =Założenia!$E$218 -> 337789.35 | F34: =Założenia!$E$218 -> 337789.35 | G34: =Założenia!$E$218 -> 337789.35 | H34: =Założenia!$E$218 -> 337789.35 | I34: =Założenia!$E$218 -> 337789.35 | J34: =Założenia!$E$218 -> 337789.35 | K34: =Założenia!$E$218 -> 337789.35 | L34: =Założenia!$E$218 -> 337789.35 | ... T34: =Założenia!$E$218 -> 337789.35
A35: 2.4. | B35: wynagrodzenia | C35: PLN | E35: =Założenia!$E$209 -> 5097501.7 | F35: =Założenia!$E$209 -> 5097501.7 | G35: =Założenia!$E$209 -> 5097501.7 | H35: =Założenia!$E$209 -> 5097501.7 | I35: =Założenia!$E$209 -> 5097501.7 | J35: =Założenia!$E$209 -> 5097501.7 | K35: =Założenia!$E$209 -> 5097501.7 | L35: =Założenia!$E$209 -> 5097501.7 | ... T35: =Założenia!$E$209 -> 5097501.7
A36: 2.5. | B36: świadczenia na rzecz pracowników, w tym m.in. | C36: PLN | E36: =Założenia!$E$210 -> 1372905.9 | F36: =Założenia!$E$210 -> 1372905.9 | G36: =Założenia!$E$210 -> 1372905.9 | H36: =Założenia!$E$210 -> 1372905.9 | I36: =Założenia!$E$210 -> 1372905.9 | J36: =Założenia!$E$210 -> 1372905.9 | K36: =Założenia!$E$210 -> 1372905.9 | L36: =Założenia!$E$210 -> 1372905.9 | ... T36: =Założenia!$E$210 -> 1372905.9
A37: 2.7. | B37: pozostałe | C37: PLN | E37: =E38+E39 -> 1249696.5 | F37: =F38+F39 -> 1249696.5 | G37: =G38+G39 -> 1249696.5 | H37: =H38+H39 -> 1249696.5 | I37: =I38+I39 -> 1249696.5 | J37: =J38+J39 -> 1249696.5 | K37: =K38+K39 -> 1249696.5 | L37: =L38+L39 -> 1263194.8 | ... T37: =T38+T39 -> 1263194.8
A38: 2.7.1. | B38: ubezpieczenia autobusów | C38: PLN | E38: =Założenia!$F$229*Założenia!D243 -> 276716 | F38: =Założenia!$F$229*Założenia!E243 -> 276716 | G38: =Założenia!$F$229*Założenia!F243 -> 276716 | H38: =Założenia!$F$229*Założenia!G243 -> 276716 | I38: =Założenia!$F$229*Założenia!H243 -> 276716 | J38: =Założenia!$F$229*Założenia!I243 -> 276716 | K38: =Założenia!$F$229*Założenia!J243 -> 276716 | L38: =Założenia!$F$229*Założenia!K243 -> 290214.34 | ... T38: =Założenia!$F$229*Założenia!S243 -> 290214.34
A39: 2.7.2. | B39: inne | C39: PLN | E39: =Założenia!$E$220 -> 972980.47 | F39: =Założenia!$E$220 -> 972980.47 | G39: =Założenia!$E$220 -> 972980.47 | H39: =Założenia!$E$220 -> 972980.47 | I39: =Założenia!$E$220 -> 972980.47 | J39: =Założenia!$E$220 -> 972980.47 | K39: =Założenia!$E$220 -> 972980.47 | L39: =Założenia!$E$220 -> 972980.47 | ... T39: =Założenia!$E$220 -> 972980.47
A40: B. | B40: Koszty ogólne | C40: PLN | E40: =Założenia!$E222 -> 1348716.5 | F40: =Założenia!$E222 -> 1348716.5 | G40: =Założenia!$E222 -> 1348716.5 | H40: =Założenia!$E222 -> 1348716.5 | I40: =Założenia!$E222 -> 1348716.5 | J40: =Założenia!$E222 -> 1348716.5 | K40: =Założenia!$E222 -> 1348716.5 | L40: =Założenia!$E222 -> 1348716.5 | ... T40: =Założenia!$E222 -> 1348716.5
A42: TABELA 2. | B42: EFEKTY ZEWNĘTRZNE
A43: 1. | B43: Skutki zmian klimatycznych: | C43: PLN | E43: =E45*E50 -> 225256.51 | F43: =F45*F50 -> 231928.36 | G43: =G45*G50 -> 238370.81 | H43: =H45*H50 -> 244813.27 | I43: =I45*I50 -> 251255.72 | J43: =J45*J50 -> 257698.18 | K43: =K45*K50 -> 264140.63 | L43: =L45*L50 -> 269717.81 | ... T43: =T45*T50 -> 321092.63
B44: Wskaźnik emisji CO2 przez silnik ON | C44: kgCO2/l | E44: =Założenia!E114 -> 2.68 | F44: =Założenia!F114 -> 2.68 | G44: =Założenia!G114 -> 2.68 | H44: =Założenia!H114 -> 2.68 | I44: =Założenia!I114 -> 2.68 | J44: =Założenia!J114 -> 2.68 | K44: =Założenia!K114 -> 2.68 | L44: =Założenia!L114 -> 2.68 | ... T44: =Założenia!T114 -> 2.68
B45: Jednostkowy koszt CO2 | C45: PLN/tCO2 | E45: =Założenia!E115 -> 188.60725 | F45: =Założenia!F115 -> 193.99603 | G45: =Założenia!G115 -> 199.38481 | H45: =Założenia!H115 -> 204.77359 | I45: =Założenia!I115 -> 210.16237 | J45: =Założenia!J115 -> 215.55115 | K45: =Założenia!K115 -> 220.93993 | L45: =Założenia!L115 -> 226.3287 | ... T45: =Założenia!T115 -> 269.43893
...

Sheet Wariant konwencjonalny
E2: 0 | F2: =E2+1 -> 1 | G2: =F2+1 -> 2 | H2: =G2+1 -> 3 | I2: =H2+1 -> 4 | J2: =I2+1 -> 5 | K2: =J2+1 -> 6 | L2: =K2+1 -> 7 | M2: =L2+1 -> 8 | ... T2: =S2+1 -> 15
B3: Kalkulacja dla wariantu konwencjonalnego
B5: Kategoria | C5: Jednostka | D5: Suma | E5: =Założenia!E6 -> 2021 | F5: =E5+1 -> 2022 | G5: =F5+1 -> 2023 | H5: =G5+1 -> 2024 | I5: =H5+1 -> 2025 | J5: =I5+1 -> 2026 | K5: =J5+1 -> 2027 | L5: =K5+1 -> 2028 | M5: =L5+1 -> 2029 | ... T5: =S5+1 -> 2036
A8: TABELA 1. | B8: KOSZTY BEZPOŚREDNIE EKSPLOATACJI AUTOBUSÓW
A9: 1. | B9: Przychody | C9: PLN | E9: =przychody!D7*1000000 -> 9037074.8 | F9: =przychody!E7*1000000 -> 8513112.9 | G9: =przychody!F7*1000000 -> 5613484.5 | H9: =przychody!G7*1000000 -> 6366641.8 | I9: =przychody!H7*1000000 -> 6742273.1 | J9: =przychody!I7*1000000 -> 6986859.2 | K9: =przychody!J7*1000000 -> 7154077.3 | L9: =przychody!K7*1000000 -> 7269297 | ... T9: =przychody!S7*1000000 -> 7958875.9
A10: 2. | B10: Koszty operacyjne, w tym: | C10: PLN | E10: =E11+E40 -> 12298793 | F10: =F11+F40 -> 12356362 | G10: =G11+G40 -> 12411655 | H10: =H11+H40 -> 12466949 | I10: =I11+I40 -> 12522242 | J10: =J11+J40 -> 12577536 | K10: =K11+K40 -> 12632829 | L10: =L11+L40 -> 12352316 | ... T10: =T11+T40 -> 12352316
A11: A. | B11: Koszty bezpośrednie | E11: =E12+E33+E35+E36+E37+E34 -> 10950076 | F11: =F12+F33+F35+F36+F37+F34 -> 11007645 | G11: =G12+G33+G35+G36+G37+G34 -> 11062939 | H11: =H12+H33+H35+H36+H37+H34 -> 11118232 | I11: =I12+I33+I35+I36+I37+I34 -> 11173526 | J11: =J12+J33+J35+J36+J37+J34 -> 11228819 | K11: =K12+K33+K35+K36+K37+K34 -> 11284113 | L11: =L12+L33+L35+L36+L37+L34 -> 11003599 | ... T11: =T12+T33+T35+T36+T37+T34 -> 11003599
A12: 2.1. | B12: zużycie materiałów i energii: | C12: PLN | E12: =E13+E15+E24 -> 2210847.3 | F12: =F13+F15+F24 -> 2233758.5 | G12: =G13+G15+G24 -> 2254957.1 | H12: =H13+H15+H24 -> 2276155.6 | I12: =I13+I15+I24 -> 2297354.2 | J12: =J13+J15+J24 -> 2318552.8 | K12: =K13+K15+K24 -> 2339751.3 | L12: =L13+L15+L24 -> 2232207.4 | ... T12: =T13+T15+T24 -> 2232207.4
A13: 2.1.1. | B13: energia | C13: PLN | E13: =Założenia!$E$213+E14 -> 138358 | F13: =Założenia!$E$213+F14 -> 138358 | G13: =Założenia!$E$213+G14 -> 138358 | H13: =Założenia!$E$213+H14 -> 138358 | I13: =Założenia!$E$213+I14 -> 138358 | J13: =Założenia!$E$213+J14 -> 138358 | K13: =Założenia!$E$213+K14 -> 138358 | L13: =Założenia!$E$213+L14 -> 138358 | ... T13: =Założenia!$E$213+T14 -> 138358
B14: autobusy elektryczne | C14: PLN | E14: =Założenia!D283*Założenia!D294*Założenia!$E$184*Założenia!$E$176*Założenia!$E$123 -> 0 | F14: =Założenia!E283*Założenia!E294*Założenia!$E$184*Założenia!$E$176*Założenia!$E$123 -> 0 | G14: =Założenia!F283*Założenia!F294*Założenia!$E$184*Założenia!$E$176*Założenia!$E$123 -> 0 | H14: =Założenia!G283*Założenia!G294*Założenia!$E$184*Założenia!$E$176*Założenia!$E$123 -> 0 | I14: =Założenia!H283*Założenia!H294*Założenia!$E$184*Założenia!$E$176*Założenia!$E$123 -> 0 | J14: =Założenia!I283*Założenia!I294*Założenia!$E$184*Założenia!$E$176*Założenia!$E$123 -> 0 | K14: =Założenia!J283*Założenia!J294*Założenia!$E$184*Założenia!$E$176*Założenia!$E$123 -> 0 | L14: =Założenia!K283*Założenia!K294*Założenia!$E$184*Założenia!$E$176*Założenia!$E$123 -> 0 | ... T14: =Założenia!S283*Założenia!S294*Założenia!$E$184*Założenia!$E$176*Założenia!$E$123 -> 0
A15: 2.1.2. | B15: paliwo | C15: PLN | E15: =E16 -> 1648868 | F15: =F16 -> 1650230.6 | G15: =G16 -> 1650230.6 | H15: =H16 -> 1650230.6 | I15: =I16 -> 1650230.6 | J15: =J16 -> 1650230.6 | K15: =K16 -> 1650230.6 | L15: =L16 -> 1650230.6 | ... T15: =T16 -> 1650230.6
A16: 2.1.2.1. | B16: ON: | C16: PLN | E16: =SUM(E17:E23) -> 1648868 | F16: =SUM(F17:F23) -> 1650230.6 | G16: =SUM(G17:G23) -> 1650230.6 | H16: =SUM(H17:H23) -> 1650230.6 | I16: =SUM(I17:I23) -> 1650230.6 | J16: =SUM(J17:J23) -> 1650230.6 | K16: =SUM(K17:K23) -> 1650230.6 | L16: =SUM(L17:L23) -> 1650230.6 | ... T16: =SUM(T17:T23) -> 1650230.6
B17: EURO I | C17: PLN | E17: =(Założenia!D276*Założenia!D$292*Założenia!$G53/100)*Założenia!$E$175 -> 0 | F17: =(Założenia!E276*Założenia!E$292*Założenia!$G53/100)*Założenia!$E$175 -> 0 | G17: =(Założenia!F276*Założenia!F$292*Założenia!$G53/100)*Założenia!$E$175 -> 0 | H17: =(Założenia!G276*Założenia!G$292*Założenia!$G53/100)*Założenia!$E$175 -> 0 | I17: =(Założenia!H276*Założenia!H$292*Założenia!$G53/100)*Założenia!$E$175 -> 0 | J17: =(Założenia!I276*Założenia!I$292*Założenia!$G53/100)*Założenia!$E$175 -> 0 | K17: =(Założenia!J276*Założenia!J$292*Założenia!$G53/100)*Założenia!$E$175 -> 0 | L17: =(Założenia!K276*Założenia!K$292*Założenia!$G53/100)*Założenia!$E$175 -> 0 | ... T17: =(Założenia!S276*Założenia!S$292*Założenia!$G53/100)*Założenia!$E$175 -> 0
B18: EURO II | C18: PLN | E18: =(Założenia!D277*Założenia!D$292*Założenia!$G54/100)*Założenia!$E$175 -> 0 | F18: =(Założenia!E277*Założenia!E$292*Założenia!$G54/100)*Założenia!$E$175 -> 0 | G18: =(Założenia!F277*Założenia!F$292*Założenia!$G54/100)*Założenia!$E$175 -> 0 | H18: =(Założenia!G277*Założenia!G$292*Założenia!$G54/100)*Założenia!$E$175 -> 0 | I18: =(Założenia!H277*Założenia!H$292*Założenia!$G54/100)*Założenia!$E$175 -> 0 | J18: =(Założenia!I277*Założenia!I$292*Założenia!$G54/100)*Założenia!$E$175 -> 0 | K18: =(Założenia!J277*Założenia!J$292*Założenia!$G54/100)*Założenia!$E$175 -> 0 | L18: =(Założenia!K277*Założenia!K$292*Założenia!$G54/100)*Założenia!$E$175 -> 0 | ... T18: =(Założenia!S277*Założenia!S$292*Założenia!$G54/100)*Założenia!$E$175 -> 0
B19: EURO III | C19: PLN | E19: =(Założenia!D278*Założenia!D$292*Założenia!$G55/100)*Założenia!$E$175 -> 0 | F19: =(Założenia!E278*Założenia!E$292*Założenia!$G55/100)*Założenia!$E$175 -> 0 | G19: =(Założenia!F278*Założenia!F$292*Założenia!$G55/100)*Założenia!$E$175 -> 0 | H19: =(Założenia!G278*Założenia!G$292*Założenia!$G55/100)*Założenia!$E$175 -> 0 | I19: =(Założenia!H278*Założenia!H$292*Założenia!$G55/100)*Założenia!$E$175 -> 0 | J19: =(Założenia!I278*Założenia!I$292*Założenia!$G55/100)*Założenia!$E$175 -> 0 | K19: =(Założenia!J278*Założenia!J$292*Założenia!$G55/100)*Założenia!$E$175 -> 0 | L19: =(Założenia!K278*Założenia!K$292*Założenia!$G55/100)*Założenia!$E$175 -> 0 | ... T19: =(Założenia!S278*Założenia!S$292*Założenia!$G55/100)*Założenia!$E$175 -> 0
B20: EURO IV | C20: PLN | E20: =(Założenia!D279*Założenia!D$292*Założenia!$G56/100)*Założenia!$E$175 -> 0 | F20: =(Założenia!E279*Założenia!E$292*Założenia!$G56/100)*Założenia!$E$175 -> 0 | G20: =(Założenia!F279*Założenia!F$292*Założenia!$G56/100)*Założenia!$E$175 -> 0 | H20: =(Założenia!G279*Założenia!G$292*Założenia!$G56/100)*Założenia!$E$175 -> 0 | I20: =(Założenia!H279*Założenia!H$292*Założenia!$G56/100)*Założenia!$E$175 -> 0 | J20: =(Założenia!I279*Założenia!I$292*Założenia!$G56/100)*Założenia!$E$175 -> 0 | K20: =(Założenia!J279*Założenia!J$292*Założenia!$G56/100)*Założenia!$E$175 -> 0 | L20: =(Założenia!K279*Założenia!K$292*Założenia!$G56/100)*Założenia!$E$175 -> 0 | ... T20: =(Założenia!S279*Założenia!S$292*Założenia!$G56/100)*Założenia!$E$175 -> 0
B21: EURO V | C21: PLN | E21: =(Założenia!D280*Założenia!D$292*Założenia!$G57/100)*Założenia!$E$175 -> 0 | F21: =(Założenia!E280*Założenia!E$292*Założenia!$G57/100)*Założenia!$E$175 -> 0 | G21: =(Założenia!F280*Założenia!F$292*Założenia!$G57/100)*Założenia!$E$175 -> 0 | H21: =(Założenia!G280*Założenia!G$292*Założenia!$G57/100)*Założenia!$E$175 -> 0 | I21: =(Założenia!H280*Założenia!H$292*Założenia!$G57/100)*Założenia!$E$175 -> 0 | J21: =(Założenia!I280*Założenia!I$292*Założenia!$G57/100)*Założenia!$E$175 -> 0 | K21: =(Założenia!J280*Założenia!J$292*Założenia!$G57/100)*Założenia!$E$175 -> 0 | L21: =(Założenia!K280*Założenia!K$292*Założenia!$G57/100)*Założenia!$E$175 -> 0 | ... T21: =(Założenia!S280*Założenia!S$292*Założenia!$G57/100)*Założenia!$E$175 -> 0
B22: EURO VI | C22: PLN | E22: =(Założenia!D281*Założenia!D$292*Założenia!$G58/100)*Założenia!$E$175+(Założenia!D273*Założenia!D291*Założenia!$E$58/100)*Założenia!$E$175 -> 1648868 | F22: =(Założenia!E281*Założenia!E$292*Założenia!$G58/100)*Założenia!$E$175+(Założenia!E273*Założenia!E291*Założenia!$E$58/100)*Założenia!$E$175 -> 1650230.6 | G22: =(Założenia!F281*Założenia!F$292*Założenia!$G58/100)*Założenia!$E$175+(Założenia!F273*Założenia!F291*Założenia!$E$58/100)*Założenia!$E$175 -> 1650230.6 | H22: =(Założenia!G281*Założenia!G$292*Założenia!$G58/100)*Założenia!$E$175+(Założenia!G273*Założenia!G291*Założenia!$E$58/100)*Założenia!$E$175 -> 1650230.6 | I22: =(Założenia!H281*Założenia!H$292*Założenia!$G58/100)*Założenia!$E$175+(Założenia!H273*Założenia!H291*Założenia!$E$58/100)*Założenia!$E$175 -> 1650230.6 | J22: =(Założenia!I281*Założenia!I$292*Założenia!$G58/100)*Założenia!$E$175+(Założenia!I273*Założenia!I291*Założenia!$E$58/100)*Założenia!$E$175 -> 1650230.6 | K22: =(Założenia!J281*Założenia!J$292*Założenia!$G58/100)*Założenia!$E$175+(Założenia!J273*Założenia!J291*Założenia!$E$58/100)*Założenia!$E$175 -> 1650230.6 | L22: =(Założenia!K281*Założenia!K$292*Założenia!$G58/100)*Założenia!$E$175+(Założenia!K273*Założenia!K291*Założenia!$E$58/100)*Założenia!$E$175 -> 1650230.6 | ... T22: =(Założenia!S281*Założenia!S$292*Założenia!$G58/100)*Założenia!$E$175+(Założenia!S273*Założenia!S291*Założenia!$E$58/100)*Założenia!$E$175 -> 1650230.6
B23: EURO VI HYBRYDA | C23: PLN | E23: =(Założenia!D282*Założenia!D$293*Założenia!$G$59/100)*Założenia!$E$175 -> 0 | F23: =(Założenia!E282*Założenia!E$293*Założenia!$G$59/100)*Założenia!$E$175 -> 0 | G23: =(Założenia!F282*Założenia!F$293*Założenia!$G$59/100)*Założenia!$E$175 -> 0 | H23: =(Założenia!G282*Założenia!G$293*Założenia!$G$59/100)*Założenia!$E$175 -> 0 | I23: =(Założenia!H282*Założenia!H$293*Założenia!$G$59/100)*Założenia!$E$175 -> 0 | J23: =(Założenia!I282*Założenia!I$293*Założenia!$G$59/100)*Założenia!$E$175 -> 0 | K23: =(Założenia!J282*Założenia!J$293*Założenia!$G$59/100)*Założenia!$E$175 -> 0 | L23: =(Założenia!K282*Założenia!K$293*Założenia!$G$59/100)*Założenia!$E$175 -> 0 | ... T23: =(Założenia!S282*Założenia!S$293*Założenia!$G$59/100)*Założenia!$E$175 -> 0
A24: 2.1.3. | B24: części, materiały eksploatacyjne i inne | C24: PLN | E24: =(E25++E32)*(1+(Założenia!D295-Założenia!$D$295)*Założenia!$E$182) -> 423621.27 | F24: =(F25++F32)*(1+(Założenia!E295-Założenia!$D$295)*Założenia!$E$182) -> 445169.91 | G24: =(G25++G32)*(1+(Założenia!F295-Założenia!$D$295)*Założenia!$E$182) -> 466368.47 | H24: =(H25++H32)*(1+(Założenia!G295-Założenia!$D$295)*Założenia!$E$182) -> 487567.04 | I24: =(I25++I32)*(1+(Założenia!H295-Założenia!$D$295)*Założenia!$E$182) -> 508765.61 | J24: =(J25++J32)*(1+(Założenia!I295-Założenia!$D$295)*Założenia!$E$182) -> 529964.18 | K24: =(K25++K32)*(1+(Założenia!J295-Założenia!$D$295)*Założenia!$E$182) -> 551162.74 | L24: =(L25++L32)*(1+(Założenia!K295-Założenia!$D$295)*Założenia!$E$182) -> 443618.79 | ... T24: =(T25++T32)*(1+(Założenia!S295-Założenia!$D$295)*Założenia!$E$182) -> 443618.79
B25: ON: | C25: PLN | E25: =SUM(E26:E31) -> 423621.27 | F25: =SUM(F26:F31) -> 423971.34 | G25: =SUM(G26:G31) -> 423971.34 | H25: =SUM(H26:H31) -> 423971.34 | I25: =SUM(I26:I31) -> 423971.34 | J25: =SUM(J26:J31) -> 423971.34 | K25: =SUM(K26:K31) -> 423971.34 | L25: =SUM(L26:L31) -> 423971.34 | ... T25: =SUM(T26:T31) -> 423971.34
B26: EURO I | C26: PLN | E26: =(Założenia!D276*Założenia!D$292)*Założenia!$E$177 -> 0 | F26: =(Założenia!E276*Założenia!E$292)*Założenia!$E$177 -> 0 | G26: =(Założenia!F276*Założenia!F$292)*Założenia!$E$177 -> 0 | H26: =(Założenia!G276*Założenia!G$292)*Założenia!$E$177 -> 0 | I26: =(Założenia!H276*Założenia!H$292)*Założenia!$E$177 -> 0 | J26: =(Założenia!I276*Założenia!I$292)*Założenia!$E$177 -> 0 | K26: =(Założenia!J276*Założenia!J$292)*Założenia!$E$177 -> 0 | L26: =(Założenia!K276*Założenia!K$292)*Założenia!$E$177 -> 0 | ... T26: =(Założenia!S276*Założenia!S$292)*Założenia!$E$177 -> 0
B27: EURO II | C27: PLN | E27: =(Założenia!D277*Założenia!D$292)*Założenia!$E$177 -> 0 | F27: =(Założenia!E277*Założenia!E$292)*Założenia!$E$177 -> 0 | G27: =(Założenia!F277*Założenia!F$292)*Założenia!$E$177 -> 0 | H27: =(Założenia!G277*Założenia!G$292)*Założenia!$E$177 -> 0 | I27: =(Założenia!H277*Założenia!H$292)*Założenia!$E$177 -> 0 | J27: =(Założenia!I277*Założenia!I$292)*Założenia!$E$177 -> 0 | K27: =(Założenia!J277*Założenia!J$292)*Założenia!$E$177 -> 0 | L27: =(Założenia!K277*Założenia!K$292)*Założenia!$E$177 -> 0 | ... T27: =(Założenia!S277*Założenia!S$292)*Założenia!$E$177 -> 0
B28: EURO III | C28: PLN | E28: =(Założenia!D278*Założenia!D$292)*Założenia!$E$177 -> 0 | F28: =(Założenia!E278*Założenia!E$292)*Założenia!$E$177 -> 0 | G28: =(Założenia!F278*Założenia!F$292)*Założenia!$E$177 -> 0 | H28: =(Założenia!G278*Założenia!G$292)*Założenia!$E$177 -> 0 | I28: =(Założenia!H278*Założenia!H$292)*Założenia!$E$177 -> 0 | J28: =(Założenia!I278*Założenia!I$292)*Założenia!$E$177 -> 0 | K28: =(Założenia!J278*Założenia!J$292)*Założenia!$E$177 -> 0 | L28: =(Założenia!K278*Założenia!K$292)*Założenia!$E$177 -> 0 | ... T28: =(Założenia!S278*Założenia!S$292)*Założenia!$E$177 -> 0
B29: EURO IV | C29: PLN | E29: =(Założenia!D279*Założenia!D$292)*Założenia!$E$177 -> 0 | F29: =(Założenia!E279*Założenia!E$292)*Założenia!$E$177 -> 0 | G29: =(Założenia!F279*Założenia!F$292)*Założenia!$E$177 -> 0 | H29: =(Założenia!G279*Założenia!G$292)*Założenia!$E$177 -> 0 | I29: =(Założenia!H279*Założenia!H$292)*Założenia!$E$177 -> 0 | J29: =(Założenia!I279*Założenia!I$292)*Założenia!$E$177 -> 0 | K29: =(Założenia!J279*Założenia!J$292)*Założenia!$E$177 -> 0 | L29: =(Założenia!K279*Założenia!K$292)*Założenia!$E$177 -> 0 | ... T29: =(Założenia!S279*Założenia!S$292)*Założenia!$E$177 -> 0
B30: EURO V | C30: PLN | E30: =(Założenia!D280*Założenia!D$292)*Założenia!$E$177 -> 0 | F30: =(Założenia!E280*Założenia!E$292)*Założenia!$E$177 -> 0 | G30: =(Założenia!F280*Założenia!F$292)*Założenia!$E$177 -> 0 | H30: =(Założenia!G280*Założenia!G$292)*Założenia!$E$177 -> 0 | I30: =(Założenia!H280*Założenia!H$292)*Założenia!$E$177 -> 0 | J30: =(Założenia!I280*Założenia!I$292)*Założenia!$E$177 -> 0 | K30: =(Założenia!J280*Założenia!J$292)*Założenia!$E$177 -> 0 | L30: =(Założenia!K280*Założenia!K$292)*Założenia!$E$177 -> 0 | ... T30: =(Założenia!S280*Założenia!S$292)*Założenia!$E$177 -> 0
